BEGIN:VCALENDAR
VERSION:2.0
PRODID:-//Kassiopea Group - ECPv6.15.18//NONSGML v1.0//EN
CALSCALE:GREGORIAN
METHOD:PUBLISH
X-WR-CALNAME:Kassiopea Group
X-ORIGINAL-URL:https://www.kassiopeagroup.com
X-WR-CALDESC:Eventi per Kassiopea Group
REFRESH-INTERVAL;VALUE=DURATION:PT1H
X-Robots-Tag:noindex
X-PUBLISHED-TTL:PT1H
BEGIN:VTIMEZONE
TZID:Europe/Rome
BEGIN:DAYLIGHT
TZOFFSETFROM:+0100
TZOFFSETTO:+0200
TZNAME:CEST
DTSTART:20190331T010000
END:DAYLIGHT
BEGIN:STANDARD
TZOFFSETFROM:+0200
TZOFFSETTO:+0100
TZNAME:CET
DTSTART:20191027T010000
END:STANDARD
BEGIN:DAYLIGHT
TZOFFSETFROM:+0100
TZOFFSETTO:+0200
TZNAME:CEST
DTSTART:20200329T010000
END:DAYLIGHT
BEGIN:STANDARD
TZOFFSETFROM:+0200
TZOFFSETTO:+0100
TZNAME:CET
DTSTART:20201025T010000
END:STANDARD
BEGIN:DAYLIGHT
TZOFFSETFROM:+0100
TZOFFSETTO:+0200
TZNAME:CEST
DTSTART:20210328T010000
END:DAYLIGHT
BEGIN:STANDARD
TZOFFSETFROM:+0200
TZOFFSETTO:+0100
TZNAME:CET
DTSTART:20211031T010000
END:STANDARD
BEGIN:DAYLIGHT
TZOFFSETFROM:+0100
TZOFFSETTO:+0200
TZNAME:CEST
DTSTART:20220327T010000
END:DAYLIGHT
BEGIN:STANDARD
TZOFFSETFROM:+0200
TZOFFSETTO:+0100
TZNAME:CET
DTSTART:20221030T010000
END:STANDARD
END:VTIMEZONE
BEGIN:VEVENT
DTSTART;TZID=Europe/Rome:20210514T170000
DTEND;TZID=Europe/Rome:20210514T190000
DTSTAMP:20260423T001823
CREATED:20210506T064107Z
LAST-MODIFIED:20210506T064108Z
UID:1249-1621011600-1621018800@www.kassiopeagroup.com
SUMMARY:3° web Meeting - Face to face in tecnica chirurgica
DESCRIPTION:PER ISCRIZIONE CLICCA QUI’ \n\n\n\nSCARICA IL PROGRAMMA DETTAGLIATO
URL:https://www.kassiopeagroup.com/evento/3-web-meeting-face-to-face-in-tecnica-chirurgica/
END:VEVENT
BEGIN:VEVENT
DTSTART;TZID=Europe/Rome:20210501T120000
DTEND;TZID=Europe/Rome:20210501T120000
DTSTAMP:20260423T001823
CREATED:20210419T122817Z
LAST-MODIFIED:20210429T135823Z
UID:1172-1619870400-1619870400@www.kassiopeagroup.com
SUMMARY:GESTIONE DELLE USTIONI LIEVI IN FARMACIA SECONDO IL METODO Clinical Pharmacy
DESCRIPTION:Corso FAD ECM in modalità asincrona rivolto ai farmacisti territoriali DISPONIBILE DAL 1 MAGGIO 2021 AL 28 APRILE 2022 \n\n\n\nSCARICA PROGRAMMA SCIENTIFICO \n\n\n\nLINK DI ISCRIZIONE
URL:https://www.kassiopeagroup.com/evento/gestione-delle-ustioni-lievi-in-farmacia-secondo-il-metodo-clinical-pharmacy/
END:VEVENT
BEGIN:VEVENT
DTSTART;TZID=Europe/Rome:20210430T140000
DTEND;TZID=Europe/Rome:20210430T200000
DTSTAMP:20260423T001823
CREATED:20210305T112959Z
LAST-MODIFIED:20210305T112959Z
UID:1099-1619791200-1619812800@www.kassiopeagroup.com
SUMMARY:CONGRESSO REGIONALE ANMCO SARDEGNA 2021- Webinar
DESCRIPTION:A breve maggiori dettagli
URL:https://www.kassiopeagroup.com/evento/congresso-regionale-anmco-sardegna-2021-webinar/
END:VEVENT
BEGIN:VEVENT
DTSTART;TZID=Europe/Rome:20210428T180000
DTEND;TZID=Europe/Rome:20210428T193000
DTSTAMP:20260423T001823
CREATED:20210427T124605Z
LAST-MODIFIED:20210427T130113Z
UID:1202-1619632800-1619638200@www.kassiopeagroup.com
SUMMARY:Pomeriggio con l'Esperto ACEMC - La vaccinazione anti-COVID e le complicanze trombotico - emorragiche: cosa dire\, cosa fare.
DESCRIPTION:Webinar gratuito \n\n\n\n\n\nLINK ISCRIZIONE
URL:https://www.kassiopeagroup.com/evento/la-vaccinazione-anti-covid-e-le-complicanze-trombotico-emorragiche-cosa-dire-cosa-fare-mercoledi-28-aprile-18-00-1930/
END:VEVENT
BEGIN:VEVENT
DTSTART;TZID=Europe/Rome:20210419T100000
DTEND;TZID=Europe/Rome:20210420T170000
DTSTAMP:20260423T001823
CREATED:20210420T113311Z
LAST-MODIFIED:20210420T113312Z
UID:1185-1618826400-1618938000@www.kassiopeagroup.com
SUMMARY:Re Live Waste Final Conference
DESCRIPTION:Circular economy and sustainability in livestock farming
URL:https://www.kassiopeagroup.com/evento/re-live-waste-final-conference/
END:VEVENT
BEGIN:VEVENT
DTSTART;TZID=Europe/Rome:20210415T000000
DTEND;TZID=Europe/Rome:20210415T235959
DTSTAMP:20260423T001823
CREATED:20210122T120521Z
LAST-MODIFIED:20210322T113918Z
UID:960-1618444800-1618531199@www.kassiopeagroup.com
SUMMARY:Congresso "Il Brainstorming in Sardegna 2021: Il diabete tipo 1 dopo un anno dalla pandemia"
DESCRIPTION:15 Aprile – 15 Ottobre 2021 \n\n\n\nFormazione A Distanza ASINCRONA. Le iscrizioni apriranno il 15 Aprile al link Kassiopea \n\n\n\nCLICCA QUI PER VISIONARE IL PROGRAMMA \n\n\n\nPER INFORMAZIONI: luisaserra@kassiopeanews.com
URL:https://www.kassiopeagroup.com/evento/brainstorming-2021/
END:VEVENT
BEGIN:VEVENT
DTSTART;TZID=Europe/Rome:20210414T141500
DTEND;TZID=Europe/Rome:20210414T174000
DTSTAMP:20260423T001823
CREATED:20210125T154623Z
LAST-MODIFIED:20210305T163138Z
UID:975-1618409700-1618422000@www.kassiopeagroup.com
SUMMARY:2°Modulo I Disturbi del sonno nell’adulto
DESCRIPTION:FAD SINCRONA \n\n\n\n\n\n\n\n\n\n\n\n\n\n\n\nProgrammaDownload
URL:https://www.kassiopeagroup.com/evento/2modulo-i-disturbi-del-sonno-nelladulto/
LOCATION:Piattaforma FAD Kassiopea Group
END:VEVENT
BEGIN:VEVENT
DTSTART;TZID=Europe/Rome:20210409T150000
DTEND;TZID=Europe/Rome:20210409T190000
DTSTAMP:20260423T001823
CREATED:20210222T135241Z
LAST-MODIFIED:20210304T094902Z
UID:1056-1617980400-1617994800@www.kassiopeagroup.com
SUMMARY:Congresso AIP sezione Sardegna “La Psicogeriatria tra nuove tecnologie e medicina umanistica"
DESCRIPTION:WEBINAR SULLA PIATTAFORMA FAD-K.  \n\n\n\nSONO APERTE LE ISCRIZIONI AL LINK  \n\n\n\nCLICCA QUI PER VISIONARE IL PROGRAMMA \n\n\n\nPER INFORMAZIONI: luisaserra@kassiopeanews.com
URL:https://www.kassiopeagroup.com/evento/congresso-aip-sezione-sardegna-la-psicogeriatria-tra-nuove-tecnologie-e-medicina-umanistica/
ORGANIZER;CN="Luisa Serra":MAILTO:luisaserra@kassiopeanews.com
END:VEVENT
BEGIN:VEVENT
DTSTART;TZID=Europe/Rome:20210407T141500
DTEND;TZID=Europe/Rome:20210407T173000
DTSTAMP:20260423T001823
CREATED:20210120T093716Z
LAST-MODIFIED:20210305T163058Z
UID:926-1617804900-1617816600@www.kassiopeagroup.com
SUMMARY:1°Modulo I Disturbi del sonno nell’adulto
DESCRIPTION:Fad Sincrona \n\n\n\nA BREVE ULTERIORI INFORMAZIONI \n\n\n\nPER INFO: info@kassiopeagroup.com \n\n\n\n\n\n\n\n\n\n\n\n\n\nProgrammaDownload
URL:https://www.kassiopeagroup.com/evento/i-disturbi-del-sonno-nelladulto/
LOCATION:Piattaforma FAD Kassiopea Group
END:VEVENT
BEGIN:VEVENT
DTSTART;TZID=Europe/Rome:20210319T170000
DTEND;TZID=Europe/Rome:20210319T190000
DTSTAMP:20260423T001823
CREATED:20210301T135451Z
LAST-MODIFIED:20210301T140540Z
UID:1070-1616173200-1616180400@www.kassiopeagroup.com
SUMMARY:Carcinoma del colon. Dal profilo molecolare alla gestione perioperatoria
DESCRIPTION:2° Web Meeting  \n\n\n\nWebinar Zoom – Oncoteam SICO – Gruppo Telegram \n\n\n\n\n\n \n\n\n\nPer informazioni antonellamurru@kassiopeagroup.com \n\n\n\nPer iscrizioni clicca qui \n\n\n\nSAVE THE DATE
URL:https://www.kassiopeagroup.com/evento/2-web-meeting/
END:VEVENT
BEGIN:VEVENT
DTSTART;TZID=Europe/Rome:20210303T083000
DTEND;TZID=Europe/Rome:20210303T183000
DTSTAMP:20260423T001823
CREATED:20210303T092115Z
LAST-MODIFIED:20210303T105801Z
UID:1083-1614760200-1614796200@www.kassiopeagroup.com
SUMMARY:BTOX  - CORSO BASE DI TOSSICOLOGIA CLINICA: la presa in carico del paziente intossicato
DESCRIPTION:scarica programma \n\n\n\nPer informazioni barbarapanico@kassioeagroup.com
URL:https://www.kassiopeagroup.com/evento/btox-corso-base-di-tossicologia-clinica-la-presa-in-carico-del-paziente-intossicato/
END:VEVENT
BEGIN:VEVENT
DTSTART;TZID=Europe/Rome:20210302T160000
DTEND;TZID=Europe/Rome:20210302T183000
DTSTAMP:20260423T001823
CREATED:20210122T143846Z
LAST-MODIFIED:20210212T111957Z
UID:969-1614700800-1614709800@www.kassiopeagroup.com
SUMMARY:IBD TUESDAY Malattia di Crohn e rettocolite ulcerosa: the real world evidence
DESCRIPTION:II MODULO\n\n\n\n\n\nFAD SINCRONA \n\n\n\n\n\n\n\n\n\n\n\n\n\nProgrammaDownload
URL:https://www.kassiopeagroup.com/evento/ibd-tuesday-malattia-di-crohn-e-rettocolite-ulcerosa-the-real-world-evidence-2/
LOCATION:Piattaforma FAD Kassiopea Group
END:VEVENT
BEGIN:VEVENT
DTSTART;TZID=Europe/Rome:20210227T090000
DTEND;TZID=Europe/Rome:20210227T183000
DTSTAMP:20260423T001823
CREATED:20210201T135555Z
LAST-MODIFIED:20210225T100453Z
UID:984-1614416400-1614450600@www.kassiopeagroup.com
SUMMARY:Infertilità femminile e maternità: tra scienza\, cultura\, etica e politica
DESCRIPTION:Formazione a Distanza SINCRONA sulla piattaforma Kassiopea \n\n\n\n\n\n \n\n\n\nWebinar Gratuito \n\n\n\nSCARICA PROGRAMMA SCIENTIFICO \n\n\n\n \n\n\n\nSessione mattina dalle ore 09.15 alle ore 13.15 accreditata ECM al link  \n\n\n\nSessione pomeriggio dalle ore 15.00 alle ore 18.30 non accreditata ECM a questo link
URL:https://www.kassiopeagroup.com/evento/infertilita-femminile-e-maternita-tra-scienza-cultura-etica-e-politica/
END:VEVENT
BEGIN:VEVENT
DTSTART;TZID=Europe/Rome:20210223T160000
DTEND;TZID=Europe/Rome:20210223T183000
DTSTAMP:20260423T001823
CREATED:20210120T151149Z
LAST-MODIFIED:20210212T111924Z
UID:948-1614096000-1614105000@www.kassiopeagroup.com
SUMMARY:IBD TUESDAY Malattia di Crohn e rettocolite ulcerosa: the real world evidence
DESCRIPTION:I MODULO\n\n\n\n\n\nFAD SINCRONA\n\n\n\n\n\n\n\n\n\n\n\n\n\nProgrammaDownload
URL:https://www.kassiopeagroup.com/evento/ibd-tuesday-malattia-di-crohn-e-rettocolite-ulcerosa-the-real-world-evidence/
LOCATION:Piattaforma FAD Kassiopea Group
END:VEVENT
BEGIN:VEVENT
DTSTART;TZID=Europe/Rome:20210212T170000
DTEND;TZID=Europe/Rome:20210212T190000
DTSTAMP:20260423T001823
CREATED:20210201T140648Z
LAST-MODIFIED:20210204T084546Z
UID:992-1613149200-1613156400@www.kassiopeagroup.com
SUMMARY:Neoplasie del retto Approccio multidisciplinare - Oncoteam Colon & Retto
DESCRIPTION:Per iscrizioni al link \n\n\n\nSCARICA IL PROGRAMMA SCIENTIFICO
URL:https://www.kassiopeagroup.com/evento/neoplasie-del-retto-approccio-multidisciplinare-oncoteam-colon-retto/
END:VEVENT
BEGIN:VEVENT
DTSTART;TZID=Europe/Rome:20201220T000000
DTEND;TZID=Europe/Rome:20201221T235959
DTSTAMP:20260423T001823
CREATED:20201224T101220Z
LAST-MODIFIED:20201224T101305Z
UID:806-1608422400-1608595199@www.kassiopeagroup.com
SUMMARY:Dalla diagnosi alla terapia medica e chirurgica dei sanguinamenti genitali anomali
DESCRIPTION:Webinar (FAD SINCRONA) \n\n\n\nResponsabile evento: barbarapanico@kassiopeagroup.com
URL:https://www.kassiopeagroup.com/evento/dalla-diagnosi-alla-terapia-medica-e-chirurgica-dei-sanguinamenti-genitali-anomali/
LOCATION:Piattaforma FAD Kassiopea Group
END:VEVENT
BEGIN:VEVENT
DTSTART;TZID=Europe/Rome:20201218T180000
DTEND;TZID=Europe/Rome:20201218T200000
DTSTAMP:20260423T001823
CREATED:20201224T100208Z
LAST-MODIFIED:20201224T100641Z
UID:796-1608314400-1608321600@www.kassiopeagroup.com
SUMMARY:Decennale della Dieta Mediterranea Patrimonio dell’Umanità UNESCO
DESCRIPTION:Tavola rotonda virtuale organizzata dalla Delegazione di Cagliari Castello \n\n\n\n«La dieta mediterranea comprende una serie di competenze\, conoscenze\, rituali\, simboli e tradizioni concernenti la coltivazione\, la raccolta\, la pesca\, l’allevamento\, la conservazione\, la cucina e soprattutto la condivisione e consumo di cibo. Mangiare insieme è la base dell’identità culturale e della continuità delle comunità nel bacino Mediterraneo. La dieta mediterranea enfatizza i valori dell’ospitalità\, del vicinato\, del dialogo interculturale e della creatività e rappresenta un modo di vivere guidato dal rispetto della diversità.Essa svolge un ruolo vitale in spazi culturali\, festival e celebrazioni riunendo-persone di tutte le età e classi sociali; include l’artigianato e la produzione di contenitori per il trasporto\, la conservazione e il consumo di cibo\, compresi piatti di ceramica e vetro. Le donne giocano un ruolo fondamentale nella tra-smissione delle conoscenze della dieta mediterranea.»(Dichiarazione della Dieta Mediterranea patrimonio immateriale da parte dell’UNESCO\, 16 novembre 2010).  \n\n\n\nA dieci anni di distanza dalla sua dichiarazione\, la Dieta Mediterranea continua a rappresentare un punto di riferimento per nutrizionisti e alimentaristi a livello globale. In questo lasso di tempo tale riconoscimento è stato utilizzato più per finalità dietetiche che culturali\, perdendo in parte l’originario senso di protezione di un bene immateriale. Pur riconoscendone i vantaggi salutistici\, il decennale rappresenta un’occasione per ribadire i concetti di convivialità e tradizione alla base della Dieta Mediterranea\, valori che caratterizzano lo scopo associativo dell’Accademia Italiana della Cucina\, organizzatrice della tavola rotonda on line. \n\n\n\nLa cucina è una delle espressioni più profonde della cultura di un Paese: è il frutto della storia e della vita dei suoi abitanti\, diversa da regione a regione\, da città a città\, da villaggio a villaggio. La cucina racconta chi siamo\, riscopre le nostre radici\, si evolve con noi\, ci rappresenta al di là dei confini. È frutto della tradizione e dell’innovazione e\, per questo\, da salvaguardare e da tramandare (dal sito dell’Accademia Italiana della Cucina https://www.accademiaitalianadellacucina.it/it) \n\n\n\nResponsabile evento: martinamilia@kassiopeagroup.com \n\n\n\nScarica il programma \n\n\n\nINFORMAZIONI GENERALI: per partecipare al webinar è necessario iscriversi. L’iscrizione è gratuita. Il webinar verrà trasmesso attraverso la piattaforma ZOOM\, una volta registrati riceverete la mail con le istruzioni per il collegamento.
URL:https://www.kassiopeagroup.com/evento/decennale-della-dieta-mediterranea-patrimonio-dellumanita-unesco/
END:VEVENT
BEGIN:VEVENT
DTSTART;TZID=Europe/Rome:20201218T160000
DTEND;TZID=Europe/Rome:20201218T200000
DTSTAMP:20260423T001823
CREATED:20201224T095515Z
LAST-MODIFIED:20201224T095544Z
UID:793-1608307200-1608321600@www.kassiopeagroup.com
SUMMARY:Pneumologia e ...dintorni ai tempi del COVID 19
DESCRIPTION:FAD SINCRONA \n\n\n\nCrediti Formativi: 4\,8 \n\n\n\nPANPNEUMA 2020 ICHNOS \n\n\n\nInformazioni ai PartecipantiLa FAD sincrona prevede la partecipazione a sessioni formative remote attraverso la piattaforma multimediale dedicata (webinar) https://formazione.kassiopeagroup.com che sarà fruibile in diretta attraverso una connessione ad Internet.La sincronicità della partecipazione prevede il collegamento dei discenti agli orari prestabiliti dal programma formativo e garantirà un livello di interazione tra il docente ed i discenti i quali possono richiedere di intervenire nelle sessioni e scambiare opinioni ed esperienze. In questo caso useremo il siste ma delle chat per porre delle domande e interagire con il docente.La sessione di lavoro\, inclusi gli argomenti oggetto della discussione\, verrà registrata e resa disponibile per una fruizione asincrona/ripetibile.La partecipazione dei discenti viene rilevata attraverso la registrazione degli accessi alla piattaforma durante la sessione di formazione. \n\n\n\nResponsabile evento: info@kassiopeagroup.com \n\n\n\nScarica il programma
URL:https://www.kassiopeagroup.com/evento/793/
LOCATION:Piattaforma FAD Kassiopea Group
END:VEVENT
BEGIN:VEVENT
DTSTART;TZID=Europe/Rome:20201217T100000
DTEND;TZID=Europe/Rome:20201217T140000
DTSTAMP:20260423T001823
CREATED:20201224T095249Z
LAST-MODIFIED:20201224T095352Z
UID:789-1608199200-1608213600@www.kassiopeagroup.com
SUMMARY:Pneumologia e ...dintorni ai tempi del COVID 19
DESCRIPTION:FAD SINCRONA \n\n\n\nCrediti Formativi: 4\,8 \n\n\n\nPANPNEUMA 2020 ICHNOS \n\n\n\nInformazioni ai PartecipantiLa FAD sincrona prevede la partecipazione a sessioni formative remote attraverso la piattaforma multimediale dedicata (webinar) https://formazione.kassiopeagroup.com che sarà fruibile in diretta attraverso una connessione ad Internet.La sincronicità della partecipazione prevede il collegamento dei discenti agli orari prestabiliti dal programma formativo e garantirà un livello di interazione tra il docente ed i discenti i quali possono richiedere di intervenire nelle sessioni e scambiare opinioni ed esperienze. In questo caso useremo il siste ma delle chat per porre delle domande e interagire con il docente.La sessione di lavoro\, inclusi gli argomenti oggetto della discussione\, verrà registrata e resa disponibile per una fruizione asincrona/ripetibile.La partecipazione dei discenti viene rilevata attraverso la registrazione degli accessi alla piattaforma durante la sessione di formazione. \n\n\n\nResponsabile evento: info@kassiopeagroup.com \n\n\n\nScarica il programma
URL:https://www.kassiopeagroup.com/evento/pneumologia-e-dintorni-ai-tempi-del-covid-19/
LOCATION:Piattaforma FAD Kassiopea Group
END:VEVENT
BEGIN:VEVENT
DTSTART;TZID=Europe/Rome:20201216T180000
DTEND;TZID=Europe/Rome:20201216T200000
DTSTAMP:20260423T001823
CREATED:20201203T133608Z
LAST-MODIFIED:20201224T094343Z
UID:623-1608141600-1608148800@www.kassiopeagroup.com
SUMMARY:IBD ADVANCED: dall’età pediatrica all’adulto: MODERN MANAGEMENT DELLA COLITE ULCEROSA
DESCRIPTION:FAD ECM \n\n\n\nResponsabile evento: info@kassiopeagroup.com \n\n\n\n Scarica la Brochure
URL:https://www.kassiopeagroup.com/evento/ibd-advanced-dalleta-pediatrica-alladultomodern-management-della-colite-ulcerosa/
LOCATION:Piattaforma FAD Kassiopea Group
END:VEVENT
BEGIN:VEVENT
DTSTART;TZID=Europe/Rome:20201215T150000
DTEND;TZID=Europe/Rome:20201215T170000
DTSTAMP:20260423T001823
CREATED:20201224T094657Z
LAST-MODIFIED:20201224T094731Z
UID:786-1608044400-1608051600@www.kassiopeagroup.com
SUMMARY:Ipertensione Arteriosa Polmonare associata alle malattie del connettivo
DESCRIPTION:FAD SINCRONA: per iscriverti clicca qui \n\n\n\nCrediti ECM: 3 \n\n\n\nResponsabile evento: renataravot@kassiopeagroup.com \n\n\n\nBrochure Programma
URL:https://www.kassiopeagroup.com/evento/ipertensione-arteriosa-polmonare-associata-alle-malattie-del-connettivo/
LOCATION:Piattaforma FAD Kassiopea Group
END:VEVENT
BEGIN:VEVENT
DTSTART;TZID=Europe/Rome:20201205T090000
DTEND;TZID=Europe/Rome:20201205T130000
DTSTAMP:20260423T001823
CREATED:20201224T093314Z
LAST-MODIFIED:20201224T094107Z
UID:770-1607158800-1607173200@www.kassiopeagroup.com
SUMMARY:Webinar "Nel Cuore di… Cagliari – Laboratorio"
DESCRIPTION:L’evento sarà erogato in modalità sincrona (Webinar) il 5 dicembre 2020 dalle ore 09.00 alle ore 13.00 \n\n\n\nResponsabile evento: domizianamessina@kassiopeagroup.com \n\n\n\nScarica il Programma scientifico
URL:https://www.kassiopeagroup.com/evento/webinar-nel-cuore-di-cagliari-laboratorio-2/
LOCATION:Piattaforma FAD Kassiopea Group
END:VEVENT
BEGIN:VEVENT
DTSTART;TZID=Europe/Rome:20201126T170000
DTEND;TZID=Europe/Rome:20201127T200000
DTSTAMP:20260423T001823
CREATED:20201224T113353Z
LAST-MODIFIED:20201224T113353Z
UID:837-1606410000-1606507200@www.kassiopeagroup.com
SUMMARY:WebConference Interregionale S.It.I. 2020 Sezioni Sardegna\, Liguria\, Piemonte - Valle d’Aosta. La tutela della salute: dal territorio all’ospedale in era COVID-19
DESCRIPTION:Responsabile evento: luisaserra@kassiopeanews.com \n\n\n\nL’evento è stato accreditato per un massimo di 400 partecipanti presso il Sistema ECM Nazionale ed è riservato alle seguenti professioni: MEDICO CHIRURGO (tutte le discipline); FARMACISTI (Farmacia Ospedaliera; Farmacia Territoriale); BIOLOGO; ASSISTENTE SANITARIO; INFERMIERE; INFERMIERE PEDIATRICO; TECNICO DELLA PREVENZIONE NELL’AMBIENTE E NEI LUOGHI DI LAVORO; TECNICO DI LABORATORIO BIOMEDICO; OSTETRICO/A.Numero di crediti ECM assegnati: 4\,8 \n\n\n\nProgramma completo
URL:https://www.kassiopeagroup.com/evento/webconference-interregionale-s-it-i-2020-sezioni-sardegna-liguria-piemonte-valle-daosta-la-tutela-della-salute-dal-territorio-allospedale-in-era-covid-19/
LOCATION:Piattaforma FAD Kassiopea Group
END:VEVENT
BEGIN:VEVENT
DTSTART;TZID=Europe/Rome:20201126T140000
DTEND;TZID=Europe/Rome:20201126T170000
DTSTAMP:20260423T001823
CREATED:20201224T113645Z
LAST-MODIFIED:20201224T113646Z
UID:839-1606399200-1606410000@www.kassiopeagroup.com
SUMMARY:IBD dall’età pediatrica all’adulto. Malattia di Crohn: la gestione combinata delle forme più aggressive
DESCRIPTION:Responsabile evento: gianlucasotgiu@kassiopeagroup.com \n\n\n\nScarica locandina e programma
URL:https://www.kassiopeagroup.com/evento/ibd-dalleta-pediatrica-alladulto-malattia-di-crohn-la-gestione-combinata-delle-forme-piu-aggressive/
LOCATION:Piattaforma FAD Kassiopea Group
END:VEVENT
BEGIN:VEVENT
DTSTART;TZID=Europe/Rome:20201121T100000
DTEND;TZID=Europe/Rome:20201121T130000
DTSTAMP:20260423T001823
CREATED:20201224T113136Z
LAST-MODIFIED:20201224T113137Z
UID:835-1605952800-1605963600@www.kassiopeagroup.com
SUMMARY:Webinar BREAST CANCER UPDATE 2020
DESCRIPTION:Responsabile evento: antonellamurru@kassiopeagroup.com \n\n\n\nRAZIONALE SCIENTIFICONonostante l’impatto che il Covid-19 ha avuto sul sistema sanitario nazionale\, la diagnosi e terapia del carcinoma mammario ha subito un’ulteriore evoluzione sia per quanto riguarda le neoplasie iniziali\, che per quelle localmente avanzate o sistemiche.In particolare\, nuovi scenari si stanno proponendo per la chemioterapia neoadiuvante\, con tecniche di imaging sempre più precise ed evolute\, con l’utilizzo di nuovi farmaci e di strategie chirurgiche meno invasive.Le caratteristiche biologiche della neoplasia condizionano in modo crescente il raggiungimento di adeguati risultati terapeutici e diventa ancora più indispensabile l’efficace integrazione di un team multidisciplinare di professionisti della salute che operano nelle varie fasi della malattia.In questo convegno sarà analizzato lo stato dell’arte sulla diagnosi e sulla terapia medica e chirurgica del carcinoma mammario. \n\n\n\nProgramma Scientifico
URL:https://www.kassiopeagroup.com/evento/webinar-breast-cancer-update-2020/
LOCATION:Piattaforma FAD Kassiopea Group
END:VEVENT
BEGIN:VEVENT
DTSTART;TZID=Europe/Rome:20201120T000000
DTEND;TZID=Europe/Rome:20201120T235959
DTSTAMP:20260423T001823
CREATED:20201224T113955Z
LAST-MODIFIED:20201224T114129Z
UID:841-1605830400-1605916799@www.kassiopeagroup.com
SUMMARY:16th International Congress on Neonatology and Pediatrics
DESCRIPTION:FAD ASINCRONA sulla piattaforma Kassiopea dal 20 Novembre al 31 Dicembre 2020 \n\n\n\nIl Congresso presenta argomenti innovativi e le ultime ricerche su argomenti di grandi temi neonatali e pediatrici relativamente alla nutrizione\, crescita\, infettivologia. \n\n\n\nResponsabile evento: luisaserra@kassiopeanews.com \n\n\n\nInfo ECM: the course has obtained from the Ministry of Health the attribution of n° 9 Training Italian Credits of Medical Continuing Education (E.C.M.).Rif. n° 305482 \n\n\n\nCategory: Medical Technician Biomedical Laboratory\, Biologist\, Surgeon\, Nurse\, Pediatric Nurse\, Midwife\, Dentist. \n\n\n\nDisciplines for surgeon: Allergology and Clinical Immunology\, Cardiology\, Dermatology and Venereology\, Gastroenterology\, Medical Genetics\, Metabolic Diseases and Diabetology\, Diseases of the Respiratory System\, Infectious Diseases\, Nephrology\, Neonatology\, Neurology\, Pediatrics\, Pediatrics (Family Pediatricians)\, Gynecology and Obstetrics\, Hygiene of Food and Nutrition\, General Medicine (Family Doctors)\, Food Science and Dietetics. \n\n\n\nBrochure
URL:https://www.kassiopeagroup.com/evento/16th-international-congress-on-neonatology-and-pediatrics-2/
LOCATION:Piattaforma FAD Kassiopea Group
END:VEVENT
BEGIN:VEVENT
DTSTART;TZID=Europe/Rome:20201107T100000
DTEND;TZID=Europe/Rome:20201107T130000
DTSTAMP:20260423T001823
CREATED:20201224T111547Z
LAST-MODIFIED:20201224T111548Z
UID:820-1604743200-1604754000@www.kassiopeagroup.com
SUMMARY:Malattie infiammatorie croniche intestinali: la gestione congiunta tra Medico di Medicina Generale e specialista nel trattamento con farmaci tradizionali e biologici
DESCRIPTION:Responsabile evento: info@kassiopeagroup.com \n\n\n\nInformazioni e programma
URL:https://www.kassiopeagroup.com/evento/malattie-infiammatorie-croniche-intestinali-la-gestione-congiunta-tra-medico-di-medicina-generale-e-specialista-nel-trattamento-con-farmaci-tradizionali-e-biologici/
LOCATION:Piattaforma FAD Kassiopea Group
END:VEVENT
BEGIN:VEVENT
DTSTART;TZID=Europe/Rome:20201104T150000
DTEND;TZID=Europe/Rome:20201106T180000
DTSTAMP:20260423T001823
CREATED:20201224T111130Z
LAST-MODIFIED:20201224T111332Z
UID:815-1604502000-1604685600@www.kassiopeagroup.com
SUMMARY:Webinar SICOWEB ANNUAL MEETING 2020
DESCRIPTION:L’evento sarà erogato in modalità SINCRONA (WEBINAR) durante le giornate del 4\, 5 e 6 novembre 2020 dalle ore 15.00 alle ore 18.00. \n\n\n\nL’ISCRIZIONE ai WEBINAR è gratuita per i SOCI SICO in regola con la quota associativa 2020-2021. \n\n\n\nINTRODUZIONE \n\n\n\nQuest’anno\, nell’intento di adeguarsi alle misure ministeriali di prevenzione della diffusione del Coronavirus\, l’annuale congresso SICO sarà in forma virtuale e si svilupperà in tre giornate. \n\n\n\nDal 4 al 6 novembre i chirurghi oncologi italiani siederanno ad un tavolo di lavoro virtuale con i giovani fellow di YSICO e con apicalità di ambito manageriale ed economico\, al fine di descrivere il profondo cambiamento della chirurgia oncologica italiana e la forte necessità di costruire reti oncologiche solide per i tempi a venire. \n\n\n\nLa prima giornata (4/11/2020 ore 15-18) servirà a fare il punto sulla rivoluzione della chirurgia oncologica in una condizione di emergenza nazionale. Si riporteranno i dati di un recente survey a marchio SICO\, si discuterà la posizione delle altre società chirurgiche internazionali e si introdurrà il tema cruciale della telemedicina. Quest’ultimo aspetto verrà discusso con associazioni di pazienti e con esperti di information technology. \n\n\n\nLa seconda giornata (5/11/2020 ore 15-18) approfondirà il ruolo delle reti oncologiche regionali e la loro struttura. Le risorse e la sostenibilità delle reti oncologiche verranno affrontate con figure apicali in ambito sanitario\, al fine di identificare opportunità per il rafforzamento delle stesse. \n\n\n\nLa terza giornata (6/11/2020 ore 15-18) servirà come approfondimento scientifico-tecnico per i giovani YSICO. Video con descrizione della tecnica chirurgica serviranno come spunto per dibattiti su indicazioni e gestione di casi oncologici complessi. \n\n\n\nIl 2020 WEB-SICO annual meeting si chiuderà con la quinta edizione del premio Luana Ricca che premierà il progetto di ricerca di un/una giovane chirurgo/a dal percorso professionale meritevole. \n\n\n\nResponsabili evento:antonellamurru@kassiopeagroup.com;martinamilia@kassiopeagroup.com \n\n\n\nALLEGATI \n\n\n\nProgramma Scientifico dettagliato \n\n\n\nBando per il “Premio Luana Ricca” 5° edizione
URL:https://www.kassiopeagroup.com/evento/webinar-sicoweb-annual-meeting-2020/
LOCATION:Piattaforma FAD Kassiopea Group
END:VEVENT
END:VCALENDAR