BEGIN:VCALENDAR
VERSION:2.0
PRODID:-//Kassiopea Group - ECPv6.15.18//NONSGML v1.0//EN
CALSCALE:GREGORIAN
METHOD:PUBLISH
X-ORIGINAL-URL:https://www.kassiopeagroup.com
X-WR-CALDESC:Eventi per Kassiopea Group
REFRESH-INTERVAL;VALUE=DURATION:PT1H
X-Robots-Tag:noindex
X-PUBLISHED-TTL:PT1H
BEGIN:VTIMEZONE
TZID:Europe/Rome
BEGIN:DAYLIGHT
TZOFFSETFROM:+0100
TZOFFSETTO:+0200
TZNAME:CEST
DTSTART:20250330T010000
END:DAYLIGHT
BEGIN:STANDARD
TZOFFSETFROM:+0200
TZOFFSETTO:+0100
TZNAME:CET
DTSTART:20251026T010000
END:STANDARD
BEGIN:DAYLIGHT
TZOFFSETFROM:+0100
TZOFFSETTO:+0200
TZNAME:CEST
DTSTART:20260329T010000
END:DAYLIGHT
BEGIN:STANDARD
TZOFFSETFROM:+0200
TZOFFSETTO:+0100
TZNAME:CET
DTSTART:20261025T010000
END:STANDARD
BEGIN:DAYLIGHT
TZOFFSETFROM:+0100
TZOFFSETTO:+0200
TZNAME:CEST
DTSTART:20270328T010000
END:DAYLIGHT
BEGIN:STANDARD
TZOFFSETFROM:+0200
TZOFFSETTO:+0100
TZNAME:CET
DTSTART:20271031T010000
END:STANDARD
END:VTIMEZONE
BEGIN:VEVENT
DTSTART;TZID=Europe/Rome:20261112T150000
DTEND;TZID=Europe/Rome:20261113T170000
DTSTAMP:20260421T033211
CREATED:20251203T103726Z
LAST-MODIFIED:20251203T103728Z
UID:4229-1794495600-1794589200@www.kassiopeagroup.com
SUMMARY:X MASTERCLASS DISFUNZIONI DEL PAVIMENTO PELVICO- Hotel Voco (Mestre) 12/13 novembre 2026
DESCRIPTION:Per informazioni: antonellamurru@kassiopeagroup.com
URL:https://www.kassiopeagroup.com/evento/x-masterclass-disfunzioni-del-pavimento-pelvico-hotel-voco-mestre-12-13-novembre-2026/
END:VEVENT
BEGIN:VEVENT
DTSTART;TZID=Europe/Rome:20261120T160000
DTEND;TZID=Europe/Rome:20261121T180000
DTSTAMP:20260421T033211
CREATED:20251203T103452Z
LAST-MODIFIED:20251203T103454Z
UID:4224-1795190400-1795284000@www.kassiopeagroup.com
SUMMARY:Breast Cancer Update 2026 - Cagliari (Thotel) 20-21 novembre 2026
DESCRIPTION:Per informazioni:antonellamurru@kassiopeagroup.com
URL:https://www.kassiopeagroup.com/evento/breast-cancer-update-2026-cagliari-thotel-20-21-novembre-2026/
END:VEVENT
BEGIN:VEVENT
DTSTART;TZID=Europe/Rome:20261210T080000
DTEND;TZID=Europe/Rome:20261210T170000
DTSTAMP:20260421T033211
CREATED:20260325T092151Z
LAST-MODIFIED:20260325T092153Z
UID:4384-1796889600-1796922000@www.kassiopeagroup.com
SUMMARY:Carcinoma prostatico: modelli multidisciplinari di gestione nelle diverse fasi di malattia
DESCRIPTION:Presto maggiori informazioni
URL:https://www.kassiopeagroup.com/evento/carcinoma-prostatico-modelli-multidisciplinari-di-gestione-nelle-diverse-fasi-di-malattia-3/
END:VEVENT
END:VCALENDAR