BEGIN:VCALENDAR
VERSION:2.0
PRODID:-//Kassiopea Group - ECPv6.15.18//NONSGML v1.0//EN
CALSCALE:GREGORIAN
METHOD:PUBLISH
X-WR-CALNAME:Kassiopea Group
X-ORIGINAL-URL:https://www.kassiopeagroup.com
X-WR-CALDESC:Eventi per Kassiopea Group
REFRESH-INTERVAL;VALUE=DURATION:PT1H
X-Robots-Tag:noindex
X-PUBLISHED-TTL:PT1H
BEGIN:VTIMEZONE
TZID:Europe/Rome
BEGIN:DAYLIGHT
TZOFFSETFROM:+0100
TZOFFSETTO:+0200
TZNAME:CEST
DTSTART:20230326T010000
END:DAYLIGHT
BEGIN:STANDARD
TZOFFSETFROM:+0200
TZOFFSETTO:+0100
TZNAME:CET
DTSTART:20231029T010000
END:STANDARD
BEGIN:DAYLIGHT
TZOFFSETFROM:+0100
TZOFFSETTO:+0200
TZNAME:CEST
DTSTART:20240331T010000
END:DAYLIGHT
BEGIN:STANDARD
TZOFFSETFROM:+0200
TZOFFSETTO:+0100
TZNAME:CET
DTSTART:20241027T010000
END:STANDARD
BEGIN:DAYLIGHT
TZOFFSETFROM:+0100
TZOFFSETTO:+0200
TZNAME:CEST
DTSTART:20250330T010000
END:DAYLIGHT
BEGIN:STANDARD
TZOFFSETFROM:+0200
TZOFFSETTO:+0100
TZNAME:CET
DTSTART:20251026T010000
END:STANDARD
END:VTIMEZONE
BEGIN:VEVENT
DTSTART;TZID=Europe/Rome:20241108T083000
DTEND;TZID=Europe/Rome:20241109T130000
DTSTAMP:20260421T065903
CREATED:20241008T081447Z
LAST-MODIFIED:20241107T133947Z
UID:3493-1731054600-1731157200@www.kassiopeagroup.com
SUMMARY:14° Congresso Asma & Sport
DESCRIPTION:UNAHOTELS THOTEL – VIA DEI GIUDICATI 66\, CAGLIARI \n\n\n\n\n\n\n\nPROGRAMMA \n\n\n\nISCRIVITI QUI
URL:https://www.kassiopeagroup.com/evento/14-congresso-asma-sport/
LOCATION:Cagliari
END:VEVENT
BEGIN:VEVENT
DTSTART;TZID=Europe/Rome:20241023T133000
DTEND;TZID=Europe/Rome:20241026T170000
DTSTAMP:20260421T065903
CREATED:20240717T071640Z
LAST-MODIFIED:20241021T071905Z
UID:3349-1729690200-1729962000@www.kassiopeagroup.com
SUMMARY:20th INTERNATIONAL WORKSHOP ON NEONATOLOGY
DESCRIPTION:Children’s health: messages from the future. \n\n\n\nPresident: Vassilios Fanos \n\n\n\nRegistrazioni – Registrations \n\n\n\nProgramma finale – Final Program \n\n\n\nFor foreign participants wishing to register please contact luisaserra@kassiopeanews.com
URL:https://www.kassiopeagroup.com/evento/20th-international-workshop-on-neonatology/
LOCATION:T Hotel\, Cagliari\, Via dei Giudicati\, 66\, Cagliari\, 09131\, Italia
ORGANIZER;CN="Luisa Serra":MAILTO:luisaserra@kassiopeanews.com
END:VEVENT
BEGIN:VEVENT
DTSTART;TZID=Europe/Rome:20241018T143000
DTEND;TZID=Europe/Rome:20241019T180000
DTSTAMP:20260421T065903
CREATED:20240725T141821Z
LAST-MODIFIED:20241003T162907Z
UID:3370-1729261800-1729360800@www.kassiopeagroup.com
SUMMARY:Appropriatezza diagnostica e terapeutica nella gestione delle patologie immunomediate: il MMG interroga gli specialisti CORSO RESIDENZIALE - I Edizione
DESCRIPTION:ISCRIZIONI ONLINE \n\n\n\n\n\n\n\n\n\n\n\nProgrammaDownload
URL:https://www.kassiopeagroup.com/evento/appropriatezza-diagnostica-e-terapeutica-nella-gestione-delle-patologie-immunomediate-il-mmg-interroga-gli-specialisti-corso-residenziale-i-edizione/
LOCATION:HOTEL SU GOLOGONE\, Località su Gologone\,\, Oliena NU\, SARDEGNA\, 08025\, Italia
ORGANIZER;CN="Gianluca Sotgiu":MAILTO:gianlucasotgiu@kassiopeagroup.com
END:VEVENT
BEGIN:VEVENT
DTSTART;TZID=Europe/Rome:20241015T140000
DTEND;TZID=Europe/Rome:20241015T190000
DTSTAMP:20260421T065903
CREATED:20241003T103528Z
LAST-MODIFIED:20241003T103528Z
UID:3472-1729000800-1729018800@www.kassiopeagroup.com
SUMMARY:“INFERMIERI: QUALI OPPORTUNITA’ LAVORATIVE?”
DESCRIPTION:corso FAD SINCRONO – RIVOLTO A INFERMIERI E INFERMIERI PEDIATRICI \n\n\n\n 7\,5 CREDITI ECM \n\n\n\nevento gratuito \n\n\n\nSarà necessario registrarsi alla piattaforma FAD entro la mattina del 15 ottobre.
URL:https://www.kassiopeagroup.com/evento/infermieri-quali-opportunita-lavorative/
LOCATION:Cagliari
END:VEVENT
BEGIN:VEVENT
DTSTART;TZID=Europe/Rome:20241011T140000
DTEND;TZID=Europe/Rome:20241012T133000
DTSTAMP:20260421T065903
CREATED:20241007T095804Z
LAST-MODIFIED:20241011T072409Z
UID:3486-1728655200-1728739800@www.kassiopeagroup.com
SUMMARY:45° Congresso Regionale NSoSOT
DESCRIPTION:Teatro Santa Croce\, Berchidda \n\n\n\n\n\n\n\nProgramma Evento \n\n\n\nIscriviti qui
URL:https://www.kassiopeagroup.com/evento/45-congresso-regionale-nsosot/
LOCATION:Cagliari
END:VEVENT
BEGIN:VEVENT
DTSTART;TZID=Europe/Rome:20241004T090000
DTEND;TZID=Europe/Rome:20241005T190000
DTSTAMP:20260421T065903
CREATED:20240322T111248Z
LAST-MODIFIED:20240517T073320Z
UID:3175-1728032400-1728154800@www.kassiopeagroup.com
SUMMARY:European Chapter Congress of the International Gastric Cancer Association 2024
DESCRIPTION:Siena – Auditorium delle Scotte
URL:https://www.kassiopeagroup.com/evento/european-chapter-congress-of-the-international-gastric-cancer-association-2024/
LOCATION:Cagliari
END:VEVENT
BEGIN:VEVENT
DTSTART;TZID=Europe/Rome:20241004T080000
DTEND;TZID=Europe/Rome:20241004T170000
DTSTAMP:20260421T065903
CREATED:20240322T095945Z
LAST-MODIFIED:20240927T102701Z
UID:3165-1728028800-1728061200@www.kassiopeagroup.com
SUMMARY:10ª GIORNATA CAGLIARITANA DI GINECOLOGIA DELL’INFANZIA E DELL’ADOLESCENZA - La Vita Riproduttiva nella Mente delle nostre Adolescenti -
DESCRIPTION:Iscriviti qui \n\n\n\nProgramma del Congresso
URL:https://www.kassiopeagroup.com/evento/10a-giornata-cagliaritana-di-ginecologia-dellinfanzia-e-delladolescenzala-vita-riproduttiva-nella-mente-delle-nostre-adolescenti/
LOCATION:Cagliari
ORGANIZER;CN="Luisa Serra":MAILTO:luisaserra@kassiopeanews.com
END:VEVENT
BEGIN:VEVENT
DTSTART;TZID=Europe/Rome:20241003T090000
DTEND;TZID=Europe/Rome:20241006T130000
DTSTAMP:20260421T065903
CREATED:20240926T130833Z
LAST-MODIFIED:20241001T101418Z
UID:3456-1727946000-1728219600@www.kassiopeagroup.com
SUMMARY:Ipogeismo e megalitismo in Europa e nel Mediterraneo tra il V e l'inizio del II millennio a.C. La Sardegna crocevia di popoli e di culture
DESCRIPTION:Per informazioni del Convegno contattare: kassiopeagroup@kassiopeagroup.com / carlacarboni@kassiopeanews.com
URL:https://www.kassiopeagroup.com/evento/ipogeismo-e-megalitismo-in-europa-e-nel-mediterraneo-tra-il-v-e-linizio-del-ii-millennio-a-c-la-sardegna-crocevia-di-popoli-e-di-culture/
LOCATION:Cagliari
END:VEVENT
BEGIN:VEVENT
DTSTART;TZID=Europe/Rome:20241003T080000
DTEND;TZID=Europe/Rome:20241004T170000
DTSTAMP:20260421T065903
CREATED:20240201T151650Z
LAST-MODIFIED:20240726T085408Z
UID:3077-1727942400-1728061200@www.kassiopeagroup.com
SUMMARY:Congresso Nazionale AcEMC 2024
DESCRIPTION:Scarica il programma
URL:https://www.kassiopeagroup.com/evento/congresso-nazionale-acemc-2024/
LOCATION:Cagliari
END:VEVENT
BEGIN:VEVENT
DTSTART;TZID=Europe/Rome:20240930T143000
DTEND;TZID=Europe/Rome:20241001T173000
DTSTAMP:20260421T065903
CREATED:20240709T162905Z
LAST-MODIFIED:20240801T104437Z
UID:3323-1727706600-1727803800@www.kassiopeagroup.com
SUMMARY:La chirurgia della parete addominale
DESCRIPTION:in Week Surgery: oltre gli attuali confini \n\n\n\n\n\n \n\n\n\nISCRIZIONI ONLINE \n\n\n\n\n\n\n\n\n\n\n\nPreliminareDownload
URL:https://www.kassiopeagroup.com/evento/la-chirurgiadella-parete-addominale/
LOCATION:Sala Congressi Centro Culturale del Comune di Iglesias\, Via Roberto Cattaneo\, 82\,\, Iglesias\, Sardegna\, 09016\, Italia
ORGANIZER;CN="Gianluca Sotgiu":MAILTO:gianlucasotgiu@kassiopeagroup.com
END:VEVENT
BEGIN:VEVENT
DTSTART;TZID=Europe/Rome:20240928T084500
DTEND;TZID=Europe/Rome:20240928T180000
DTSTAMP:20260421T065903
CREATED:20240318T155954Z
LAST-MODIFIED:20240910T084217Z
UID:3159-1727513100-1727546400@www.kassiopeagroup.com
SUMMARY:III EDIZIONE: S’attobiu de Casteddu
DESCRIPTION:ISCRIZIONI ONLINE \n\n\n\n\n\n\n\n\n\nProgrammaDownload
URL:https://www.kassiopeagroup.com/evento/iii-edizione-sattobiu-de-casteddu/
LOCATION:Hotel Caesar’s – Via Darwin\, 2-4 – 09124 Cagliari
ORGANIZER;CN="Gianluca Sotgiu":MAILTO:gianlucasotgiu@kassiopeagroup.com
END:VEVENT
BEGIN:VEVENT
DTSTART;TZID=Europe/Rome:20240926T140000
DTEND;TZID=Europe/Rome:20240928T133000
DTSTAMP:20260421T065903
CREATED:20240123T112210Z
LAST-MODIFIED:20240920T070147Z
UID:3057-1727359200-1727530200@www.kassiopeagroup.com
SUMMARY:XLIV CONGRESSO NAZIONALE SICO
DESCRIPTION:Messina\, Palazzo dei Congressi A.O.U – G Martino \n\n\n\nPer informazioni: sico2024@kassiopeagroup.com (Antonella Murru – Luisa Serra) \n\n\n\nPROGRAMMA SCIENTIFICO DEFINITIVO \n\n\n\nPer iscrizioni e aggiornamenti: https://sicoweb.it/congresso2024/
URL:https://www.kassiopeagroup.com/evento/xliv-congresso-nazionale-sico/
LOCATION:Cagliari
END:VEVENT
BEGIN:VEVENT
DTSTART;TZID=Europe/Rome:20240921T100000
DTEND;TZID=Europe/Rome:20240927T140000
DTSTAMP:20260421T065903
CREATED:20240702T125308Z
LAST-MODIFIED:20240702T125309Z
UID:3302-1726912800-1727445600@www.kassiopeagroup.com
SUMMARY:Electroweak Physics InterseCtions — EPIC 2024
DESCRIPTION:Electroweak Physics InterseCtions — EPIC 2024 is the first workshop dedicated to precision electroweak physics\, which is one of the main avenues to test predictions of the standard model\, extract its fundamental parameters and look for signals of physics beyond the standard model. \n\n\n\nEPIC2024 will be held in the beautiful location of Calaserena Village\, near Cagliari\, from 22nd to 27th of September 2024. \n\n\n\nScientific topics to be discussed \n\n\n\nWe identify the following topics that are at the intersection of the forefront of precision electroweak and nuclear physics: \n\n\n\n\nPrecision tests of the Standard Model and beyond with atomic nuclei\n\n\n\nLepton- and Neutrino-Nucleus interactions\n\n\n\nNuclear matter across energy scales and multi-messenger astronomy WEBSITE: https://epic2024.ca.infn.it/REGISTRATION LINK
URL:https://www.kassiopeagroup.com/evento/electroweak-physics-intersections-epic-2024/
LOCATION:Cagliari
END:VEVENT
BEGIN:VEVENT
DTSTART;TZID=Europe/Rome:20240919T130000
DTEND;TZID=Europe/Rome:20240921T140000
DTSTAMP:20260421T065903
CREATED:20240510T123055Z
LAST-MODIFIED:20240807T145738Z
UID:3259-1726750800-1726927200@www.kassiopeagroup.com
SUMMARY:Le malattie rare pediatriche - Prima edizione "Non Isoliamo le Malattie Rare"
DESCRIPTION:ISCRIVITI QUI \n\n\n\n \n\n\n\n \n\n\n\nPer qualsiasi informazione contattare: carlacarboni@kassiopeanews.com \n\n\n\n \n\n\n\nSCARICA IL SAVE THE DATE \n\n\n\nSCARICA IL PROGRAMMA SCIENTIFICO
URL:https://www.kassiopeagroup.com/evento/primo-congresso-non-isoliamo-le-malattie-rare/
LOCATION:Cagliari
END:VEVENT
BEGIN:VEVENT
DTSTART;TZID=Europe/Rome:20240919T080000
DTEND;TZID=Europe/Rome:20240920T170000
DTSTAMP:20260421T065903
CREATED:20240403T073203Z
LAST-MODIFIED:20240916T110301Z
UID:3204-1726732800-1726851600@www.kassiopeagroup.com
SUMMARY:CADAVERLAB COLOPROCTOLOGICO
DESCRIPTION:Padova \n\n\n\n\n\nclicca qui per la scheda di iscrizione  \n\n\n\nSCARICA IL PROGRAMMA SCIENTIFICO  \n\n\n\n\n\n\n\nQuote di iscrizione \n\n\n\nSpecializzandi SOCI SIUCP: 105\,00 € + IVA 22% (129\,00 € IVA INCLUSA) \n\n\n\nSpecializzandi non SOCI: 210\,00 € + IVA 22% (257\,00 € IVA INCLUSA) \n\n\n\nMedici SOCI SIUCP: 210\,00 € + IVA (257\,00 € IVA INCLUSA) \n\n\n\nMedici NON SOCI SIUCP: 420\,00 € + IVA (513\,00 € IVA INCLUSA) \n\n\n\nINFO: mariateresasotgiu@kassiopeagroup.com
URL:https://www.kassiopeagroup.com/evento/cadaverlab-coloproctologico/
LOCATION:Cagliari
END:VEVENT
BEGIN:VEVENT
DTSTART;TZID=Europe/Rome:20240917T143000
DTEND;TZID=Europe/Rome:20240920T183000
DTSTAMP:20260421T065903
CREATED:20240412T141135Z
LAST-MODIFIED:20240916T110631Z
UID:3223-1726583400-1726857000@www.kassiopeagroup.com
SUMMARY:XXV Congresso Nazionale SIPAOC
DESCRIPTION:Clicca qui per scaricare il programma \n\n\n\nSassari
URL:https://www.kassiopeagroup.com/evento/xxv-congresso-nazionale-sipaoc/
LOCATION:Cagliari
ATTACH;FMTTYPE=image/png:https://www.kassiopeagroup.com/wp-content/uploads/2024/04/1500x300.png
END:VEVENT
BEGIN:VEVENT
DTSTART;TZID=Europe/Rome:20240912T080000
DTEND;TZID=Europe/Rome:20240913T170000
DTSTAMP:20260421T065903
CREATED:20240607T142805Z
LAST-MODIFIED:20240918T113948Z
UID:3290-1726128000-1726246800@www.kassiopeagroup.com
SUMMARY:CARDIO CHALLENGES -12-13 2024
DESCRIPTION:Scarica il programma  \n\n\n\nIscriviti al congresso \n\n\n\nper maggiori informazioni scrivere a  \n\n\n\nbarbarapanico@kassiopeagroup.com
URL:https://www.kassiopeagroup.com/evento/cardio-challenges-12-13-2024/
LOCATION:HOTEL CAESAR’S – CAGLIARI
END:VEVENT
BEGIN:VEVENT
DTSTART;TZID=Europe/Rome:20240902T080000
DTEND;TZID=Europe/Rome:20240904T170000
DTSTAMP:20260421T065903
CREATED:20240201T152853Z
LAST-MODIFIED:20240312T145831Z
UID:3085-1725264000-1725469200@www.kassiopeagroup.com
SUMMARY:ILS-ELS MEETING 2024
DESCRIPTION:JOINT EVENT OF THE 13TH CONFERENCE OF THE INTERNATIONAL LEPTOSPIROSIS SOCIETY and THE 4TH MEETING OF THE EUROPEAN LEPTOSPIROSIS AND OTHER RODENT BORNE HAEMORRHAGIC FEVERS SOCIETYRegistrationsWebsiteOrganizing & Logistic Secretariat: ils-els2024@kassiopeagroup.com
URL:https://www.kassiopeagroup.com/evento/ils-els-meeting-2024/
LOCATION:Cagliari
END:VEVENT
BEGIN:VEVENT
DTSTART;TZID=Europe/Rome:20240627T080000
DTEND;TZID=Europe/Rome:20240628T190000
DTSTAMP:20260421T065903
CREATED:20240322T110437Z
LAST-MODIFIED:20240626T151220Z
UID:3173-1719475200-1719601200@www.kassiopeagroup.com
SUMMARY:Congresso Regionale SIC Sardegna
DESCRIPTION:Aula Rossa – Cittadella Universitaria di Monserrato \n\n\n\n\n\n\n\nScarica il programma del Congresso \n\n\n\nIscriviti qui
URL:https://www.kassiopeagroup.com/evento/congresso-regionale-sic-sardegna/
LOCATION:Cagliari
END:VEVENT
BEGIN:VEVENT
DTSTART;TZID=Europe/Rome:20240622T100000
DTEND;TZID=Europe/Rome:20240622T170000
DTSTAMP:20260421T065903
CREATED:20240329T114450Z
LAST-MODIFIED:20240402T082956Z
UID:3184-1719050400-1719075600@www.kassiopeagroup.com
SUMMARY:JAK Inibitori in Dermatite Atopica: Approcci innovativi ed esperienze cliniche a confronto
DESCRIPTION:ISCRIZIONI ONLINE \n\n\n\n\n\n\n\n\n\n\n\nPreliminareDownload
URL:https://www.kassiopeagroup.com/evento/jak-inibitori-in-dermatite-atopica-approcci-innovativi-ed-esperienze-cliniche-a-confronto/
LOCATION:Hotel Le Torri\, Via Sardegna\, 23\, Arborea (OR)\, 09092\, Italia
CATEGORIES:evento in home page
ORGANIZER;CN="Gianluca Sotgiu":MAILTO:gianlucasotgiu@kassiopeagroup.com
END:VEVENT
BEGIN:VEVENT
DTSTART;TZID=Europe/Rome:20240619T080000
DTEND;TZID=Europe/Rome:20240619T170000
DTSTAMP:20260421T065903
CREATED:20231221T104403Z
LAST-MODIFIED:20240119T125039Z
UID:3034-1718784000-1718816400@www.kassiopeagroup.com
SUMMARY:3rd UNICA SPORT SCIENCE INTERNATIONAL CONFERENCE 2024
DESCRIPTION:19- 21 Giugno 2021- Policlinico Universitario Monserrato\, Cagliari \n\n\n\n Iscriviti qui
URL:https://www.kassiopeagroup.com/evento/3rd-unica-sport-science-international-conference-2024/
LOCATION:Cagliari
END:VEVENT
BEGIN:VEVENT
DTSTART;TZID=Europe/Rome:20240618T170000
DTEND;TZID=Europe/Rome:20240621T130000
DTSTAMP:20260421T065903
CREATED:20240109T154051Z
LAST-MODIFIED:20240312T150453Z
UID:3039-1718730000-1718974800@www.kassiopeagroup.com
SUMMARY:Congresso SOIPA 2024
DESCRIPTION:Padova \n\n\n\n\n\nCongresso Società Italiana di Parassitologia \n\n\n\n\n\n\n\nVisita il sito ufficiale del Congresso e iscriviti
URL:https://www.kassiopeagroup.com/evento/congresso-soipa-2024/
LOCATION:Padova
END:VEVENT
BEGIN:VEVENT
DTSTART;TZID=Europe/Rome:20240614T100000
DTEND;TZID=Europe/Rome:20240614T180000
DTSTAMP:20260421T065903
CREATED:20240402T144236Z
LAST-MODIFIED:20240530T081407Z
UID:3201-1718359200-1718388000@www.kassiopeagroup.com
SUMMARY:ConfrontiamoC ancora...Insieme per eradicare l'HCV
DESCRIPTION:Oristano – Hotel Mistral 2 \n\n\n\nScarica il programma \n\n\n\nIscriviti
URL:https://www.kassiopeagroup.com/evento/confrontiamoc-ancora-insieme-per-eradicare-lhcv/
LOCATION:Cagliari
END:VEVENT
BEGIN:VEVENT
DTSTART;TZID=Europe/Rome:20240612T080000
DTEND;TZID=Europe/Rome:20240614T170000
DTSTAMP:20260421T065903
CREATED:20240119T113825Z
LAST-MODIFIED:20240119T113826Z
UID:3050-1718179200-1718384400@www.kassiopeagroup.com
SUMMARY:AMEST HUMAN-CENTRIC
DESCRIPTION:6TH IFAC INTERNATIONAL WORKSHOP ON ADVANCED MAINTENANCE ENGINEERING\, SERVICES AND TECHNOLOGY (AMEST2024)\, MAINTENANCE AND ASSET LIFECYCLE MANAGEMENT FOR SUSTAINABLE AND RESILIENT SYSTEMSWebsiteRegistrationOrganizing Secretariat: Martina Contu – kassiopeagroup@kassiopeagroup.com
URL:https://www.kassiopeagroup.com/evento/amest-human-centric/
LOCATION:Cagliari
END:VEVENT
BEGIN:VEVENT
DTSTART;TZID=Europe/Rome:20240607T140000
DTEND;TZID=Europe/Rome:20240608T130000
DTSTAMP:20260421T065903
CREATED:20240315T130239Z
LAST-MODIFIED:20240607T094822Z
UID:3143-1717768800-1717851600@www.kassiopeagroup.com
SUMMARY:Nel CUORE di… Cagliari-Il medico tra arte e scienza
DESCRIPTION:9 Febbraio 2026\n\n\nIscrizione gratuita\, è obbligatoria lapreiscrizione. \n\n\n\n https://secure.onlinecongress.it/onlinecongress/secure/form.aspx?guid=7248640675000622183032461 \n\n\n\nScarica il Programma \n\n\n\nhttps://www.kassiopeagroup.com/wp-content/uploads/2024/06/da-scaricare.pdf
URL:https://www.kassiopeagroup.com/evento/nel-cuore-di-cagliari-il-medico-tra-arte-e-scienza-3/
LOCATION:T Hotel\, Cagliari\, Via dei Giudicati\, 66\, Cagliari\, 09131\, Italia
END:VEVENT
BEGIN:VEVENT
DTSTART;TZID=Europe/Rome:20240606T080000
DTEND;TZID=Europe/Rome:20240607T170000
DTSTAMP:20260421T065903
CREATED:20231206T085010Z
LAST-MODIFIED:20250213T134714Z
UID:3010-1717660800-1717779600@www.kassiopeagroup.com
SUMMARY:VII EDIZIONE "Corso Avanzato"                  Le nuove sfide nella gestione delle MICI
DESCRIPTION:Dall’età pediatrica all’adulto – HOTEL REGINA MARGHERITA –  CAGLIARI \n\n\n\n\n\n\n\n\n\nPreliminareDownload
URL:https://www.kassiopeagroup.com/evento/vii-edizione-corso-avanzato-le-nuove-sfide-nella-gestione-delle-mici/
LOCATION:Hotel Regina Margherita – Cagliari
ORGANIZER;CN="Gianluca Sotgiu":MAILTO:gianlucasotgiu@kassiopeagroup.com
END:VEVENT
BEGIN:VEVENT
DTSTART;TZID=Europe/Rome:20240530T150000
DTEND;TZID=Europe/Rome:20240531T180000
DTSTAMP:20260421T065903
CREATED:20240507T102002Z
LAST-MODIFIED:20240507T102003Z
UID:3240-1717081200-1717178400@www.kassiopeagroup.com
SUMMARY:77° Congresso nazionale Assoenologi
DESCRIPTION:La Kassiopea Group srl fornisce servizi di supporto e logistica per il 77° congresso di Assoenologi che si svolgerà a Cagliari presso la Passeggiata Coperta.Per maggiori informazioni  \n\n\n\nhttps://www.assoenologi.it/iniziative-eventi/congressi-nazionali/77-congresso-nazionale-cagliari-2024/
URL:https://www.kassiopeagroup.com/evento/77-congresso-nazionale-assoenologi/
LOCATION:Cagliari
END:VEVENT
BEGIN:VEVENT
DTSTART;TZID=Europe/Rome:20240524T080000
DTEND;TZID=Europe/Rome:20240525T170000
DTSTAMP:20260421T065903
CREATED:20240116T110712Z
LAST-MODIFIED:20240524T085724Z
UID:3045-1716537600-1716656400@www.kassiopeagroup.com
SUMMARY:XV CONGRESSO MEDICINA DELLO SPORT CITTA’ DI CABRAS VIII MEMORIAL MARCELLO FAINA “Sport e Salute. Le nuove evidenze scientifiche
DESCRIPTION:ISCRIZIONI ONLINE \n\n\n\n\n\n\n\n\n\nProgramma DefinitivoDownload
URL:https://www.kassiopeagroup.com/evento/xv-congresso-medicina-dello-sport-citta-di-cabras-viii-memorial-marcello-faina-sport-e-salute-le-nuove-evidenze-scientifiche/
LOCATION:Cagliari
ORGANIZER;CN="Gianluca Sotgiu":MAILTO:gianlucasotgiu@kassiopeagroup.com
END:VEVENT
BEGIN:VEVENT
DTSTART;TZID=Europe/Rome:20240522T080000
DTEND;TZID=Europe/Rome:20240522T170000
DTSTAMP:20260421T065903
CREATED:20240507T122509Z
LAST-MODIFIED:20240507T122740Z
UID:3249-1716364800-1716397200@www.kassiopeagroup.com
SUMMARY:SCUOLA SIC DI ENDOCRINOCHIRURGIA 2024- Policlinico Gemelli (Roma)
DESCRIPTION:Per informazioni\, iscrizioni e elenco date vai al sito cliccando qui  \n\n\n\nDEAD-LINE ISCRIZIONI 10 MAGGIO 2024 \n\n\n\n \n\n\n\nReferenti: Antonella Murru / Martina Milia
URL:https://www.kassiopeagroup.com/evento/scuola-sic-di-endocrinochirurgia-2024/
LOCATION:Cagliari
END:VEVENT
BEGIN:VEVENT
DTSTART;TZID=Europe/Rome:20240510T140000
DTEND;TZID=Europe/Rome:20240511T083000
DTSTAMP:20260421T065903
CREATED:20240313T160301Z
LAST-MODIFIED:20240430T132515Z
UID:3141-1715349600-1715416200@www.kassiopeagroup.com
SUMMARY:Congresso Triregionale SItI SARDEGNA PIEMONTE LIGURIA - Epigenetica e prevenzione. Come l’ambiente fisico e psicologico in cui viviamo influenza l’espressione dei nostri geni.
DESCRIPTION:(Società Italiana di Igiene)Sede Congressuale: Hotel Calabona\, AlgheroCrediti ECM: 10\,5 \n\n\n\nIscrizione & Call for Abstracts: QUIScarica il Programma Scientifico  \n\n\n\nInfo: Martina Contu – kassiopeagroup@kassiopeagroup.com \n\n\n\nINFORMAZIONI IMPORTANTI PER L’ISCRIZIONEPer poter partecipare gratuitamente al Congresso\, è necessario essere in regola con la quota associativa SItI 2024. Di seguito le quote: \n\n\n\n> € 150\,00 per i non soci SItI > € 50\,00 per gli specializzandi non soci SItI  \n\n\n\nIl congresso è invece gratuito per i Soci in regola con la quota associativa SItI. \n\n\n\n \n\n\n\nLe quote associative per il 2024 sono le seguenti: \n\n\n\n– 60\,00 euro per la quota ordinaria; \n\n\n\n– 40\,00 euro per la quota juniores riservata ai nati dopo il 1° gennaio 1988\, e agli Specializzandi\, Dottorandi\, Assegnisti\, Borsisti\, Professioni Sanitarie tecniche della prevenzione\, infermieristiche\, ostetriche\, tecnico-sanitarie e riabilitative; \n\n\n\nPotrai anche iscriverti alla Società Europea di Sanità Pubblica (EUPHA) con un contributo aggiuntivo di 8\,00 euro. \n\n\n\nPer iscriversi basta compilare la scheda d’iscrizione attraverso il link ricevuto dopo aver validato l’indirizzo email tramite questo modulo. \n\n\n\nN. 100 partecipanti di tutte le professioni sanitarie:Farmacista (farmacista territoriale\, farmacista del SSN)Medico chirurgo – per le discipline:Allergologia ed immunologia clinicaAngiologiaCardiologiaDermatologia e venereologiaEmatologiaEndocrinologiaGastroenterologiaGenetica medicaGeriatriaMalattie metaboliche e diabetologiaMalattie dell’apparato respiratorioMalattie infettiveMedicina e chirurgia di accettazione e di urgenzaMedicina fisica e riabilitazioneMedicina internaMedicina termaleMedicina aeronautica e spazialeMedicina dello sportNefrologiaNeonatologiaNeurologiaNeuropsichiatria infantileOncologiaPediatriaPsichiatriaRadioterapiaReumatologiaCardiochirurgiaChirurgia generaleChirurgia maxillo-faccialeChirurgia pediatricaChirurgia plastica e ricostruttivaChirurgia toracicaChirurgia vascolareGinecologia e ostetriciaNeurochirurgiaOftalmologiaOrtopedia e traumatologiaOtorinolaringoiatriaUrologiaAnatomia patologicaAnestesia e rianimazioneBiochimica clinicaFarmacologia e tossicologia clinicaLaboratorio di genetica medicaMedicina trasfusionaleMedicina legaleMedicina nucleareMicrobiologia e virologiaNeurofisiopatologiaNeuroradiologiaPatologia clinica (laboratorio di analisi chimico-cliniche e microbiologia)RadiodiagnosticaIgiene\, epidemiologia e sanità pubblicaIgiene degli alimenti e della nutrizioneMedicina del lavoro e sicurezza degli ambienti di lavoroMedicina generale (medici di famiglia)Continuità assistenzialePediatria (pediatri di libera scelta)Scienza dell’alimentazione e dieteticaDirezione medica di presidio ospedalieroOrganizzazione dei servizi sanitari di baseAudiologia e foniatriaPsicoterapiaPrivo di specializzazioneCure palliativeEpidemiologiaMedicina di comunitàMedicina subacquea e iperbaricaOdontoiatraVeterinario (discipline: Igiene degli allevamenti e delle produzioni zootecniche\,Igiene prod.\, trasf.\, commercial.\, conserv. E tras. Alimenti di origine animale e derivati\,Sanità animale)Psicologo (Psicologia\, psicoterapia)ChimicoFisicoBiologoInfermiereInfermiere pediatricoOstetrica/oPodologoFisioterapistaLogopedistaOrtottista – Assistente di oftalmologiaTerapista della neuro e psicomotricità dell’età evolutivaTecnico riabilitazione psichiatricaTerapista occupazionaleEducatore professionaleTecnico AudiometristaTecnico Sanitario di Laboratorio BiomedicoTecnico Sanitario di Radiologia MedicaTecnico di NeurofisiopatologiaTecnico OrtopedicoTecnico AudioprotesistaTecnico della Fisiopatologia Cardiocircolatoria e Perfusione CardiovascolareIgienista DentaleDietistaTecnico della Prevenzione nell’Ambiente e nei Luoghi di LavoroAssistente Sanitario
URL:https://www.kassiopeagroup.com/evento/congresso-triregionale-siti-sardegna-piemonte-liguria-epigenetica-e-prevenzione-come-lambiente-fisico-e-psicologico-in-cui-viviamo-influenza-lespressione-dei-nostri-geni/
LOCATION:Cagliari
END:VEVENT
END:VCALENDAR