BEGIN:VCALENDAR
VERSION:2.0
PRODID:-//Kassiopea Group - ECPv6.15.18//NONSGML v1.0//EN
CALSCALE:GREGORIAN
METHOD:PUBLISH
X-WR-CALNAME:Kassiopea Group
X-ORIGINAL-URL:https://www.kassiopeagroup.com
X-WR-CALDESC:Eventi per Kassiopea Group
REFRESH-INTERVAL;VALUE=DURATION:PT1H
X-Robots-Tag:noindex
X-PUBLISHED-TTL:PT1H
BEGIN:VTIMEZONE
TZID:Europe/Rome
BEGIN:DAYLIGHT
TZOFFSETFROM:+0100
TZOFFSETTO:+0200
TZNAME:CEST
DTSTART:20220327T010000
END:DAYLIGHT
BEGIN:STANDARD
TZOFFSETFROM:+0200
TZOFFSETTO:+0100
TZNAME:CET
DTSTART:20221030T010000
END:STANDARD
BEGIN:DAYLIGHT
TZOFFSETFROM:+0100
TZOFFSETTO:+0200
TZNAME:CEST
DTSTART:20230326T010000
END:DAYLIGHT
BEGIN:STANDARD
TZOFFSETFROM:+0200
TZOFFSETTO:+0100
TZNAME:CET
DTSTART:20231029T010000
END:STANDARD
BEGIN:DAYLIGHT
TZOFFSETFROM:+0100
TZOFFSETTO:+0200
TZNAME:CEST
DTSTART:20240331T010000
END:DAYLIGHT
BEGIN:STANDARD
TZOFFSETFROM:+0200
TZOFFSETTO:+0100
TZNAME:CET
DTSTART:20241027T010000
END:STANDARD
END:VTIMEZONE
BEGIN:VEVENT
DTSTART;TZID=Europe/Rome:20230928T000000
DTEND;TZID=Europe/Rome:20230930T235959
DTSTAMP:20260422T042204
CREATED:20230713T074418Z
LAST-MODIFIED:20230919T073224Z
UID:2641-1695859200-1696118399@www.kassiopeagroup.com
SUMMARY:III CONVEGNO INTERGRUPPI SIMLA
DESCRIPTION:scarica le norme per gli abstract  \n\n\n\nclicca qui per iscriverti \n\n\n\nscarica il programma  \n\n\n\nOrdine Presentazione Comunicazioni \n\n\n\nRaccolta Comunicazioni \n\n\n\nRaccolta Poster
URL:https://www.kassiopeagroup.com/evento/iii-convegno-intergruppi-simla/
LOCATION:Hotel Flamingo Resort\, Via Flumendosa\, Santa Margherita di Pula\, Sardegna\, 09010\, Italia
ORGANIZER;CN="Alessandro Pisanu":MAILTO:alessandropisanu@kassiopeagroup.com
END:VEVENT
BEGIN:VEVENT
DTSTART;TZID=Europe/Rome:20230928T000000
DTEND;TZID=Europe/Rome:20230929T235959
DTSTAMP:20260422T042204
CREATED:20230725T130740Z
LAST-MODIFIED:20230920T081018Z
UID:2690-1695859200-1696031999@www.kassiopeagroup.com
SUMMARY:Congresso Regionale SItI Sardegna 2023 "DAL MODELLO MEDICO CLASSICO VERSO LA VISIONE ECOSISTEMICA DELLA PREVENZIONE E PROMOZIONE DELLA SALUTE NELLA PATOLOGIA ONCOLOGICA"
DESCRIPTION:(Società Italiana di Igiene Sezione Sardegna) \n\n\n\n28-29 settembre 2023\, Caesar’s Hotel\, CagliariCrediti ECM: 9\,8 (presenza delle due giornate intere)  \n\n\n\nIscrizione: Clicca QUIProgramma Scientifico: Clicca QUICall for Abstract:– Linee Guida– Abstract Form \n\n\n\nInfo: Martina Contu – kassiopeagroup@kassiopeagroup.com \n\n\n\nINFORMAZIONI IMPORTANTI PER L’ISCRIZIONEPer poter partecipare gratuitamente al Congresso\, è necessario essere in regola con la quota associativa SItI Sardegna. Di seguito le quote: \n\n\n\n> € 150\,00 per i non soci SItI Sardegna> € 25\,00 per gli specializzandi non soci SItI Sardegna \n\n\n\nIl congresso è invece gratuito per i Soci in regola con la quota associativa SItI Sardegna. \n\n\n\nLe quote associative SItI non sono state modificate per il 2023: \n\n\n\n– 60\,00 euro per la quota ordinaria; \n\n\n\n– 40\,00 euro per la quota juniores riservata ai nati dopo il 1° gennaio 1987\, e agli Specializzandi\, Dottorandi\, Assegnisti\, Borsisti\, Professioni Sanitarie tecniche della prevenzione\, infermieristiche\, ostetriche\, tecnico-sanitarie e riabilitative; \n\n\n\n– 20\,00 euro per i nati dopo il 1° gennaio 1987\, Specializzandi\, Dottorandi\, Assegnisti\, Borsisti\, Operatori delle Professioni Sanitarie tecniche della prevenzione\, infermieristiche\, ostetriche\, tecnico-sanitarie e riabilitative e Studenti non lavoratori dei Corsi di Laurea che si iscrivono per la prima volta o che si iscrivono nuovamente dopo aver perso la qualifica di socio (non iscritti nel 2021 e nel 2022). \n\n\n\nLa quota di 20\,00 euro è confermata anche per gli Specializzandi che hanno preso servizio dal 1° novembre 2022 e che si sono iscritti con la quota agevolata nell’anno 2022. \n\n\n\nPer iscriversi basta compilare il modulo d’iscrizione attraverso il link ricevuto dopo aver validato l’indirizzo email.NB: durante l’iscrizione alla SItI\, bisogna specificare che ci si sta iscrivendo alla sezione SItI Sardegna. N. 150 partecipanti di tutte le professioni sanitarie:Farmacista (farmacista territoriale\, farmacista del SSN)Medico chirurgo – per le discipline:Allergologia ed immunologia clinicaAngiologiaCardiologiaDermatologia e venereologiaEmatologiaEndocrinologiaGastroenterologiaGenetica medicaGeriatriaMalattie metaboliche e diabetologiaMalattie dell’apparato respiratorioMalattie infettiveMedicina e chirurgia di accettazione e di urgenzaMedicina fisica e riabilitazioneMedicina internaMedicina termaleMedicina aeronautica e spazialeMedicina dello sportNefrologiaNeonatologiaNeurologiaNeuropsichiatria infantileOncologiaPediatriaPsichiatriaRadioterapiaReumatologiaCardiochirurgiaChirurgia generaleChirurgia maxillo-faccialeChirurgia pediatricaChirurgia plastica e ricostruttivaChirurgia toracicaChirurgia vascolareGinecologia e ostetriciaNeurochirurgiaOftalmologiaOrtopedia e traumatologiaOtorinolaringoiatriaUrologiaAnatomia patologicaAnestesia e rianimazioneBiochimica clinicaFarmacologia e tossicologia clinicaLaboratorio di genetica medicaMedicina trasfusionaleMedicina legaleMedicina nucleareMicrobiologia e virologiaNeurofisiopatologiaNeuroradiologiaPatologia clinica (laboratorio di analisi chimico-cliniche e microbiologia)RadiodiagnosticaIgiene\, epidemiologia e sanità pubblicaIgiene degli alimenti e della nutrizioneMedicina del lavoro e sicurezza degli ambienti di lavoroMedicina generale (medici di famiglia)Continuità assistenzialePediatria (pediatri di libera scelta)Scienza dell’alimentazione e dieteticaDirezione medica di presidio ospedalieroOrganizzazione dei servizi sanitari di baseAudiologia e foniatriaPsicoterapiaPrivo di specializzazioneCure palliativeEpidemiologiaMedicina di comunitàMedicina subacquea e iperbaricaOdontoiatraVeterinario (discipline: Igiene degli allevamenti e delle produzioni zootecniche\,Igiene prod.\, trasf.\, commercial.\, conserv. E tras. Alimenti di origine animale e derivati\,Sanità animale)Psicologo (Psicologia\, psicoterapia)ChimicoFisicoBiologoInfermiereInfermiere pediatricoOstetrica/oPodologoFisioterapistaLogopedistaOrtottista – Assistente di oftalmologiaTerapista della neuro e psicomotricità dell’età evolutivaTecnico riabilitazione psichiatricaTerapista occupazionaleEducatore professionaleTecnico AudiometristaTecnico Sanitario di Laboratorio BiomedicoTecnico Sanitario di Radiologia MedicaTecnico di NeurofisiopatologiaTecnico OrtopedicoTecnico AudioprotesistaTecnico della Fisiopatologia Cardiocircolatoria e Perfusione CardiovascolareIgienista DentaleDietistaTecnico della Prevenzione nell’Ambiente e nei Luoghi di LavoroAssistente Sanitario
URL:https://www.kassiopeagroup.com/evento/congresso-regionale-siti-sardegna/
END:VEVENT
BEGIN:VEVENT
DTSTART;TZID=Europe/Rome:20230923T083000
DTEND;TZID=Europe/Rome:20230923T180000
DTSTAMP:20260422T042204
CREATED:20230405T141638Z
LAST-MODIFIED:20230830T124208Z
UID:2489-1695457800-1695492000@www.kassiopeagroup.com
SUMMARY:II EDIZIONE: S’attobiu de Casteddu
DESCRIPTION:L’ urgenza e l’emergenza in Gastroenterologia ed Endoscopia Digestiva \n\n\n\n\n\nLa registrazione online è attiva \n\n\n\n\n\n\n\n\n\n\n\nProgramma FInaleDownload
URL:https://www.kassiopeagroup.com/evento/ii-edizione-sattobiu-de-casteddu/
LOCATION:HOTEL CAESAR’S – CAGLIARI
CATEGORIES:evento in home page
ATTACH;FMTTYPE=image/jpeg:https://www.kassiopeagroup.com/wp-content/uploads/2023/04/IMG-SEM.jpg
ORGANIZER;CN="Gianluca Sotgiu":MAILTO:gianlucasotgiu@kassiopeagroup.com
END:VEVENT
BEGIN:VEVENT
DTSTART;TZID=Europe/Rome:20230922T130000
DTEND;TZID=Europe/Rome:20230923T130000
DTSTAMP:20260422T042204
CREATED:20230718T111656Z
LAST-MODIFIED:20230801T073044Z
UID:2671-1695387600-1695474000@www.kassiopeagroup.com
SUMMARY:Congresso "Malattie EredoFamiliari e Varianti Germinali in OncoEmatologia
DESCRIPTION:22/23 settembre 2023 Perugia \n\n\n\nLINK DI ISCRIZIONE AL CONGRESSO \n\n\n\nPROGRAMMA SCIENTIFICO DETTAGLIATO \n\n\n\nSEDE DEL CONGRESSO:  \n\n\n\nAula Magna – Dipartimento di Medicina e Chirurgia – Università degli Studi di Perugia \n\n\n\nResponsabile del Congresso: antonellamurru@kassiopeagroup.com
URL:https://www.kassiopeagroup.com/evento/congresso-malattie-eredofamiliari-e-varianti-germinali-in-oncoematologia/
END:VEVENT
BEGIN:VEVENT
DTSTART;TZID=Europe/Rome:20230922T090000
DTEND;TZID=Europe/Rome:20230922T180000
DTSTAMP:20260422T042204
CREATED:20230804T092813Z
LAST-MODIFIED:20230905T110230Z
UID:2762-1695373200-1695405600@www.kassiopeagroup.com
SUMMARY:ConfrontiamoC - Insieme per eradicare l'HCV
DESCRIPTION:Scarica il programma  \n\n\n\nIscriviti qui
URL:https://www.kassiopeagroup.com/evento/confrontiamoc-insieme-per-eradicare-lhcv/
LOCATION:Hotel Mistral 2\, Via XX Settembre 34\, Oristano\, 09170\, Italia
END:VEVENT
BEGIN:VEVENT
DTSTART;TZID=Europe/Rome:20230921T080000
DTEND;TZID=Europe/Rome:20230922T080000
DTSTAMP:20260422T042204
CREATED:20230725T133034Z
LAST-MODIFIED:20230919T125344Z
UID:2693-1695283200-1695369600@www.kassiopeagroup.com
SUMMARY:2° Corso Nazionale SIGO AOGOI AGUI di Videochirurgia Ginecologica
DESCRIPTION:Teatro Doglio\, Via Logudoro 32 – Cagliari \n\n\n\nClicca qui per il programma \n\n\n\nclicca qui per la scheda di iscrizione \n\n\n\nclicca qui per scaricare le norme di presentazione dei video
URL:https://www.kassiopeagroup.com/evento/2-corso-nazionale-sigo-aogoi-agui-di-videochirurgia-ginecologica/
END:VEVENT
BEGIN:VEVENT
DTSTART;TZID=Europe/Rome:20230918T000000
DTEND;TZID=Europe/Rome:20230922T235959
DTSTAMP:20260422T042204
CREATED:20230725T130416Z
LAST-MODIFIED:20230804T081730Z
UID:2687-1694995200-1695427199@www.kassiopeagroup.com
SUMMARY:The ERC TECTONIC Workshop
DESCRIPTION:Workshop on Earthquake Physics and Applications of Machine Learning to Tectonic FaultingVenue: Oratorio di Santa Maria in Campitelli\, 9 – RomeRegistration \n\n\n\nIn the registration fee is included: \n\n\n\n– full access to the Workshop– coffee break (every day of the workshop)– lunch (18/19/21 Sept)– Social Dinner on Sept. 20thOrganizing Secretariat:Martina Contukassiopeagroup@kassiopeagroup.comThe Organizing Secretariat doesn’t provide accomodation booking.
URL:https://www.kassiopeagroup.com/evento/the-erc-tectonic-workshop/
END:VEVENT
BEGIN:VEVENT
DTSTART;TZID=Europe/Rome:20230704T000000
DTEND;TZID=Europe/Rome:20230708T235959
DTSTAMP:20260422T042204
CREATED:20230621T092332Z
LAST-MODIFIED:20230621T092333Z
UID:2634-1688428800-1688860799@www.kassiopeagroup.com
SUMMARY:EGOS
DESCRIPTION:European Group for Organizational Studies\n\n\n\n\n\n\nWorkshop pre-Colloquium: 4 e 5 luglio 2023\n\n\n\nColloquium: 6-8 luglio 2023Per questo evento internazionale di enorme portata\, sono previste a Cagliari circa 2.500 persone. Tutte le attività dell’evento si terranno in diversi edifici dell’Università di Cagliari\, quali la Facoltà di Ingegneria e Architettura\, la Facoltà di Economia e la Facoltà di Lettere. Per informazioni più dettagliate\, fare clic qui.Programma
URL:https://www.kassiopeagroup.com/evento/egos/
END:VEVENT
BEGIN:VEVENT
DTSTART;TZID=Europe/Rome:20230629T140000
DTEND;TZID=Europe/Rome:20230630T133000
DTSTAMP:20260422T042204
CREATED:20230509T122521Z
LAST-MODIFIED:20230509T125826Z
UID:2574-1688047200-1688131800@www.kassiopeagroup.com
SUMMARY:Midterm -Riunione Oncoteam SICO
DESCRIPTION:Padova (Palazzo del Bo)  \n\n\n\n\n\n \n\n\n\nL’evento è riservato ai SOCI SICO in regola con la quota associativa 2023 \n\n\n\nSCARICA IL PROGRAMMA PRELIMINARE DETTAGLIATO \n\n\n\nLINK DI ISCRIZIONE  \n\n\n\nPer informazioni antonellamurru@kassiopeagroup.com; info@sicoweb.it \n\n\n\nwww.sicoweb.it
URL:https://www.kassiopeagroup.com/evento/midterm-riunione-oncoteam-sico/
END:VEVENT
BEGIN:VEVENT
DTSTART;TZID=Europe/Rome:20230629T090000
DTEND;TZID=Europe/Rome:20230630T190000
DTSTAMP:20260422T042204
CREATED:20230615T103314Z
LAST-MODIFIED:20230615T103315Z
UID:2625-1688029200-1688151600@www.kassiopeagroup.com
SUMMARY:Congresso Regionale SIC Sardegna 2023
DESCRIPTION:Iscriviti qui
URL:https://www.kassiopeagroup.com/evento/congresso-regionale-sic-sardegna-2023/
LOCATION:Sala Congressi Cittadella Universitaria di Monserrato-\, Policlinico Universitario\, Monserrato\, italia\, Italia
END:VEVENT
BEGIN:VEVENT
DTSTART;TZID=Europe/Rome:20230626T140000
DTEND;TZID=Europe/Rome:20230627T130000
DTSTAMP:20260422T042204
CREATED:20230601T131054Z
LAST-MODIFIED:20230623T145646Z
UID:2609-1687788000-1687870800@www.kassiopeagroup.com
SUMMARY:5° Workshop Avanzato in Nutrizione Neonatale e Pediatrica
DESCRIPTION:clicca qui per scaricare il programma  \n\n\n\nclicca qui per iscriverti
URL:https://www.kassiopeagroup.com/evento/5-workshop-avanzato-in-nutrizione-neonatale-e-pediatrica/
END:VEVENT
BEGIN:VEVENT
DTSTART;TZID=Europe/Rome:20230623T080000
DTEND;TZID=Europe/Rome:20230624T170000
DTSTAMP:20260422T042204
CREATED:20221220T135031Z
LAST-MODIFIED:20230616T121541Z
UID:2316-1687507200-1687626000@www.kassiopeagroup.com
SUMMARY:PROSTATE CANCER UPDATE 2023
DESCRIPTION:Corso RES\, iscrizioni gratuite sul sito https://www.congressikassiopea.it/ \n\n\n\nProgramma Scientifico – clicca qui \n\n\n\nPer iscriversi: \n\n\n\n\nregistrarsi sul sito https://www.congressikassiopea.it/\n\n\n\nconservare i dati di accesso (email e password) perchè serviranno successivamente al corso per accedere alla piattaforma ed effettuare il test ECM online\n\n\n\nconfermare la registrazione al sito tramite la mail automatica ricevuta (verificare anche nella posta indesiderata)\n\n\n\nselezionare il corso di interesse e iscriversi allo stesso. La conferma di iscrizione al corso viene inviata alla email usata per registrarsi.
URL:https://www.kassiopeagroup.com/evento/prostate-cancer-update-2023/
LOCATION:Aula ATZA -ARNAS G.Brotzu (Piazzale Ricchi 1\, Selargius)\, Piazzale Ricchi 1\, Selargius
ORGANIZER;CN="Luisa Serra":MAILTO:luisaserra@kassiopeanews.com
END:VEVENT
BEGIN:VEVENT
DTSTART;TZID=Europe/Rome:20230617T090000
DTEND;TZID=Europe/Rome:20230617T140000
DTSTAMP:20260422T042204
CREATED:20230502T122850Z
LAST-MODIFIED:20230510T081324Z
UID:2546-1686992400-1687010400@www.kassiopeagroup.com
SUMMARY:LA SINERGIA FRA OSPEDALE E TERRITORIO PER UN PERCORSO INTEGRATO NELLA GESTIONE DEL PAZIENTE CON TVP - Genova
DESCRIPTION:Info: kassiopeagroup@kassiopeagroup.comL’iscrizione al Congresso è gratuita e prevede l’accreditamento di 4 crediti ECM. \n\n\n\nISCRIVITISede Congressuale: Novotel Genova City\, Via Antonio Cantore\, 8\, 16149 Genova GE
URL:https://www.kassiopeagroup.com/evento/la-sinergia-fra-ospedale-e-territorio-per-un-percorso-integrato-nella-gestione-del-paziente-con-tvp-genova/
END:VEVENT
BEGIN:VEVENT
DTSTART;TZID=Europe/Rome:20230608T043000
DTEND;TZID=Europe/Rome:20230610T010000
DTSTAMP:20260422T042204
CREATED:20230509T073449Z
LAST-MODIFIED:20230524T100104Z
UID:2510-1686198600-1686358800@www.kassiopeagroup.com
SUMMARY:Nel CUORE di... Cagliari Il medico tra arte e scienza
DESCRIPTION:Clicca qui per scaricare il programmaClicca qui per la scheda di iscrizione
URL:https://www.kassiopeagroup.com/evento/nel-cuore-di-cagliari-il-medico-tra-arte-e-scienza-2/
LOCATION:T Hotel\, Cagliari\, Via dei Giudicati\, 66\, Cagliari\, 09131\, Italia
END:VEVENT
BEGIN:VEVENT
DTSTART;TZID=Europe/Rome:20230527T090000
DTEND;TZID=Europe/Rome:20230527T140000
DTSTAMP:20260422T042204
CREATED:20230502T122714Z
LAST-MODIFIED:20230510T081217Z
UID:2543-1685178000-1685196000@www.kassiopeagroup.com
SUMMARY:LA SINERGIA FRA OSPEDALE E TERRITORIO PER UN PERCORSO INTEGRATO NELLA GESTIONE DEL PAZIENTE CON TVP - Cagliari
DESCRIPTION:Info: kassiopeagroup@kassiopeagroup.comL’iscrizione al Congresso è gratuita e prevede l’accreditamento di 4 crediti ECM.ISCRIVITISede Congressuale: Sala Meeting Kassiopea Group; Via San Tommaso d’Aquino 20\, 09134 (Cagliari)
URL:https://www.kassiopeagroup.com/evento/la-sinergia-fra-ospedale-e-territorio-per-un-percorso-integrato-nella-gestione-del-paziente-con-tvp-cagliari/
END:VEVENT
BEGIN:VEVENT
DTSTART;TZID=Europe/Rome:20230526T080000
DTEND;TZID=Europe/Rome:20230527T170000
DTSTAMP:20260422T042204
CREATED:20230321T134652Z
LAST-MODIFIED:20240116T110644Z
UID:2426-1685088000-1685206800@www.kassiopeagroup.com
SUMMARY:XIV CONGRESSO MEDICINA DELLO SPORT CITTA’ DI CABRAS VII MEMORIAL MARCELLO FAINA “Il Ruolo dell’Esercizio Fisico e dello Sport nella prevenzione e cura”
DESCRIPTION:PER INFORMAZIONI Alessandro Pisanualessandropisanu@kassiopeagroup.com \n\n\n\n     \n\n\n\n\n\nISCRIZIONI ONLINE \n\n\n\n\n\n\n\n\n\nProgramma DefinitivoDownload
URL:https://www.kassiopeagroup.com/evento/xiv-congresso-medicina-dello-sport-citta-di-cabras-vii-memorial-marcello-faina-il-ruolo-dellesercizio-fisico-e-dello-sport-nella-prevenzione-e-cura/
LOCATION:Sala Convegni Centro Polivalente Via Tharros – CABRAS (OR)
CATEGORIES:evento in home page
ATTACH;FMTTYPE=image/jpeg:https://www.kassiopeagroup.com/wp-content/uploads/2023/03/Logo-1.jpg
END:VEVENT
BEGIN:VEVENT
DTSTART;TZID=Europe/Rome:20230525T133000
DTEND;TZID=Europe/Rome:20230525T183000
DTSTAMP:20260422T042204
CREATED:20230327T080722Z
LAST-MODIFIED:20230504T141552Z
UID:2476-1685021400-1685039400@www.kassiopeagroup.com
SUMMARY:UP TO DATE IN PRONTO SOCCORSO
DESCRIPTION:Genova\, Castello Simon Boccanegra – Salone dei Dogi \n\n\n\nClicca qui per scaricare il programma \n\n\n\nclicca qui per compilare la scheda di iscrizione
URL:https://www.kassiopeagroup.com/evento/up-to-date-in-pronto-soccorso/
END:VEVENT
BEGIN:VEVENT
DTSTART;TZID=Europe/Rome:20230525T103000
DTEND;TZID=Europe/Rome:20230526T170000
DTSTAMP:20260422T042204
CREATED:20230131T125505Z
LAST-MODIFIED:20230406T105048Z
UID:2355-1685010600-1685120400@www.kassiopeagroup.com
SUMMARY:VI Edizione "LE NUOVE SFIDE NELLA GESTIONE DELLE MICI:DALL’ETÀ PEDIATRICA ALL’ADULTO" - Corso Avanzato
DESCRIPTION:Congresso Residenziale \n\n\n\nE’ PRESENTE IL PROGRAMMA DEFINITIVO \n\n\n\n\n\n\n\n\n\n\n\nProgrammaDownload
URL:https://www.kassiopeagroup.com/evento/vi-edizione-le-nuove-sfide-nella-gestione-delle-micidalleta-pediatrica-alladulto-corso-avanzato/
LOCATION:Sala Comunale “Edmondo De Amicis”\, Via XX Settembre \, 48\, CARLOFORTE\, 09014\, Italia
CATEGORIES:evento in home page
ATTACH;FMTTYPE=image/jpeg:https://www.kassiopeagroup.com/wp-content/uploads/2023/01/Logo-web.jpg
ORGANIZER;CN="Gianluca Sotgiu":MAILTO:gianlucasotgiu@kassiopeagroup.com
END:VEVENT
BEGIN:VEVENT
DTSTART;TZID=Europe/Rome:20230512T143000
DTEND;TZID=Europe/Rome:20230512T183000
DTSTAMP:20260422T042204
CREATED:20230302T120144Z
LAST-MODIFIED:20230313T102114Z
UID:2419-1683901800-1683916200@www.kassiopeagroup.com
SUMMARY:Corso Update in Vaginal Health
DESCRIPTION:Dal microbiota alla prevenzione\, dall’informazione alla formazione \n\n\n\nHotel Regina Margherita\, Cagliari \n\n\n\n\n\nProgramma del Corso \n\n\n\nCorso RES\, iscrizioni gratuite sul sito https://www.congressikassiopea.it/ \n\n\n\nPer iscriversi: \n\n\n\n\nregistrarsi sul sito https://www.congressikassiopea.it/\n\n\n\nconfermare la registrazione al sito tramite la mail automatica ricevuta (verificare anche nella posta indesiderata)\n\n\n\nselezionare il corso di interesse e iscriversi allo stesso. La conferma di iscrizione al corso viene inviata alla email usata per registrarsi.
URL:https://www.kassiopeagroup.com/evento/corso-update-in-vaginal-health/
ORGANIZER;CN="Luisa Serra":MAILTO:luisaserra@kassiopeanews.com
END:VEVENT
BEGIN:VEVENT
DTSTART;TZID=Europe/Rome:20230508T080000
DTEND;TZID=Europe/Rome:20230512T170000
DTSTAMP:20260422T042204
CREATED:20230421T103730Z
LAST-MODIFIED:20230421T103731Z
UID:2532-1683532800-1683910800@www.kassiopeagroup.com
SUMMARY:XIII ET Symposium
DESCRIPTION:
URL:https://www.kassiopeagroup.com/evento/xiii-et-symposium/
LOCATION:Cagliari (Thotel)
ORGANIZER;CN="Luisa Serra":MAILTO:luisaserra@kassiopeanews.com
END:VEVENT
BEGIN:VEVENT
DTSTART;TZID=Europe/Rome:20230415T100000
DTEND;TZID=Europe/Rome:20230415T153000
DTSTAMP:20260422T042204
CREATED:20230306T152324Z
LAST-MODIFIED:20230309T084910Z
UID:2434-1681552800-1681572600@www.kassiopeagroup.com
SUMMARY:Parlando di tumori neuroendocrini\, una mattina in Valtellina
DESCRIPTION:L’evento si pone l’obbiettivo di approfondire alcuni temi importanti nella gestione del paziente con tumore neuroendocrino\, condividendo alcuni casi clinici e cercando di conoscere quali possono essere le novità mediante una discussione con tutti ali specialisti coinvolti nella gestione di questa patologia.La multidisciplinarietà\, la condivisione di percorsi diagnostico-terapeutici porta sicuramente ad un miglioramento della pratica clinica e delle conoscenze su tale patologia\, rara e di non sempre facile gestione. \n\n\n\n\nScarica qui il programma \nClicca qui per iscriverti all’evento
URL:https://www.kassiopeagroup.com/evento/parlando-di-tumori-neuroendocrini-una-mattina-in-valtellina/
LOCATION:Ospedale Moriggia Pelascini – Via Moriggia Pelascini\, 3\, 22015 Gravedona CO\, Via Moriggia Pelascini\, 3\,\, Gravedona\, Como\, 22015\, Italia
END:VEVENT
BEGIN:VEVENT
DTSTART;TZID=Europe/Rome:20230329T080000
DTEND;TZID=Europe/Rome:20230331T170000
DTSTAMP:20260422T042204
CREATED:20230302T115517Z
LAST-MODIFIED:20230302T115518Z
UID:2417-1680076800-1680282000@www.kassiopeagroup.com
SUMMARY:FEAR Annual Meeting
DESCRIPTION:Meeting internazionale Istituto Nazionale di Geofisica e Vulcanologia
URL:https://www.kassiopeagroup.com/evento/fear-annual-meeting/
END:VEVENT
BEGIN:VEVENT
DTSTART;TZID=Europe/Rome:20230325T080000
DTEND;TZID=Europe/Rome:20230325T140000
DTSTAMP:20260422T042204
CREATED:20221212T120411Z
LAST-MODIFIED:20230322T105954Z
UID:2299-1679731200-1679752800@www.kassiopeagroup.com
SUMMARY:FAD - 3a GIORNATA MEDICINA DELLO SPORT
DESCRIPTION:PROGRAMMA SCIENTIFICO DETTAGLIATO \n\n\n\nLINK ISCRIZIONE \n\n\n\nPer maggiori informazioni: antonellamurru@kassiopeagroup.com
URL:https://www.kassiopeagroup.com/evento/fad-3-giornata-medicina-dello-sport/
END:VEVENT
BEGIN:VEVENT
DTSTART;TZID=Europe/Rome:20230316T090000
DTEND;TZID=Europe/Rome:20230317T130000
DTSTAMP:20260422T042204
CREATED:20221212T120203Z
LAST-MODIFIED:20230314T130618Z
UID:2296-1678957200-1679058000@www.kassiopeagroup.com
SUMMARY:Congresso “Looking for Chancing Horizon in Locally Advanced Gastric Cancer”
DESCRIPTION:Perugia (Hotel Giò) \n\n\n\n\n\nPROGRAMMA SCIENTIFICO \n\n\n\nLINK DI ISCRIZIONE AL CONGRESSO \n\n\n\nLe iscrizioni al Congresso sono chiuse \n\n\n\nLa registrazione alla piattaforma delle iscrizione on- line Kassiopea Group va eseguita solo la prima volta ed è indispensabile per poter procedere con l’iscrizione al Congresso. \n\n\n\nPer informazioni: antonellamurru@kassiopeagroup.com
URL:https://www.kassiopeagroup.com/evento/congresso-looking-for-chancing-horizon-in-locally-advanced-gastric-cancer/
END:VEVENT
BEGIN:VEVENT
DTSTART;TZID=Europe/Rome:20230303T080000
DTEND;TZID=Europe/Rome:20230303T170000
DTSTAMP:20260422T042204
CREATED:20230203T132645Z
LAST-MODIFIED:20230302T110426Z
UID:2376-1677830400-1677862800@www.kassiopeagroup.com
SUMMARY:Hot Topics in Oncology
DESCRIPTION:Info: kassiopeagroup@kassiopeagroup.comL’iscrizione al Congresso è gratuita e prevede l’accreditamento di 4 crediti ECM.n. 100 partecipanti tra le seguenti professioni: – Medico Chirurgo (solo per le discipline: Dermatologia e venereologia\, Endocrinologia\, Gastroenterologia\, Medicina Interna\, Oncologia\, radioterapia\, chirurgia generale\, Chirurgia plastica e ricostruttiva\, ginecologia e ostetricia\, neurochirurgia\, otorinolaringoiatria\, anatomia patologica\, anestesia e rianimazione\, medicina nucleare\, radiodiagnostica\, cure palliative); – Infermiere. \n\n\n\nSede congressuale: Centro di Spiritualità “Nostra Signora del Rimedio” (Oristano)09170 Donigala Fenughedu ORISCRIZIONIPROGRAMMA
URL:https://www.kassiopeagroup.com/evento/hot-topics-in-oncology/
END:VEVENT
BEGIN:VEVENT
DTSTART;TZID=Europe/Rome:20230225T143000
DTEND;TZID=Europe/Rome:20230225T183000
DTSTAMP:20260422T042204
CREATED:20230202T090603Z
LAST-MODIFIED:20230216T133225Z
UID:2367-1677335400-1677349800@www.kassiopeagroup.com
SUMMARY:CARDIONURSING ANMCO SARDEGNA 2023 “VIAGGIO DEL CUORE”
DESCRIPTION:Clicca qui per la scheda di iscrizione  \n\n\n\nClicca qui per il programma  (a pagina 9 della brochure)
URL:https://www.kassiopeagroup.com/evento/cardionursing-anmco-sardegna-2023-viaggio-del-cuore/
LOCATION:T Hotel\, Via dei Giudicati 66\, Cagliari\, Italy\, 09131
END:VEVENT
BEGIN:VEVENT
DTSTART;TZID=Europe/Rome:20230224T090000
DTEND;TZID=Europe/Rome:20230225T140000
DTSTAMP:20260422T042204
CREATED:20221214T113429Z
LAST-MODIFIED:20230216T133310Z
UID:2307-1677229200-1677333600@www.kassiopeagroup.com
SUMMARY:CONGRESSO REGIONALE ANMCO  SARDEGNA 2023 - “Dove ci porta il cuore”
DESCRIPTION:Scheda di iscrizione Congresso Regionale ANMCO Sardegna 2023 (accreditato ECM per Medici) \n\n\n\n \n\n\n\nClicca qui per scaricare il programma
URL:https://www.kassiopeagroup.com/evento/congresso-regionale-anmco-sardegna-2023-dove-ci-porta-il-cuore/
LOCATION:T Hotel\, Cagliari\, Via dei Giudicati\, 66\, Cagliari\, 09131\, Italia
END:VEVENT
BEGIN:VEVENT
DTSTART;TZID=Europe/Rome:20230224T000000
DTEND;TZID=Europe/Rome:20230224T235959
DTSTAMP:20260422T042204
CREATED:20230222T181945Z
LAST-MODIFIED:20230222T181945Z
UID:2405-1677196800-1677283199@www.kassiopeagroup.com
SUMMARY:DONNE - SCIENZA E INNOVAZIONE Per una Sardegna Competitiva
DESCRIPTION:“Donne\, scienza e innovazione per una Sardegna competitiva” è il tema del convegno organizzato dalla Commissione Regionale per le Pari Opportunità insieme a Sardegna Ricerche e in collaborazione con il CRS4 (Centro di Ricerca\, Sviluppo e Studi Superiori in Sardegna) e le due Università degli Studi di Cagliari e Sassari\, in programma il prossimo venerdì 24 febbraio\, alle ore 9:00\, nel Parco Scientifico e Tecnologico della Sardegna a Pula (CA). \n\n\n\nL’evento si articola in due momenti: uno di conoscenza e approfondimento e un tavolo tecnico di discussione dedicato agli strumenti e alle prospettive della ricerca scientifica per il futuro. Un’occasione per approfondire il ruolo della ricerca in Sardegna e le opportunità delle materie STEM come percorso di studio e ricerca per le giovani donne e far conoscere alcune eccellenze sarde nella ricerca e nella tecnologia.LOCANDINA WEBPROGRAMMAFonte: https://www.sardegnaricerche.it/index.php?xsl=370&s=446655&v=2&c=3169&nc=1&sc=&qr=1&qp=2&vd=2&t=3&sb=1
URL:https://www.kassiopeagroup.com/evento/donne-scienza-e-innovazione-per-una-sardegna-competitiva/
END:VEVENT
BEGIN:VEVENT
DTSTART;TZID=Europe/Rome:20230222T080000
DTEND;TZID=Europe/Rome:20230224T170000
DTSTAMP:20260422T042204
CREATED:20221123T154521Z
LAST-MODIFIED:20221222T120416Z
UID:2275-1677052800-1677258000@www.kassiopeagroup.com
SUMMARY:XXIV Congresso Nazionale della Società Italiana di Patologia e Allevamento degli Ovini e Caprini (S.I.P.A.O.C)
DESCRIPTION:Il Congresso si svolgerà presso l’Università della Tuscia\, Viterbo. \n\n\n\nISCRIZIONI \n\n\n\nSCARICA IL PROGRAMMA \n\n\n\nEmail sipaoc2023@kassiopeagroup.com
URL:https://www.kassiopeagroup.com/evento/xxiv-congresso-nazionale-della-societa-italiana-di-patologia-e-allevamento-degli-ovini-e-caprini-s-i-p-a-o-c/
LOCATION:Università della Tuscia\, Viterbo
END:VEVENT
BEGIN:VEVENT
DTSTART;TZID=Europe/Rome:20230203T080000
DTEND;TZID=Europe/Rome:20230203T170000
DTSTAMP:20260422T042204
CREATED:20221110T130508Z
LAST-MODIFIED:20230131T103833Z
UID:2250-1675411200-1675443600@www.kassiopeagroup.com
SUMMARY:STRESS URINARY INCONTINENCE:
DESCRIPTION:WHAT CAN I DO ? BULKING AGENTS URETHRAL INJECTION ( LIVE SURGERY ) \n\n\n\nMestre (Ospedale Villa Salus) \n\n\n\n\n\nPROGRAMMA SCIENTIFICO DETTAGLIATO \n\n\n\nISCRIZIONI CHIUSE \n\n\n\nPer informazioni contattare: antonellamurru@kassiopea
URL:https://www.kassiopeagroup.com/evento/stress-urinary-incontinence/
END:VEVENT
END:VCALENDAR