BEGIN:VCALENDAR
VERSION:2.0
PRODID:-//Kassiopea Group - ECPv6.15.18//NONSGML v1.0//EN
CALSCALE:GREGORIAN
METHOD:PUBLISH
X-WR-CALNAME:Kassiopea Group
X-ORIGINAL-URL:https://www.kassiopeagroup.com
X-WR-CALDESC:Eventi per Kassiopea Group
REFRESH-INTERVAL;VALUE=DURATION:PT1H
X-Robots-Tag:noindex
X-PUBLISHED-TTL:PT1H
BEGIN:VTIMEZONE
TZID:Europe/Rome
BEGIN:DAYLIGHT
TZOFFSETFROM:+0100
TZOFFSETTO:+0200
TZNAME:CEST
DTSTART:20220327T010000
END:DAYLIGHT
BEGIN:STANDARD
TZOFFSETFROM:+0200
TZOFFSETTO:+0100
TZNAME:CET
DTSTART:20221030T010000
END:STANDARD
BEGIN:DAYLIGHT
TZOFFSETFROM:+0100
TZOFFSETTO:+0200
TZNAME:CEST
DTSTART:20230326T010000
END:DAYLIGHT
BEGIN:STANDARD
TZOFFSETFROM:+0200
TZOFFSETTO:+0100
TZNAME:CET
DTSTART:20231029T010000
END:STANDARD
BEGIN:DAYLIGHT
TZOFFSETFROM:+0100
TZOFFSETTO:+0200
TZNAME:CEST
DTSTART:20240331T010000
END:DAYLIGHT
BEGIN:STANDARD
TZOFFSETFROM:+0200
TZOFFSETTO:+0100
TZNAME:CET
DTSTART:20241027T010000
END:STANDARD
BEGIN:DAYLIGHT
TZOFFSETFROM:+0100
TZOFFSETTO:+0200
TZNAME:CEST
DTSTART:20250330T010000
END:DAYLIGHT
BEGIN:STANDARD
TZOFFSETFROM:+0200
TZOFFSETTO:+0100
TZNAME:CET
DTSTART:20251026T010000
END:STANDARD
END:VTIMEZONE
BEGIN:VEVENT
DTSTART;TZID=Europe/Rome:20240218T093000
DTEND;TZID=Europe/Rome:20240218T130000
DTSTAMP:20260421T173110
CREATED:20240201T152551Z
LAST-MODIFIED:20240213T082220Z
UID:3075-1708248600-1708261200@www.kassiopeagroup.com
SUMMARY:CardioWalking 2024
DESCRIPTION:L’ evento CardioWalking 2024\, è dedicato alla diffusione e sensibilizzazione dei cittadini di ogni fascia d’età circa l’importanza dell’ attività fisica per ridurre l’incidenza di patologie cardiovascolari e favorire la prevenzione di esse \n\n\n\nClicca qui per vedere il programma  \n\n\n\nIscriviti qui
URL:https://www.kassiopeagroup.com/evento/cardiowalking-2024/
LOCATION:Arena di Marina Piccola
END:VEVENT
BEGIN:VEVENT
DTSTART;TZID=Europe/Rome:20240127T080000
DTEND;TZID=Europe/Rome:20240127T140000
DTSTAMP:20260421T173110
CREATED:20231111T090843Z
LAST-MODIFIED:20231111T091304Z
UID:2980-1706342400-1706364000@www.kassiopeagroup.com
SUMMARY:V°  GIORNATA SARDA DI MEDICINA DELLO SPORT- Webinar
DESCRIPTION:SCARICA IL PROGRAMMA \n\n\n\nLINK DI ISCRIZIONE  \n\n\n\nPer informazioni: antonellamurru@kassiopeagroup.com
URL:https://www.kassiopeagroup.com/evento/v-giornata-sarda-di-medicina-dello-sport/
END:VEVENT
BEGIN:VEVENT
DTSTART;TZID=Europe/Rome:20231231T080000
DTEND;TZID=Europe/Rome:20231231T170000
DTSTAMP:20260421T173110
CREATED:20230918T074136Z
LAST-MODIFIED:20230918T074137Z
UID:2830-1704009600-1704042000@www.kassiopeagroup.com
SUMMARY:“La corretta gestione delle autoanalisi in Farmacia: il controllo di qualità analitico e la Verifica Esterna di Qualità”
DESCRIPTION:FAD ASICRONA APERTA FINO AL 31.12.2023  \n\n\n\nCorso gratuito rivolto a Farmacisti. \n\n\n\n10 crediti ECM \n\n\n\nscarica il programma
URL:https://www.kassiopeagroup.com/evento/la-corretta-gestione-delle-autoanalisi-in-farmacia-il-controllo-di-qualita-analitico-e-la-verifica-esterna-di-qualita-2/
END:VEVENT
BEGIN:VEVENT
DTSTART;TZID=Europe/Rome:20231216T090000
DTEND;TZID=Europe/Rome:20231216T190000
DTSTAMP:20260421T173110
CREATED:20230918T122521Z
LAST-MODIFIED:20231212T103747Z
UID:2839-1702717200-1702753200@www.kassiopeagroup.com
SUMMARY:Congresso Regionale SIDeMAST-ADOI "Luci e Ombre: la parola agli esperti"
DESCRIPTION:Teatro Doglio\, Via Logudoro 32 Cagliari \n\n\n\n\n\nper iscriversi cliccare qui  \n\n\n\nper scaricare il programma cliccare qui
URL:https://www.kassiopeagroup.com/evento/congresso-regionale-sidemast-adoi-luci-e-ombre-la-parola-agli-esperti/
END:VEVENT
BEGIN:VEVENT
DTSTART;TZID=Europe/Rome:20231215T150000
DTEND;TZID=Europe/Rome:20231215T190000
DTSTAMP:20260421T173110
CREATED:20231109T082622Z
LAST-MODIFIED:20231212T103814Z
UID:2969-1702652400-1702666800@www.kassiopeagroup.com
SUMMARY:2° Contest in dermatologia sarda "Giuseppe Pinetti"
DESCRIPTION:Cagliari\, Teatro Doglio – via Logudoro 32  \n\n\n\nper iscriversi cliccare qui \n\n\n\nper scaricare il programma cliccare qui
URL:https://www.kassiopeagroup.com/evento/2-contest-in-dermatologia-sarda-giuseppe-pinetti/
END:VEVENT
BEGIN:VEVENT
DTSTART;TZID=Europe/Rome:20231215T080000
DTEND;TZID=Europe/Rome:20231216T170000
DTSTAMP:20260421T173110
CREATED:20230908T125519Z
LAST-MODIFIED:20231013T132147Z
UID:2816-1702627200-1702746000@www.kassiopeagroup.com
SUMMARY:XVII Edizione : Panpneuma 2023 : pneumologia e dintorni
DESCRIPTION:Iscrizioni online \n\n\n\n\n\n\n\n\n\n\n\n\n\nProgramma
URL:https://www.kassiopeagroup.com/evento/xvii-edizione-panpneuma-2023-pneumologia-e-dintorni/
LOCATION:HOTEL CAESAR’S – CAGLIARI
ORGANIZER;CN="Gianluca Sotgiu":MAILTO:gianlucasotgiu@kassiopeagroup.com
END:VEVENT
BEGIN:VEVENT
DTSTART;TZID=Europe/Rome:20231202T083000
DTEND;TZID=Europe/Rome:20231202T133000
DTSTAMP:20260421T173110
CREATED:20231005T130159Z
LAST-MODIFIED:20231009T080007Z
UID:2890-1701505800-1701523800@www.kassiopeagroup.com
SUMMARY:IL SOGNO: ENIGMA E STRUMENTO CLINICO
DESCRIPTION:Incontro con Vittorio Lingiardi \n\n\n\n\n\nincontro accreditato ECM – 5 crediti \n\n\n\naccreditato per Medici (Psichiatria\, neurologia); Psicologi (psicologia\, psicoterapia) \n\n\n\nla partecipazione prevede il pagamento di una quota di iscrizione. \n\n\n\nper effettuare l’iscrizione clicca qui \n\n\n\nscarica la locandina
URL:https://www.kassiopeagroup.com/evento/il-sogno-enigma-e-strumento-clinico/
END:VEVENT
BEGIN:VEVENT
DTSTART;TZID=Europe/Rome:20231125T083000
DTEND;TZID=Europe/Rome:20231125T130000
DTSTAMP:20260421T173110
CREATED:20231109T151315Z
LAST-MODIFIED:20231109T151316Z
UID:2961-1700901000-1700917200@www.kassiopeagroup.com
SUMMARY:LA PREVENZIONE VACCINALE DEI SOGGETTI ADULTI FRAGILI O IMMUNOCOMPROMESSI\, LA NUOVA PRIORITÀ. "PROPOSTE OPERATIVE PER LA VACCINAZIONE DEI SOGGETTI ADULTI FRAGILI/IMMUNOCOMPROMESSI"
DESCRIPTION:(Società Italiana di Igiene Sezione Sardegna) \n\n\n\nData dell’evento: 25 novembre 2023Sede: Sala Lilliu – Biblioteca Metropolitana “Emilio Lussu”\, Parco Di Monte Claro \n\n\n\nIndirizzo: Via Saverio Mattei\, snc\, 09121 Cagliari CACrediti ECM: 5\,2  \n\n\n\nIscrizione: Clicca QUIProgramma Scientifico: Clicca QUI \n\n\n\nInfo: Martina Contu – kassiopeagroup@kassiopeagroup.com \n\n\n\nINFORMAZIONI IMPORTANTI PER L’ISCRIZIONEPer poter partecipare gratuitamente al Congresso\, è necessario essere in regola con la quota associativa SItI Sardegna. Di seguito le quote: \n\n\n\n> € 80\,00 per i non soci SItI Sardegna> € 30\,00 per gli specializzandi non soci SItI Sardegna \n\n\n\nIl congresso è invece gratuito per i Soci in regola con la quota associativa SItI Sardegna. \n\n\n\nLe quote associative SItI non sono state modificate per il 2023: \n\n\n\n– 60\,00 euro per la quota ordinaria; \n\n\n\n– 40\,00 euro per la quota juniores riservata ai nati dopo il 1° gennaio 1987\, e agli Specializzandi\, Dottorandi\, Assegnisti\, Borsisti\, Professioni Sanitarie tecniche della prevenzione\, infermieristiche\, ostetriche\, tecnico-sanitarie e riabilitative; \n\n\n\n– 20\,00 euro per i nati dopo il 1° gennaio 1987\, Specializzandi\, Dottorandi\, Assegnisti\, Borsisti\, Operatori delle Professioni Sanitarie tecniche della prevenzione\, infermieristiche\, ostetriche\, tecnico-sanitarie e riabilitative e Studenti non lavoratori dei Corsi di Laurea che si iscrivono per la prima volta o che si iscrivono nuovamente dopo aver perso la qualifica di socio (non iscritti nel 2021 e nel 2022). \n\n\n\nLa quota di 20\,00 euro è confermata anche per gli Specializzandi che hanno preso servizio dal 1° novembre 2022 e che si sono iscritti con la quota agevolata nell’anno 2022. \n\n\n\nPer iscriversi basta compilare il modulo d’iscrizione attraverso il link ricevuto dopo aver validato l’indirizzo email.NB: durante l’iscrizione alla SItI\, bisogna specificare che ci si sta iscrivendo alla sezione SItI Sardegna. N. 70 partecipanti di tutte le professioni sanitarie:Farmacista (farmacista territoriale\, farmacista del SSN)Medico chirurgo – per le discipline:Allergologia ed immunologia clinicaAngiologiaCardiologiaDermatologia e venereologiaEmatologiaEndocrinologiaGastroenterologiaGenetica medicaGeriatriaMalattie metaboliche e diabetologiaMalattie dell’apparato respiratorioMalattie infettiveMedicina e chirurgia di accettazione e di urgenzaMedicina fisica e riabilitazioneMedicina internaMedicina termaleMedicina aeronautica e spazialeMedicina dello sportNefrologiaNeonatologiaNeurologiaNeuropsichiatria infantileOncologiaPediatriaPsichiatriaRadioterapiaReumatologiaCardiochirurgiaChirurgia generaleChirurgia maxillo-faccialeChirurgia pediatricaChirurgia plastica e ricostruttivaChirurgia toracicaChirurgia vascolareGinecologia e ostetriciaNeurochirurgiaOftalmologiaOrtopedia e traumatologiaOtorinolaringoiatriaUrologiaAnatomia patologicaAnestesia e rianimazioneBiochimica clinicaFarmacologia e tossicologia clinicaLaboratorio di genetica medicaMedicina trasfusionaleMedicina legaleMedicina nucleareMicrobiologia e virologiaNeurofisiopatologiaNeuroradiologiaPatologia clinica (laboratorio di analisi chimico-cliniche e microbiologia)RadiodiagnosticaIgiene\, epidemiologia e sanità pubblicaIgiene degli alimenti e della nutrizioneMedicina del lavoro e sicurezza degli ambienti di lavoroMedicina generale (medici di famiglia)Continuità assistenzialePediatria (pediatri di libera scelta)Scienza dell’alimentazione e dieteticaDirezione medica di presidio ospedalieroOrganizzazione dei servizi sanitari di baseAudiologia e foniatriaPsicoterapiaPrivo di specializzazioneCure palliativeEpidemiologiaMedicina di comunitàMedicina subacquea e iperbaricaOdontoiatraVeterinario (discipline: Igiene degli allevamenti e delle produzioni zootecniche\,Igiene prod.\, trasf.\, commercial.\, conserv. E tras. Alimenti di origine animale e derivati\,Sanità animale)Psicologo (Psicologia\, psicoterapia)ChimicoFisicoBiologoInfermiereInfermiere pediatricoOstetrica/oPodologoFisioterapistaLogopedistaOrtottista – Assistente di oftalmologiaTerapista della neuro e psicomotricità dell’età evolutivaTecnico riabilitazione psichiatricaTerapista occupazionaleEducatore professionaleTecnico AudiometristaTecnico Sanitario di Laboratorio BiomedicoTecnico Sanitario di Radiologia MedicaTecnico di NeurofisiopatologiaTecnico OrtopedicoTecnico AudioprotesistaTecnico della Fisiopatologia Cardiocircolatoria e Perfusione CardiovascolareIgienista DentaleDietistaTecnico della Prevenzione nell’Ambiente e nei Luoghi di LavoroAssistente Sanitario
URL:https://www.kassiopeagroup.com/evento/la-prevenzione-vaccinale-dei-soggetti-adulti-fragili-o-immunocompromessi-la-nuova-priorita-proposte-operative-per-la-vaccinazione-dei-soggetti-adulti-fragili-immunocompromessi/
END:VEVENT
BEGIN:VEVENT
DTSTART;TZID=Europe/Rome:20231117T140000
DTEND;TZID=Europe/Rome:20231118T130000
DTSTAMP:20260421T173110
CREATED:20231024T123910Z
LAST-MODIFIED:20231113T155426Z
UID:2944-1700229600-1700312400@www.kassiopeagroup.com
SUMMARY:XIII Congresso Asma & Sport
DESCRIPTION:T Hotel – Via dei Giudicati 66\, Cagliari \n\n\n\n\n\n\n\nIscriviti qui \n\n\n\nScarica il programma
URL:https://www.kassiopeagroup.com/evento/xiii-congresso-asma-sport/
LOCATION:T Hotel\, Cagliari\, Via dei Giudicati\, 66\, Cagliari\, 09131\, Italia
END:VEVENT
BEGIN:VEVENT
DTSTART;TZID=Europe/Rome:20231113T090000
DTEND;TZID=Europe/Rome:20231113T173000
DTSTAMP:20260421T173110
CREATED:20231113T160534Z
LAST-MODIFIED:20231114T081711Z
UID:2988-1699866000-1699896600@www.kassiopeagroup.com
SUMMARY:Primo Convegno AIIC Regione Sardegna
DESCRIPTION:Sala Conferenze ERSU – Via Michele Coppino 20\, Sassari \n\n\n\nScarica il programma dell’evento
URL:https://www.kassiopeagroup.com/evento/primo-convegno-aiic-regione-sardegna/
END:VEVENT
BEGIN:VEVENT
DTSTART;TZID=Europe/Rome:20231111T090000
DTEND;TZID=Europe/Rome:20231111T180000
DTSTAMP:20260421T173110
CREATED:20230718T081422Z
LAST-MODIFIED:20231025T071409Z
UID:2662-1699693200-1699725600@www.kassiopeagroup.com
SUMMARY:Congresso Regionale FISMAD "XIII CONGRESSO REGIONALE TRISOCIETARIO DI GASTROENTEROLOGIA"
DESCRIPTION:Patologie gastrointestinali croniche: quando il monitoraggio condiziona la terapia \n\n\n\n \n\n\n\n\n\nIscrizioni online solo per i medici. I posti per gli infermieri sono terminati \n\n\n\n\n\n\n\n\n\n\n\nProgrammaDownload
URL:https://www.kassiopeagroup.com/evento/congresso-regionale-fismad-xiii-congresso-regionale-trisocietario-di-gastroenterologia/
LOCATION:SALA CONGRESSI UNIFIDI SARDEGNA\, Via Sebastiano Mele\, 7/g\, oristano\, 09070\, Italia
ORGANIZER;CN="Gianluca Sotgiu":MAILTO:gianlucasotgiu@kassiopeagroup.com
END:VEVENT
BEGIN:VEVENT
DTSTART;TZID=Europe/Rome:20231109T150000
DTEND;TZID=Europe/Rome:20231111T140000
DTSTAMP:20260421T173110
CREATED:20221124T142238Z
LAST-MODIFIED:20231103T154023Z
UID:2283-1699542000-1699711200@www.kassiopeagroup.com
SUMMARY:V Congresso Nazionale SIUEC
DESCRIPTION:Cagliari (Thotel) \n\n\n\n\n\nPROGRAMMA SCIENTIFICO DETTAGLIATO  \n\n\n\nVAI AL SITO DEDICATO \n\n\n\n \n\n\n\n \n\n\n\nPer informazioni antonellamurru@kassiopeagroup.com
URL:https://www.kassiopeagroup.com/evento/v-congresso-nazionale-siuec/
END:VEVENT
BEGIN:VEVENT
DTSTART;TZID=Europe/Rome:20231028T083000
DTEND;TZID=Europe/Rome:20231029T130000
DTSTAMP:20260421T173110
CREATED:20230804T073202Z
LAST-MODIFIED:20231020T132652Z
UID:2747-1698481800-1698584400@www.kassiopeagroup.com
SUMMARY:Donna\, Medicina di Segnale e Integrazione Bio-Logica
DESCRIPTION:Scarica il programma \n\n\n\nIscriviti qui
URL:https://www.kassiopeagroup.com/evento/donna-medicina-di-segnale-e-integrazione-bio-logica/
LOCATION:Hotel Regina Margherita\, Viale Regina Margherita 44\, Cagliari\, 09124\, Italia
ORGANIZER;CN="Alessandro Pisanu":MAILTO:alessandropisanu@kassiopeagroup.com
END:VEVENT
BEGIN:VEVENT
DTSTART;TZID=Europe/Rome:20231025T140000
DTEND;TZID=Europe/Rome:20231027T140000
DTSTAMP:20260421T173110
CREATED:20230509T130445Z
LAST-MODIFIED:20231023T144025Z
UID:2580-1698242400-1698415200@www.kassiopeagroup.com
SUMMARY:MASTERCLASS TEORICO-PRATICO 7 EDIZIONE
DESCRIPTION:IL TRATTAMENTO CHIRURGICODEI DIFETTI DEL PAVIMENTO PELVICO:CIÒ CHE BISOGNA CONOSCERE E SAPER FARE \n\n\n\nVoco Hotel – Ospedale Villa Salus (Mestre) 25/27 ottobre 2023 \n\n\n\n \n\n\n\nSCARICA IL PROGRAMMA DETTAGLIATO \n\n\n\nPer informazioni antonellamurru@kassiopeagroup.com
URL:https://www.kassiopeagroup.com/evento/masterclass-teorico-pratico-7-edizione/
END:VEVENT
BEGIN:VEVENT
DTSTART;TZID=Europe/Rome:20231018T000000
DTEND;TZID=Europe/Rome:20231021T235959
DTSTAMP:20260421T173110
CREATED:20231017T114014Z
LAST-MODIFIED:20231025T101850Z
UID:2928-1697587200-1697932799@www.kassiopeagroup.com
SUMMARY:19th International Workshop on Neonatology and Pediatrics
DESCRIPTION:FROM WOMB TO AGING\, FROM MEDICAL HISTORY TO ARTIFICIAL INTELLIGENCE \n\n\n\n\n\nevento accreditato ECM per singola giornata
URL:https://www.kassiopeagroup.com/evento/19th-international-workshop-on-neonatology-and-pediatrics/
END:VEVENT
BEGIN:VEVENT
DTSTART;TZID=Europe/Rome:20231014T080000
DTEND;TZID=Europe/Rome:20231014T190000
DTSTAMP:20260421T173110
CREATED:20231006T132246Z
LAST-MODIFIED:20231012T081816Z
UID:2897-1697270400-1697310000@www.kassiopeagroup.com
SUMMARY:44° Congresso NSoSOT - 14° Congresso OTODI Sardegna
DESCRIPTION:Nuovi problemi e nuove soluzioni in ortopedia e traumatologia \n\n\n\n\n\n\n\nScarica il programma \n\n\n\nIscriviti qui
URL:https://www.kassiopeagroup.com/evento/44-congresso-nsosot-14-congresso-otodi-sardegna/
LOCATION:Lu’ Hotel\, Via Costituente snc\, Carbonia\, Sardegna\, 09013\, Italia
END:VEVENT
BEGIN:VEVENT
DTSTART;TZID=Europe/Rome:20231013T160000
DTEND;TZID=Europe/Rome:20231014T180000
DTSTAMP:20260421T173110
CREATED:20230509T130737Z
LAST-MODIFIED:20231009T095141Z
UID:2585-1697212800-1697306400@www.kassiopeagroup.com
SUMMARY:Breast Cancer Update 2023
DESCRIPTION:Cagliari (THOTEL) 13/14 ottobre 2023 \n\n\n\n\n\nSCARICA IL PROGRAMMA SCIENTIFICO \n\n\n\nPRE-CONGRESSO 13 OTTOBRE sala t4 – primo piano THOTEL- NON ACCREDITATO ECM  \n\n\n\nIncontro dedicato agli operatori dell’informazione e Uffici stampa\,associazioni dei pazienti e volontariato \n\n\n\nCONGRESSO 14 OTTOBRE DALLE ORE 09.00 ALLE ORE 17.00 – ACCREDITATO ECM \n\n\n\nLE ISCRIZIONI ALLA GIORNATA DEL 14 OTTOBRE  SONO CHIUSE \n\n\n\nLINK DI ISCRIZIONE al Congresso 14 ottobre 2023 \n\n\n\nPer informazioni antonellamurru@kassiopeagroup.com
URL:https://www.kassiopeagroup.com/evento/breast-cancer-update-2023/
END:VEVENT
BEGIN:VEVENT
DTSTART;TZID=Europe/Rome:20231012T000000
DTEND;TZID=Europe/Rome:20231014T235959
DTSTAMP:20260421T173110
CREATED:20230309T145605Z
LAST-MODIFIED:20231012T135514Z
UID:2449-1697068800-1697327999@www.kassiopeagroup.com
SUMMARY:Congresso Regionale AAROI-EMAC Sardegna 2023
DESCRIPTION:Le iscrizioni sono chiuse. Per info mandare una mail a martinamilia@kassiopeagroup.com \n\n\n\n \n\n\n\nclicca qui per scaricare il programma
URL:https://www.kassiopeagroup.com/evento/congresso-regionale-aaroi-emac-sardegna-2023-2/
END:VEVENT
BEGIN:VEVENT
DTSTART;TZID=Europe/Rome:20231007T140000
DTEND;TZID=Europe/Rome:20231007T183000
DTSTAMP:20260421T173110
CREATED:20230804T103939Z
LAST-MODIFIED:20231006T112301Z
UID:2771-1696687200-1696703400@www.kassiopeagroup.com
SUMMARY:Asma e Bpco
DESCRIPTION:Scarica il programma  \n\n\n\nIscriviti qui
URL:https://www.kassiopeagroup.com/evento/asma-e-bpco/
LOCATION:Caesar’s Hotel Gourmet Cagliari\, Via Charles Darwin\, 2/4\, Cagliari\, Sardegna\, 09126\, Italia
END:VEVENT
BEGIN:VEVENT
DTSTART;TZID=Europe/Rome:20231005T080000
DTEND;TZID=Europe/Rome:20231006T183000
DTSTAMP:20260421T173110
CREATED:20230725T143750Z
LAST-MODIFIED:20231004T100218Z
UID:2696-1696492800-1696617000@www.kassiopeagroup.com
SUMMARY:Congresso Nazionale AcEMC 2023 - Dal PS reale alla subintensiva ideale…
DESCRIPTION:Centro Florim Salute&Formazione \n\n\n\n \n\n\n\n\n\nClicca qui per scaricare il programma \n\n\n\nClicca qui per la scheda di iscrizione
URL:https://www.kassiopeagroup.com/evento/congresso-nazionale-acemc-2023-dal-ps-reale-alla-subintensiva-ideale/
END:VEVENT
BEGIN:VEVENT
DTSTART;TZID=Europe/Rome:20231004T090000
DTEND;TZID=Europe/Rome:20231004T183000
DTSTAMP:20260421T173110
CREATED:20230927T131154Z
LAST-MODIFIED:20230927T131155Z
UID:2861-1696410000-1696444200@www.kassiopeagroup.com
SUMMARY:CUNFERENZTIA ABERTA DE SA LIMBA SARDA
DESCRIPTION:Direzione Generale dei Beni Culturali\, Informazione e Spettacolo e Sport e del Servizio Lingua e Cultura Sarda \n\n\n\niscrizioni aperte fino al giorno 28 settembre al seguente link: \n\n\n\n \n\n\n\nhttps://urlsand.esvalabs.com/?u=https%3A%2F%2Fforms.gle%2FBfZnRA2Y9WrXgn3K7&e=a92d5d13&h=a69b1961&f=y&p=y \n\n\n\nscarica il programma
URL:https://www.kassiopeagroup.com/evento/cunferenztia-aberta-de-sa-limba-sarda/
LOCATION:Passeggiata coperta del Bastione di Saint Remy
END:VEVENT
BEGIN:VEVENT
DTSTART;TZID=Europe/Rome:20231002T000000
DTEND;TZID=Europe/Rome:20231006T235959
DTSTAMP:20260421T173110
CREATED:20230725T130006Z
LAST-MODIFIED:20230725T130521Z
UID:2683-1696204800-1696636799@www.kassiopeagroup.com
SUMMARY:TWEPP 2023
DESCRIPTION:INFN Cagliari and CERN jointly organize the Topical Workshop on Electronics for Particle Physics (TWEPP).The conference will be held in the beautiful location of Calaserena Village. RegistrationOrganizing Secretariat:Martina Contutwepp2023@kassiopeagroup.com
URL:https://www.kassiopeagroup.com/evento/twepp-2023/
LOCATION:Cala Serena Village
END:VEVENT
BEGIN:VEVENT
DTSTART;TZID=Europe/Rome:20230929T090000
DTEND;TZID=Europe/Rome:20230929T190000
DTSTAMP:20260421T173110
CREATED:20230907T085512Z
LAST-MODIFIED:20230912T105209Z
UID:2801-1695978000-1696014000@www.kassiopeagroup.com
SUMMARY:22° CONGRESSO REGIONALE AIP
DESCRIPTION:TRAIETTORIE MODIFICABILIIN PSICOGERIATRIA \n\n\n\n\n\nSala Congressi – OSPEDALE BROTZU \n\n\n\n\n\nevento accreditato ECM. Crediti attribuiti: 8  \n\n\n\n figure professionali accreditate:  \n\n\n\nMEDICO CHIRURGO (tutte le specialità); LOGOPEDISTA; TERAPISTA OCCUPAZIONALE; PSICOLOGO(Psicologia e Psicoterapia); INFERMIERE; EDUCATORE PROFESSIONALE; TECNICO DELLA RIABILITAZIONE \n\n\n\nISCRIZIONI: La partecipazione è gratuita per gli Associati AIP\, idipendenti e i collaboratori del Gruppo Korian e percoloro che non necessitano di crediti formativi.Per tutte le altre categorie la quota di iscrizione è pari a €25\,00 (IVA INCLUSA). \n\n\n\nE’ possibile iscriversi al seguente link: https://forms.office.com/e/A6Whpcsuik \n\n\n\nscarica il programma
URL:https://www.kassiopeagroup.com/evento/22-congresso-regionale-aip/
END:VEVENT
BEGIN:VEVENT
DTSTART;TZID=Europe/Rome:20230929T080000
DTEND;TZID=Europe/Rome:20230929T170000
DTSTAMP:20260421T173110
CREATED:20230724T103713Z
LAST-MODIFIED:20230926T131122Z
UID:2679-1695974400-1696006800@www.kassiopeagroup.com
SUMMARY:9° Giornata Cagliaritana di Ginecologia dell' Infanzia e dell'Adolescenza\, Hotel Regina Margherita\, Cagliari
DESCRIPTION:clicca qui per iscriverti \n\n\n\nclicca qui per scaricare il programma
URL:https://www.kassiopeagroup.com/evento/9-giornata-cagliaritana-di-ginecologia-dell-infanzia-e-delladolescenza-hotel-regina-margherita-cagliari/
END:VEVENT
BEGIN:VEVENT
DTSTART;TZID=Europe/Rome:20230928T000000
DTEND;TZID=Europe/Rome:20230930T235959
DTSTAMP:20260421T173110
CREATED:20230713T074418Z
LAST-MODIFIED:20230919T073224Z
UID:2641-1695859200-1696118399@www.kassiopeagroup.com
SUMMARY:III CONVEGNO INTERGRUPPI SIMLA
DESCRIPTION:scarica le norme per gli abstract  \n\n\n\nclicca qui per iscriverti \n\n\n\nscarica il programma  \n\n\n\nOrdine Presentazione Comunicazioni \n\n\n\nRaccolta Comunicazioni \n\n\n\nRaccolta Poster
URL:https://www.kassiopeagroup.com/evento/iii-convegno-intergruppi-simla/
LOCATION:Hotel Flamingo Resort\, Via Flumendosa\, Santa Margherita di Pula\, Sardegna\, 09010\, Italia
ORGANIZER;CN="Alessandro Pisanu":MAILTO:alessandropisanu@kassiopeagroup.com
END:VEVENT
BEGIN:VEVENT
DTSTART;TZID=Europe/Rome:20230928T000000
DTEND;TZID=Europe/Rome:20230929T235959
DTSTAMP:20260421T173110
CREATED:20230725T130740Z
LAST-MODIFIED:20230920T081018Z
UID:2690-1695859200-1696031999@www.kassiopeagroup.com
SUMMARY:Congresso Regionale SItI Sardegna 2023 "DAL MODELLO MEDICO CLASSICO VERSO LA VISIONE ECOSISTEMICA DELLA PREVENZIONE E PROMOZIONE DELLA SALUTE NELLA PATOLOGIA ONCOLOGICA"
DESCRIPTION:(Società Italiana di Igiene Sezione Sardegna) \n\n\n\n28-29 settembre 2023\, Caesar’s Hotel\, CagliariCrediti ECM: 9\,8 (presenza delle due giornate intere)  \n\n\n\nIscrizione: Clicca QUIProgramma Scientifico: Clicca QUICall for Abstract:– Linee Guida– Abstract Form \n\n\n\nInfo: Martina Contu – kassiopeagroup@kassiopeagroup.com \n\n\n\nINFORMAZIONI IMPORTANTI PER L’ISCRIZIONEPer poter partecipare gratuitamente al Congresso\, è necessario essere in regola con la quota associativa SItI Sardegna. Di seguito le quote: \n\n\n\n> € 150\,00 per i non soci SItI Sardegna> € 25\,00 per gli specializzandi non soci SItI Sardegna \n\n\n\nIl congresso è invece gratuito per i Soci in regola con la quota associativa SItI Sardegna. \n\n\n\nLe quote associative SItI non sono state modificate per il 2023: \n\n\n\n– 60\,00 euro per la quota ordinaria; \n\n\n\n– 40\,00 euro per la quota juniores riservata ai nati dopo il 1° gennaio 1987\, e agli Specializzandi\, Dottorandi\, Assegnisti\, Borsisti\, Professioni Sanitarie tecniche della prevenzione\, infermieristiche\, ostetriche\, tecnico-sanitarie e riabilitative; \n\n\n\n– 20\,00 euro per i nati dopo il 1° gennaio 1987\, Specializzandi\, Dottorandi\, Assegnisti\, Borsisti\, Operatori delle Professioni Sanitarie tecniche della prevenzione\, infermieristiche\, ostetriche\, tecnico-sanitarie e riabilitative e Studenti non lavoratori dei Corsi di Laurea che si iscrivono per la prima volta o che si iscrivono nuovamente dopo aver perso la qualifica di socio (non iscritti nel 2021 e nel 2022). \n\n\n\nLa quota di 20\,00 euro è confermata anche per gli Specializzandi che hanno preso servizio dal 1° novembre 2022 e che si sono iscritti con la quota agevolata nell’anno 2022. \n\n\n\nPer iscriversi basta compilare il modulo d’iscrizione attraverso il link ricevuto dopo aver validato l’indirizzo email.NB: durante l’iscrizione alla SItI\, bisogna specificare che ci si sta iscrivendo alla sezione SItI Sardegna. N. 150 partecipanti di tutte le professioni sanitarie:Farmacista (farmacista territoriale\, farmacista del SSN)Medico chirurgo – per le discipline:Allergologia ed immunologia clinicaAngiologiaCardiologiaDermatologia e venereologiaEmatologiaEndocrinologiaGastroenterologiaGenetica medicaGeriatriaMalattie metaboliche e diabetologiaMalattie dell’apparato respiratorioMalattie infettiveMedicina e chirurgia di accettazione e di urgenzaMedicina fisica e riabilitazioneMedicina internaMedicina termaleMedicina aeronautica e spazialeMedicina dello sportNefrologiaNeonatologiaNeurologiaNeuropsichiatria infantileOncologiaPediatriaPsichiatriaRadioterapiaReumatologiaCardiochirurgiaChirurgia generaleChirurgia maxillo-faccialeChirurgia pediatricaChirurgia plastica e ricostruttivaChirurgia toracicaChirurgia vascolareGinecologia e ostetriciaNeurochirurgiaOftalmologiaOrtopedia e traumatologiaOtorinolaringoiatriaUrologiaAnatomia patologicaAnestesia e rianimazioneBiochimica clinicaFarmacologia e tossicologia clinicaLaboratorio di genetica medicaMedicina trasfusionaleMedicina legaleMedicina nucleareMicrobiologia e virologiaNeurofisiopatologiaNeuroradiologiaPatologia clinica (laboratorio di analisi chimico-cliniche e microbiologia)RadiodiagnosticaIgiene\, epidemiologia e sanità pubblicaIgiene degli alimenti e della nutrizioneMedicina del lavoro e sicurezza degli ambienti di lavoroMedicina generale (medici di famiglia)Continuità assistenzialePediatria (pediatri di libera scelta)Scienza dell’alimentazione e dieteticaDirezione medica di presidio ospedalieroOrganizzazione dei servizi sanitari di baseAudiologia e foniatriaPsicoterapiaPrivo di specializzazioneCure palliativeEpidemiologiaMedicina di comunitàMedicina subacquea e iperbaricaOdontoiatraVeterinario (discipline: Igiene degli allevamenti e delle produzioni zootecniche\,Igiene prod.\, trasf.\, commercial.\, conserv. E tras. Alimenti di origine animale e derivati\,Sanità animale)Psicologo (Psicologia\, psicoterapia)ChimicoFisicoBiologoInfermiereInfermiere pediatricoOstetrica/oPodologoFisioterapistaLogopedistaOrtottista – Assistente di oftalmologiaTerapista della neuro e psicomotricità dell’età evolutivaTecnico riabilitazione psichiatricaTerapista occupazionaleEducatore professionaleTecnico AudiometristaTecnico Sanitario di Laboratorio BiomedicoTecnico Sanitario di Radiologia MedicaTecnico di NeurofisiopatologiaTecnico OrtopedicoTecnico AudioprotesistaTecnico della Fisiopatologia Cardiocircolatoria e Perfusione CardiovascolareIgienista DentaleDietistaTecnico della Prevenzione nell’Ambiente e nei Luoghi di LavoroAssistente Sanitario
URL:https://www.kassiopeagroup.com/evento/congresso-regionale-siti-sardegna/
END:VEVENT
BEGIN:VEVENT
DTSTART;TZID=Europe/Rome:20230923T083000
DTEND;TZID=Europe/Rome:20230923T180000
DTSTAMP:20260421T173110
CREATED:20230405T141638Z
LAST-MODIFIED:20230830T124208Z
UID:2489-1695457800-1695492000@www.kassiopeagroup.com
SUMMARY:II EDIZIONE: S’attobiu de Casteddu
DESCRIPTION:L’ urgenza e l’emergenza in Gastroenterologia ed Endoscopia Digestiva \n\n\n\n\n\nLa registrazione online è attiva \n\n\n\n\n\n\n\n\n\n\n\nProgramma FInaleDownload
URL:https://www.kassiopeagroup.com/evento/ii-edizione-sattobiu-de-casteddu/
LOCATION:HOTEL CAESAR’S – CAGLIARI
CATEGORIES:evento in home page
ATTACH;FMTTYPE=image/jpeg:https://www.kassiopeagroup.com/wp-content/uploads/2023/04/IMG-SEM.jpg
ORGANIZER;CN="Gianluca Sotgiu":MAILTO:gianlucasotgiu@kassiopeagroup.com
END:VEVENT
BEGIN:VEVENT
DTSTART;TZID=Europe/Rome:20230922T130000
DTEND;TZID=Europe/Rome:20230923T130000
DTSTAMP:20260421T173110
CREATED:20230718T111656Z
LAST-MODIFIED:20230801T073044Z
UID:2671-1695387600-1695474000@www.kassiopeagroup.com
SUMMARY:Congresso "Malattie EredoFamiliari e Varianti Germinali in OncoEmatologia
DESCRIPTION:22/23 settembre 2023 Perugia \n\n\n\nLINK DI ISCRIZIONE AL CONGRESSO \n\n\n\nPROGRAMMA SCIENTIFICO DETTAGLIATO \n\n\n\nSEDE DEL CONGRESSO:  \n\n\n\nAula Magna – Dipartimento di Medicina e Chirurgia – Università degli Studi di Perugia \n\n\n\nResponsabile del Congresso: antonellamurru@kassiopeagroup.com
URL:https://www.kassiopeagroup.com/evento/congresso-malattie-eredofamiliari-e-varianti-germinali-in-oncoematologia/
END:VEVENT
BEGIN:VEVENT
DTSTART;TZID=Europe/Rome:20230922T090000
DTEND;TZID=Europe/Rome:20230922T180000
DTSTAMP:20260421T173110
CREATED:20230804T092813Z
LAST-MODIFIED:20230905T110230Z
UID:2762-1695373200-1695405600@www.kassiopeagroup.com
SUMMARY:ConfrontiamoC - Insieme per eradicare l'HCV
DESCRIPTION:Scarica il programma  \n\n\n\nIscriviti qui
URL:https://www.kassiopeagroup.com/evento/confrontiamoc-insieme-per-eradicare-lhcv/
LOCATION:Hotel Mistral 2\, Via XX Settembre 34\, Oristano\, 09170\, Italia
END:VEVENT
BEGIN:VEVENT
DTSTART;TZID=Europe/Rome:20230921T080000
DTEND;TZID=Europe/Rome:20230922T080000
DTSTAMP:20260421T173110
CREATED:20230725T133034Z
LAST-MODIFIED:20230919T125344Z
UID:2693-1695283200-1695369600@www.kassiopeagroup.com
SUMMARY:2° Corso Nazionale SIGO AOGOI AGUI di Videochirurgia Ginecologica
DESCRIPTION:Teatro Doglio\, Via Logudoro 32 – Cagliari \n\n\n\nClicca qui per il programma \n\n\n\nclicca qui per la scheda di iscrizione \n\n\n\nclicca qui per scaricare le norme di presentazione dei video
URL:https://www.kassiopeagroup.com/evento/2-corso-nazionale-sigo-aogoi-agui-di-videochirurgia-ginecologica/
END:VEVENT
END:VCALENDAR