BEGIN:VCALENDAR
VERSION:2.0
PRODID:-//Kassiopea Group - ECPv6.15.18//NONSGML v1.0//EN
CALSCALE:GREGORIAN
METHOD:PUBLISH
X-WR-CALNAME:Kassiopea Group
X-ORIGINAL-URL:https://www.kassiopeagroup.com
X-WR-CALDESC:Eventi per Kassiopea Group
REFRESH-INTERVAL;VALUE=DURATION:PT1H
X-Robots-Tag:noindex
X-PUBLISHED-TTL:PT1H
BEGIN:VTIMEZONE
TZID:Europe/Rome
BEGIN:DAYLIGHT
TZOFFSETFROM:+0100
TZOFFSETTO:+0200
TZNAME:CEST
DTSTART:20210328T010000
END:DAYLIGHT
BEGIN:STANDARD
TZOFFSETFROM:+0200
TZOFFSETTO:+0100
TZNAME:CET
DTSTART:20211031T010000
END:STANDARD
BEGIN:DAYLIGHT
TZOFFSETFROM:+0100
TZOFFSETTO:+0200
TZNAME:CEST
DTSTART:20220327T010000
END:DAYLIGHT
BEGIN:STANDARD
TZOFFSETFROM:+0200
TZOFFSETTO:+0100
TZNAME:CET
DTSTART:20221030T010000
END:STANDARD
BEGIN:DAYLIGHT
TZOFFSETFROM:+0100
TZOFFSETTO:+0200
TZNAME:CEST
DTSTART:20230326T010000
END:DAYLIGHT
BEGIN:STANDARD
TZOFFSETFROM:+0200
TZOFFSETTO:+0100
TZNAME:CET
DTSTART:20231029T010000
END:STANDARD
BEGIN:DAYLIGHT
TZOFFSETFROM:+0100
TZOFFSETTO:+0200
TZNAME:CEST
DTSTART:20240331T010000
END:DAYLIGHT
BEGIN:STANDARD
TZOFFSETFROM:+0200
TZOFFSETTO:+0100
TZNAME:CET
DTSTART:20241027T010000
END:STANDARD
END:VTIMEZONE
BEGIN:VEVENT
DTSTART;TZID=Europe/Rome:20230325T080000
DTEND;TZID=Europe/Rome:20230325T140000
DTSTAMP:20260422T041954
CREATED:20221212T120411Z
LAST-MODIFIED:20230322T105954Z
UID:2299-1679731200-1679752800@www.kassiopeagroup.com
SUMMARY:FAD - 3a GIORNATA MEDICINA DELLO SPORT
DESCRIPTION:PROGRAMMA SCIENTIFICO DETTAGLIATO \n\n\n\nLINK ISCRIZIONE \n\n\n\nPer maggiori informazioni: antonellamurru@kassiopeagroup.com
URL:https://www.kassiopeagroup.com/evento/fad-3-giornata-medicina-dello-sport/
LOCATION:Cagliari
END:VEVENT
BEGIN:VEVENT
DTSTART;TZID=Europe/Rome:20230316T090000
DTEND;TZID=Europe/Rome:20230317T130000
DTSTAMP:20260422T041954
CREATED:20221212T120203Z
LAST-MODIFIED:20230314T130618Z
UID:2296-1678957200-1679058000@www.kassiopeagroup.com
SUMMARY:Congresso “Looking for Chancing Horizon in Locally Advanced Gastric Cancer”
DESCRIPTION:Perugia (Hotel Giò) \n\n\n\n\n\nPROGRAMMA SCIENTIFICO \n\n\n\nLINK DI ISCRIZIONE AL CONGRESSO \n\n\n\nLe iscrizioni al Congresso sono chiuse \n\n\n\nLa registrazione alla piattaforma delle iscrizione on- line Kassiopea Group va eseguita solo la prima volta ed è indispensabile per poter procedere con l’iscrizione al Congresso. \n\n\n\nPer informazioni: antonellamurru@kassiopeagroup.com
URL:https://www.kassiopeagroup.com/evento/congresso-looking-for-chancing-horizon-in-locally-advanced-gastric-cancer/
LOCATION:Cagliari
END:VEVENT
BEGIN:VEVENT
DTSTART;TZID=Europe/Rome:20230303T080000
DTEND;TZID=Europe/Rome:20230303T170000
DTSTAMP:20260422T041954
CREATED:20230203T132645Z
LAST-MODIFIED:20230302T110426Z
UID:2376-1677830400-1677862800@www.kassiopeagroup.com
SUMMARY:Hot Topics in Oncology
DESCRIPTION:Info: kassiopeagroup@kassiopeagroup.comL’iscrizione al Congresso è gratuita e prevede l’accreditamento di 4 crediti ECM.n. 100 partecipanti tra le seguenti professioni: – Medico Chirurgo (solo per le discipline: Dermatologia e venereologia\, Endocrinologia\, Gastroenterologia\, Medicina Interna\, Oncologia\, radioterapia\, chirurgia generale\, Chirurgia plastica e ricostruttiva\, ginecologia e ostetricia\, neurochirurgia\, otorinolaringoiatria\, anatomia patologica\, anestesia e rianimazione\, medicina nucleare\, radiodiagnostica\, cure palliative); – Infermiere. \n\n\n\nSede congressuale: Centro di Spiritualità “Nostra Signora del Rimedio” (Oristano)09170 Donigala Fenughedu ORISCRIZIONIPROGRAMMA
URL:https://www.kassiopeagroup.com/evento/hot-topics-in-oncology/
LOCATION:Cagliari
END:VEVENT
BEGIN:VEVENT
DTSTART;TZID=Europe/Rome:20230225T143000
DTEND;TZID=Europe/Rome:20230225T183000
DTSTAMP:20260422T041954
CREATED:20230202T090603Z
LAST-MODIFIED:20230216T133225Z
UID:2367-1677335400-1677349800@www.kassiopeagroup.com
SUMMARY:CARDIONURSING ANMCO SARDEGNA 2023 “VIAGGIO DEL CUORE”
DESCRIPTION:Clicca qui per la scheda di iscrizione  \n\n\n\nClicca qui per il programma  (a pagina 9 della brochure)
URL:https://www.kassiopeagroup.com/evento/cardionursing-anmco-sardegna-2023-viaggio-del-cuore/
LOCATION:T Hotel\, Via dei Giudicati 66\, Cagliari\, Italy\, 09131
END:VEVENT
BEGIN:VEVENT
DTSTART;TZID=Europe/Rome:20230224T090000
DTEND;TZID=Europe/Rome:20230225T140000
DTSTAMP:20260422T041954
CREATED:20221214T113429Z
LAST-MODIFIED:20230216T133310Z
UID:2307-1677229200-1677333600@www.kassiopeagroup.com
SUMMARY:CONGRESSO REGIONALE ANMCO  SARDEGNA 2023 - “Dove ci porta il cuore”
DESCRIPTION:Scheda di iscrizione Congresso Regionale ANMCO Sardegna 2023 (accreditato ECM per Medici) \n\n\n\n \n\n\n\nClicca qui per scaricare il programma
URL:https://www.kassiopeagroup.com/evento/congresso-regionale-anmco-sardegna-2023-dove-ci-porta-il-cuore/
LOCATION:T Hotel\, Cagliari\, Via dei Giudicati\, 66\, Cagliari\, 09131\, Italia
END:VEVENT
BEGIN:VEVENT
DTSTART;TZID=Europe/Rome:20230224T000000
DTEND;TZID=Europe/Rome:20230224T235959
DTSTAMP:20260422T041954
CREATED:20230222T181945Z
LAST-MODIFIED:20230222T181945Z
UID:2405-1677196800-1677283199@www.kassiopeagroup.com
SUMMARY:DONNE - SCIENZA E INNOVAZIONE Per una Sardegna Competitiva
DESCRIPTION:“Donne\, scienza e innovazione per una Sardegna competitiva” è il tema del convegno organizzato dalla Commissione Regionale per le Pari Opportunità insieme a Sardegna Ricerche e in collaborazione con il CRS4 (Centro di Ricerca\, Sviluppo e Studi Superiori in Sardegna) e le due Università degli Studi di Cagliari e Sassari\, in programma il prossimo venerdì 24 febbraio\, alle ore 9:00\, nel Parco Scientifico e Tecnologico della Sardegna a Pula (CA). \n\n\n\nL’evento si articola in due momenti: uno di conoscenza e approfondimento e un tavolo tecnico di discussione dedicato agli strumenti e alle prospettive della ricerca scientifica per il futuro. Un’occasione per approfondire il ruolo della ricerca in Sardegna e le opportunità delle materie STEM come percorso di studio e ricerca per le giovani donne e far conoscere alcune eccellenze sarde nella ricerca e nella tecnologia.LOCANDINA WEBPROGRAMMAFonte: https://www.sardegnaricerche.it/index.php?xsl=370&s=446655&v=2&c=3169&nc=1&sc=&qr=1&qp=2&vd=2&t=3&sb=1
URL:https://www.kassiopeagroup.com/evento/donne-scienza-e-innovazione-per-una-sardegna-competitiva/
LOCATION:Cagliari
END:VEVENT
BEGIN:VEVENT
DTSTART;TZID=Europe/Rome:20230222T080000
DTEND;TZID=Europe/Rome:20230224T170000
DTSTAMP:20260422T041954
CREATED:20221123T154521Z
LAST-MODIFIED:20221222T120416Z
UID:2275-1677052800-1677258000@www.kassiopeagroup.com
SUMMARY:XXIV Congresso Nazionale della Società Italiana di Patologia e Allevamento degli Ovini e Caprini (S.I.P.A.O.C)
DESCRIPTION:Il Congresso si svolgerà presso l’Università della Tuscia\, Viterbo. \n\n\n\nISCRIZIONI \n\n\n\nSCARICA IL PROGRAMMA \n\n\n\nEmail sipaoc2023@kassiopeagroup.com
URL:https://www.kassiopeagroup.com/evento/xxiv-congresso-nazionale-della-societa-italiana-di-patologia-e-allevamento-degli-ovini-e-caprini-s-i-p-a-o-c/
LOCATION:Università della Tuscia\, Viterbo
END:VEVENT
BEGIN:VEVENT
DTSTART;TZID=Europe/Rome:20230203T080000
DTEND;TZID=Europe/Rome:20230203T170000
DTSTAMP:20260422T041954
CREATED:20221110T130508Z
LAST-MODIFIED:20230131T103833Z
UID:2250-1675411200-1675443600@www.kassiopeagroup.com
SUMMARY:STRESS URINARY INCONTINENCE:
DESCRIPTION:WHAT CAN I DO ? BULKING AGENTS URETHRAL INJECTION ( LIVE SURGERY ) \n\n\n\nMestre (Ospedale Villa Salus) \n\n\n\n\n\nPROGRAMMA SCIENTIFICO DETTAGLIATO \n\n\n\nISCRIZIONI CHIUSE \n\n\n\nPer informazioni contattare: antonellamurru@kassiopea
URL:https://www.kassiopeagroup.com/evento/stress-urinary-incontinence/
LOCATION:Cagliari
END:VEVENT
BEGIN:VEVENT
DTSTART;TZID=Europe/Rome:20230123T080000
DTEND;TZID=Europe/Rome:20230123T170000
DTSTAMP:20260422T041954
CREATED:20221213T095047Z
LAST-MODIFIED:20221213T095608Z
UID:2285-1674460800-1674493200@www.kassiopeagroup.com
SUMMARY:HysteroLab: updates in diagnostica e chirurgia endouterina
DESCRIPTION:Esperti italiani a confronto \n\n\n\n\n\nCagliari\, 23 Gennaio 2023 \n\n\n\nAula Rossa\, Spina Didattica\,  Facoltà di Medicina e Chirurgia \n\n\n\nIscrizione https://forms.gle/GDLmQR4RoahoN4NX9 \n\n\n\nScarica il Programmahttps://www.kassiopeagroup.com/wp-content/uploads/2022/11/PCLPProgHysteroLab151122-def-al-16.pdf
URL:https://www.kassiopeagroup.com/evento/hysterolab-updates-in-diagnostica-e-chirurgia-endouterina/
LOCATION:Cagliari
END:VEVENT
BEGIN:VEVENT
DTSTART;TZID=Europe/Rome:20221219T083000
DTEND;TZID=Europe/Rome:20221219T130000
DTSTAMP:20260422T041954
CREATED:20221024T083432Z
LAST-MODIFIED:20221215T141100Z
UID:2205-1671438600-1671454800@www.kassiopeagroup.com
SUMMARY:IL RUOLO DELLA DIAGNOSTICA ECOGRAFICA IN OSTETRICIA E GINECOLOGIA
DESCRIPTION:NELLA GESTIONE DELLE DECISIONI CLINICHE \n\n\n\n\n\nLE ISCRIZIONI SONO CHIUSE \n\n\n\nPROGRAMMA SCIENTIFICO DETTAGLIATO \n\n\n\nPer informazioni:antonellamurru@kassiopeagroup.com
URL:https://www.kassiopeagroup.com/evento/il-ruolo-della-diagnostica-ecografica-in-ostetricia-e-ginecologia/
LOCATION:Cagliari
END:VEVENT
BEGIN:VEVENT
DTSTART;TZID=Europe/Rome:20221214T083000
DTEND;TZID=Europe/Rome:20221215T173000
DTSTAMP:20260422T041954
CREATED:20211012T154751Z
LAST-MODIFIED:20221115T121816Z
UID:1502-1671006600-1671125400@www.kassiopeagroup.com
SUMMARY:XVI EDIZIONE - Panpneuma: pneumologia e dintorni..
DESCRIPTION:Congresso ResidenzialeISCRIZIONI ONLINE \n\n\n\n\n\n\n\n\n\n\n\nProgrammaDownload
URL:https://www.kassiopeagroup.com/evento/xiv-edizione-panpneuma-pneumologia-e-dintorni/
LOCATION:HOTEL CAESAR’S – CAGLIARI
ORGANIZER;CN="Gianluca Sotgiu":MAILTO:gianlucasotgiu@kassiopeagroup.com
END:VEVENT
BEGIN:VEVENT
DTSTART;TZID=Europe/Rome:20221203T000000
DTEND;TZID=Europe/Rome:20221203T235959
DTSTAMP:20260422T041954
CREATED:20221121T133529Z
LAST-MODIFIED:20221121T133706Z
UID:2267-1670025600-1670111999@www.kassiopeagroup.com
SUMMARY:Convegno SPORT E SALUTE
DESCRIPTION:L’evento rientra nel programma di formazione continua in medicina.Crediti ECM attributi: 4.– ISCRIZIONI– PROGRAMMAInfo: kassiopeagroup@kassiopeagroup.com
URL:https://www.kassiopeagroup.com/evento/convegno-sport-e-salute/
LOCATION:Fiera della Sardegna – VIA ARMANDO DIAZ\, 221 (CA) PADIGLIONE 1
END:VEVENT
BEGIN:VEVENT
DTSTART;TZID=Europe/Rome:20221126T090000
DTEND;TZID=Europe/Rome:20221126T140000
DTSTAMP:20260422T041954
CREATED:20221014T072739Z
LAST-MODIFIED:20221124T111708Z
UID:2168-1669453200-1669471200@www.kassiopeagroup.com
SUMMARY:Nel CUORE di... Cagliari - Laboratorio
DESCRIPTION:Info: kassiopeagroup@kassiopeagroup.comL’iscrizione al Congresso è gratuita e prevede l’accreditamento di 4 crediti ECM.ISCRIZIONIPROGRAMMA
URL:https://www.kassiopeagroup.com/evento/nel-cuore-di-cagliari-laboratorio-2/
LOCATION:Hotel Regina Margherita – Cagliari
END:VEVENT
BEGIN:VEVENT
DTSTART;TZID=Europe/Rome:20221125T080000
DTEND;TZID=Europe/Rome:20221125T170000
DTSTAMP:20260422T041954
CREATED:20221007T094916Z
LAST-MODIFIED:20221010T132813Z
UID:2148-1669363200-1669395600@www.kassiopeagroup.com
SUMMARY:Patient Blood Management: scelta e necessità
DESCRIPTION:ISCRIZIONI APERTE\n\n\n\n\n\n\n\n\nProgrammaDownload
URL:https://www.kassiopeagroup.com/evento/patient-blood-management-scelta-e-necessita/
LOCATION:AULA ANNA ATZA – ARNAS BROTZU – CAGLIARI\, Piazzale Alessandro Ricchi\, 1\, CA\, Selargius\, 09047\, Italia
ORGANIZER;CN="Gianluca Sotgiu":MAILTO:gianlucasotgiu@kassiopeagroup.com
END:VEVENT
BEGIN:VEVENT
DTSTART;TZID=Europe/Rome:20221119T090000
DTEND;TZID=Europe/Rome:20221119T180000
DTSTAMP:20260422T041954
CREATED:20220930T070619Z
LAST-MODIFIED:20221109T110026Z
UID:2111-1668848400-1668880800@www.kassiopeagroup.com
SUMMARY:Congresso Regionale FISMAD "XII CONGRESSO REGIONALE TRISOCIETARIO DI GASTROENTEROLOGIA"
DESCRIPTION:CONDIZIONI PRENEOPLASTICHE IN GASTROENTEROLOGIA \n\n\n\n\n\n\n\n\n\n\n\nProgrammaDownload
URL:https://www.kassiopeagroup.com/evento/congresso-regionale-fismad-xii-congresso-regionale-trisocietario-di-gastroenterologia/
LOCATION:Cagliari
ORGANIZER;CN="Gianluca Sotgiu":MAILTO:gianlucasotgiu@kassiopeagroup.com
END:VEVENT
BEGIN:VEVENT
DTSTART;TZID=Europe/Rome:20221119T090000
DTEND;TZID=Europe/Rome:20221119T170000
DTSTAMP:20260422T041954
CREATED:20220920T115749Z
LAST-MODIFIED:20221114T144049Z
UID:2091-1668848400-1668877200@www.kassiopeagroup.com
SUMMARY:1° West Larian Lung Cancer Meeting "THORACIC CANCERS 2022 NEW PARADIGMS  FOR REAL PRACTICE AND BEYOND"
DESCRIPTION:Auditorium Michele Ghisla\,  Via alle Torri\,  Colico (LC) – \n\n\n\nScarica il Programma qui \n\n\n\nIscriviti qui
URL:https://www.kassiopeagroup.com/evento/1-west-larian-lung-cancer-meeting-thoracic-cancers-2022-new-paradigms-for-real-practice-and-beyond/
LOCATION:Auditorium Michele Ghisla
END:VEVENT
BEGIN:VEVENT
DTSTART;TZID=Europe/Rome:20221118T160000
DTEND;TZID=Europe/Rome:20221119T083000
DTSTAMP:20260422T041954
CREATED:20221024T082850Z
LAST-MODIFIED:20221114T135007Z
UID:2200-1668787200-1668846600@www.kassiopeagroup.com
SUMMARY:Breast cancer Update 2022
DESCRIPTION:PRE-CONGRESSO 18 novembre Cagliari (THOTEL Sala T4 primo piano) (dalle ore 16.00 alle ore 19.00) NON accreditato ECM  Incontro dedicato agli operatori dell’informazione e Uffici stampa\, associazioni dei pazienti e volontariato \n\n\n\nCONGRESSO 19 Novembre  (THOTEL SALA T1 piano terra) h. 08.45 – h.17.00 Accreditato ECM Cagliari  \n\n\n\nLINK DI ISCRIZIONE AL CONGRESSO 19 NOVEMBRE 2022 \n\n\n\nSCARICA IL PROGRAMMA SCIENTIFICO DETTAGLIATO \n\n\n\nREGISTRAZIONI TERMINATE \n\n\n\nPer informazioni:antonellamurru@kassiopeagroup.com
URL:https://www.kassiopeagroup.com/evento/breast-cancer-update-2022/
LOCATION:Cagliari
END:VEVENT
BEGIN:VEVENT
DTSTART;TZID=Europe/Rome:20221109T000000
DTEND;TZID=Europe/Rome:20221110T235959
DTSTAMP:20260422T041954
CREATED:20221020T085656Z
LAST-MODIFIED:20221021T143848Z
UID:2187-1667952000-1668124799@www.kassiopeagroup.com
SUMMARY:III° Convegno Regionale "La chiocciola va oltre"
DESCRIPTION:9 Novembre 2022 – No ECM: La chiocciola protagonista di un’economia circolare: prospettive ed opportunità.  \n\n\n\n10 Novembre 2022 – ECM: Progetto HelixRECovery: risultati\, modelli sperimentali e strumenti di ricerca per promuovere e valorizzare la chiocciola e i suoi derivati. \n\n\n\nSede: T Hotel\, Via dei Giudicati\, 66 – CagliariResponsabile Scientifico: Dott.ssa Cogoni Maria Paola \n\n\n\nIMPORTANTE: La pausa pranzo è libera. Nel caso in cui vogliate pranzare presso il T Hotel\, potrete prenotare il tavolo chiamando il numero 070 47400  \n\n\n\nL’iscrizione al Congresso è gratuita e\, per la giornata del 10 Novembre\, i crediti ECM attribuiti sono 5\,6. ISCRIZIONIPROGRAMMA \n\n\n\nPer info contattare la Segreteria Organizzativa: kassiopeagroup@kassiopeagroup.com
URL:https://www.kassiopeagroup.com/evento/iii-convegno-regionale-la-chiocciola-va-oltre/
LOCATION:T Hotel\, Cagliari\, Via dei Giudicati\, 66\, Cagliari\, 09131\, Italia
END:VEVENT
BEGIN:VEVENT
DTSTART;TZID=Europe/Rome:20221027T100000
DTEND;TZID=Europe/Rome:20221028T180000
DTSTAMP:20260422T041954
CREATED:20220610T121254Z
LAST-MODIFIED:20220728T120424Z
UID:1965-1666864800-1666980000@www.kassiopeagroup.com
SUMMARY:Primo convegno regionale delle scuole di medicina d’urgenza lombarde. Lo specializzando di medicina d’urgenza: prospettive dalla prima linea
DESCRIPTION:Il Congresso si terrà presso l’Hotel Cruise a Como.  \n\n\n\nSCARICA IL PROGRAMMA DETTAGLIATO \n\n\n\nLINK DI ISCRIZIONE \n\n\n\nPer informazioni: antonellamurru@kassiopeagroup.com
URL:https://www.kassiopeagroup.com/evento/primo-convegno-regionale-delle-scuole-di-medicina-durgenza-lombarde-lo-specializzando-di-medicina-durgenza-prospettive-dalla-prima-linea/
LOCATION:Cagliari
END:VEVENT
BEGIN:VEVENT
DTSTART;TZID=Europe/Rome:20221022T090000
DTEND;TZID=Europe/Rome:20221022T170000
DTSTAMP:20260422T041954
CREATED:20221021T082942Z
LAST-MODIFIED:20221021T082943Z
UID:2194-1666429200-1666458000@www.kassiopeagroup.com
SUMMARY:43° Congresso NSoSOT - 14° Congresso OTODI Sardegna - Aspetti gestionali in Ortopedia e Traumatologia
DESCRIPTION:https://www.kassiopeagroup.com/wp-content/uploads/2022/10/PCLPbrochureOrtopedia171022.pdf
URL:https://www.kassiopeagroup.com/evento/43-congresso-nsosot-14-congresso-otodi-sardegna-aspetti-gestionali-in-ortopedia-e-traumatologia/
LOCATION:Aula ATZA -ARNAS G.Brotzu (Piazzale Ricchi 1\, Selargius)\, Piazzale Ricchi 1\, Selargius
END:VEVENT
BEGIN:VEVENT
DTSTART;TZID=Europe/Rome:20221019T080000
DTEND;TZID=Europe/Rome:20221022T170000
DTSTAMP:20260422T041954
CREATED:20220530T151212Z
LAST-MODIFIED:20230901T101819Z
UID:1933-1666166400-1666458000@www.kassiopeagroup.com
SUMMARY:18th International Workshop on Neonatology and Pediatrics
DESCRIPTION:19-22 Ottobre 2022\, Cagliari – THotel \n\n\n\nProssimamente maggiori informazioni. Le iscrizioni apriranno a Settembre. \n\n\n\nPROGRAMMA
URL:https://www.kassiopeagroup.com/evento/18th-international-workshop-on-neonatology-and-pediatrics/
LOCATION:Cagliari
END:VEVENT
BEGIN:VEVENT
DTSTART;TZID=Europe/Rome:20221007T090000
DTEND;TZID=Europe/Rome:20221007T180000
DTSTAMP:20260422T041954
CREATED:20220822T073559Z
LAST-MODIFIED:20220929T111436Z
UID:2040-1665133200-1665165600@www.kassiopeagroup.com
SUMMARY:Congresso "Moderna radioterapia oncologica: approcci multidisciplinari nell'era dei trattamenti guidati dalle scienze omiche e dall'intelligenza artificiale"\, 7 Ottobre 2022 - Olbia
DESCRIPTION:ISCRIZIONI ONLINEPROGRAMMAInfo: kassiopeagroup@kassiopeagroup.comL’iscrizione al Congresso è gratuita e prevede l’accreditamento di 5 crediti ECM.La partecipazione è riservata ad un numero limitato di partecipanti delle seguenti professioni sanitarie: – Medico Chirurgo (solo per le discipline: Allergologia ed immunologia clinica\, Angiologia\, Cardiologia\, Dermatologia e venereologia\, Ematologia\, Endocrinologia\, Gastroenterologia\, Genetica medica\, Geriatria\, Malattie metaboliche e diabetologia\, Malattie dell’apparato respiratorio\, Malattie infettive\, Medicina fisica e riabilitazione\, Medicina interna\, Nefrologia\, Neurologia\, Oncologia\, Radioterapia\, Reumatologia\, Cardiochirurgia\, Chirurgia generale\, Chirurgia maxillo-facciale\, Chirurgia plastica e ricostruttiva\, Chirurgia toracica\, Chirurgia vascolare\, Ginecologia e ostetricia\, Neurochirurgia\, Ortopedia e traumatologia\, Otorinolaringoiatria\, Urologia\, Anatomia patologica\, Biochimica clinica\, Farmacologia e tossicologia clinica\, Laboratorio di genetica medica\, Medicina trasfusionale\, Medicina legale\, Medicina nucleare\, Microbiologia e virologia\, Neurofisiopatologia\, Neuroradiologia\, Patologia clinica (laboratorio di analisi chimico-cliniche e microbiologia)\, Radiodiagnostica\, Medicina generale (medici di famiglia)\, Continuità assistenziale\, Direzione medica di presidio ospedaliero\, Audiologia e foniatria\, Cure palliative\, Epidemiologia); – Psicologo (Psicologia; Psicoterapia); – Biologo; – Chimico; – Fisico; – Assistente Sanitario; – Infermiere; – Tecnico sanitario di radiologia medica.
URL:https://www.kassiopeagroup.com/evento/congresso-moderna-radioterapia-oncologica-approcci-multidisciplinari-nellera-dei-trattamenti-guidati-dalle-scienze-omiche-e-dallintelligenza-artificiale/
LOCATION:Sala Congressi Engle – Aeroporto Olbia Costa Smeralda\, Via degli Astronauti – Olbia
END:VEVENT
BEGIN:VEVENT
DTSTART;TZID=Europe/Rome:20221006T000000
DTEND;TZID=Europe/Rome:20221007T235959
DTSTAMP:20260422T041954
CREATED:20220801T134951Z
LAST-MODIFIED:20221005T162910Z
UID:2013-1665014400-1665187199@www.kassiopeagroup.com
SUMMARY:Congresso Nazionale AcEMC 2022\, 6/7 Ottobre 2022 - Istituto Maugeri\, Pavia
DESCRIPTION:6/7 Ottobre 2022 – Pavia \n\n\n\n\n\n\n\n\n\n\nSCARICA IL PROGRAMMAhttps://www.kassiopeagroup.com/wp-content/uploads/2022/09/PCLPlocandinaA3acemc280922-def.pdf \n\n\n\nSCARICA LE NORME EDITORIALI PER INVIARE L’ABSTRACT
URL:https://www.kassiopeagroup.com/evento/2013/
LOCATION:Centro Congressi Istituto Maugeri\,Pavia
END:VEVENT
BEGIN:VEVENT
DTSTART;TZID=Europe/Rome:20220930T153000
DTEND;TZID=Europe/Rome:20220930T233000
DTSTAMP:20260422T041954
CREATED:20220826T085149Z
LAST-MODIFIED:20220826T085150Z
UID:2060-1664551800-1664580600@www.kassiopeagroup.com
SUMMARY:La Notte dei Ricercatori - Sharper Night 2022
DESCRIPTION:La Notte dei Ricercatori è un’iniziativa promossa dalla Commissione Europea fin dal 2005 che coinvolge ogni anno migliaia di ricercatori e istituzioni di ricerca in tutti i paesi europei.SITO WEB
URL:https://www.kassiopeagroup.com/evento/la-notte-dei-ricercatori-sharper-night-2022/
LOCATION:Orto Botanico – Cagliari
END:VEVENT
BEGIN:VEVENT
DTSTART;TZID=Europe/Rome:20220925T170000
DTEND;TZID=Europe/Rome:20220927T140000
DTSTAMP:20260422T041954
CREATED:20220304T135710Z
LAST-MODIFIED:20220919T153907Z
UID:1775-1664125200-1664287200@www.kassiopeagroup.com
SUMMARY:XLIII CONGRESSO NAZIONALE SICO 5th INTERNATIONAL CONFERENCE of SURGICAL ONCOLOGY - Siena\, 25/27 settembre 2022
DESCRIPTION:Siena\, 25/26/27 settembre 2022 \n\n\n\nSITO DEDICATO  \n\n\n\nPROGRAMMA SCIENTIFICO DETTAGLIATO \n\n\n\nCOME RAGGIUNGERE IL PRESIDIO MATTIOLI \n\n\n\nPer informazioni: antonellamurru@kassiopeagroup.com
URL:https://www.kassiopeagroup.com/evento/xliii-congresso-nazionale-sico-5th-international-conference-of-surgical-oncology-siena-25-27-settembre-2022/
LOCATION:Cagliari
END:VEVENT
BEGIN:VEVENT
DTSTART;TZID=Europe/Rome:20220925T080000
DTEND;TZID=Europe/Rome:20220928T170000
DTSTAMP:20260422T041954
CREATED:20220606T143129Z
LAST-MODIFIED:20220606T143414Z
UID:1940-1664092800-1664384400@www.kassiopeagroup.com
SUMMARY:ADDICTION 2022 - Enlightening the addicted brain: cells\, circuits\, and therapies
DESCRIPTION:Organizing Secretariat – addiction2022@kassiopeagroup.com \n\n\n\n\n\n\n\nWebsiteRegistration
URL:https://www.kassiopeagroup.com/evento/addiction-2022/
LOCATION:Hotel Pullman Timi Ama Sardegna\, Viale dei Ginepri\, 3\, 09049 Villasimius SU
END:VEVENT
BEGIN:VEVENT
DTSTART;TZID=Europe/Rome:20220923T083000
DTEND;TZID=Europe/Rome:20220924T180000
DTSTAMP:20260422T041954
CREATED:20220526T135331Z
LAST-MODIFIED:20220824T125156Z
UID:1927-1663921800-1664042400@www.kassiopeagroup.com
SUMMARY:S’ATTOBIU DE CASTEDDU "INCONTRI DI GASTROENTEROLOGIA"
DESCRIPTION:CONGRESSO RESIDENZIALE   \n\n\n\n\n\n\n\n\n\n\n\n\n\n\nSONO APERTE LE ISCRIZIONI\n\n\n\n\nE ‘DISPONIBILE IL PROGRAMMA DEFINITIVO  \n\n\n\n\n\n\n\n\n\n\n\n\n\nProgrammaDownload
URL:https://www.kassiopeagroup.com/evento/sattobiu-de-casteddu-incontri-di-gastroenterologia/
LOCATION:HOTEL CAESAR’S – CAGLIARI
ORGANIZER;CN="Gianluca Sotgiu":MAILTO:gianlucasotgiu@kassiopeagroup.com
END:VEVENT
BEGIN:VEVENT
DTSTART;TZID=Europe/Rome:20220918T080000
DTEND;TZID=Europe/Rome:20220921T170000
DTSTAMP:20260422T041954
CREATED:20220125T091746Z
LAST-MODIFIED:20220125T091842Z
UID:1659-1663488000-1663779600@www.kassiopeagroup.com
SUMMARY:10th Workshop on Modelling Nutrient Digestion and Utilization in Farm Animals (MODNUT)
DESCRIPTION:
URL:https://www.kassiopeagroup.com/evento/10th-workshop-on-modelling-nutrient-digestion-and-utilization-in-farm-animals-modnut/
LOCATION:Cagliari
ORGANIZER;CN="Luisa Serra":MAILTO:luisaserra@kassiopeanews.com
END:VEVENT
BEGIN:VEVENT
DTSTART;TZID=Europe/Rome:20220910T090000
DTEND;TZID=Europe/Rome:20220910T170000
DTSTAMP:20260422T041954
CREATED:20220304T134335Z
LAST-MODIFIED:20220304T134932Z
UID:1771-1662800400-1662829200@www.kassiopeagroup.com
SUMMARY:Fort da: dal gioco al mettersi in gioco
DESCRIPTION:Corso di formazione teorico-pratico introduttivo alla conoscenza dello psicodramma analitico  \n\n\n\n5 APPUNTAMENTI DAL 10/09/2022 AL 10/12/2022 – presso Kinè La Cinegiocoteca\, Via de Ruggiero\, 38 – Bari \n\n\n\n\n\nSCARICA IL PROGRAMMA SCIENTIFICO \n\n\n\nSCARICA LA SCHEDA DI ISCRIZIONE  \n\n\n\nIl Corso è a pagamento \n\n\n\nPer informazioni contattare lorenaloi@kassiopeagroup.com
URL:https://www.kassiopeagroup.com/evento/fort-da-dal-gioco-al-mettersi-in-gioco/
LOCATION:Cagliari
END:VEVENT
BEGIN:VEVENT
DTSTART;TZID=Europe/Rome:20220829T080000
DTEND;TZID=Europe/Rome:20220909T170000
DTSTAMP:20260422T041954
CREATED:20220804T143418Z
LAST-MODIFIED:20220804T143419Z
UID:2050-1661760000-1662742800@www.kassiopeagroup.com
SUMMARY:INTERNATIONAL SMART CITY SCHOOL “CYBER SECURITY - BUILDING TRUST IN THE INFORMATION AGE”- EDUC
DESCRIPTION:SITO WEB
URL:https://www.kassiopeagroup.com/evento/international-smart-city-school-cyber-security-building-trust-in-the-information-age-educ/
LOCATION:Cagliari
END:VEVENT
END:VCALENDAR