BEGIN:VCALENDAR
VERSION:2.0
PRODID:-//Kassiopea Group - ECPv6.15.18//NONSGML v1.0//EN
CALSCALE:GREGORIAN
METHOD:PUBLISH
X-WR-CALNAME:Kassiopea Group
X-ORIGINAL-URL:https://www.kassiopeagroup.com
X-WR-CALDESC:Eventi per Kassiopea Group
REFRESH-INTERVAL;VALUE=DURATION:PT1H
X-Robots-Tag:noindex
X-PUBLISHED-TTL:PT1H
BEGIN:VTIMEZONE
TZID:Europe/Rome
BEGIN:DAYLIGHT
TZOFFSETFROM:+0100
TZOFFSETTO:+0200
TZNAME:CEST
DTSTART:20210328T010000
END:DAYLIGHT
BEGIN:STANDARD
TZOFFSETFROM:+0200
TZOFFSETTO:+0100
TZNAME:CET
DTSTART:20211031T010000
END:STANDARD
BEGIN:DAYLIGHT
TZOFFSETFROM:+0100
TZOFFSETTO:+0200
TZNAME:CEST
DTSTART:20220327T010000
END:DAYLIGHT
BEGIN:STANDARD
TZOFFSETFROM:+0200
TZOFFSETTO:+0100
TZNAME:CET
DTSTART:20221030T010000
END:STANDARD
BEGIN:DAYLIGHT
TZOFFSETFROM:+0100
TZOFFSETTO:+0200
TZNAME:CEST
DTSTART:20230326T010000
END:DAYLIGHT
BEGIN:STANDARD
TZOFFSETFROM:+0200
TZOFFSETTO:+0100
TZNAME:CET
DTSTART:20231029T010000
END:STANDARD
END:VTIMEZONE
BEGIN:VEVENT
DTSTART;TZID=Europe/Rome:20221006T000000
DTEND;TZID=Europe/Rome:20221007T235959
DTSTAMP:20260422T044750
CREATED:20220801T134951Z
LAST-MODIFIED:20221005T162910Z
UID:2013-1665014400-1665187199@www.kassiopeagroup.com
SUMMARY:Congresso Nazionale AcEMC 2022\, 6/7 Ottobre 2022 - Istituto Maugeri\, Pavia
DESCRIPTION:6/7 Ottobre 2022 – Pavia \n\n\n\n\n\n\n\n\n\n\nSCARICA IL PROGRAMMAhttps://www.kassiopeagroup.com/wp-content/uploads/2022/09/PCLPlocandinaA3acemc280922-def.pdf \n\n\n\nSCARICA LE NORME EDITORIALI PER INVIARE L’ABSTRACT
URL:https://www.kassiopeagroup.com/evento/2013/
LOCATION:Centro Congressi Istituto Maugeri\,Pavia
END:VEVENT
BEGIN:VEVENT
DTSTART;TZID=Europe/Rome:20220930T153000
DTEND;TZID=Europe/Rome:20220930T233000
DTSTAMP:20260422T044750
CREATED:20220826T085149Z
LAST-MODIFIED:20220826T085150Z
UID:2060-1664551800-1664580600@www.kassiopeagroup.com
SUMMARY:La Notte dei Ricercatori - Sharper Night 2022
DESCRIPTION:La Notte dei Ricercatori è un’iniziativa promossa dalla Commissione Europea fin dal 2005 che coinvolge ogni anno migliaia di ricercatori e istituzioni di ricerca in tutti i paesi europei.SITO WEB
URL:https://www.kassiopeagroup.com/evento/la-notte-dei-ricercatori-sharper-night-2022/
LOCATION:Orto Botanico – Cagliari
END:VEVENT
BEGIN:VEVENT
DTSTART;TZID=Europe/Rome:20220925T170000
DTEND;TZID=Europe/Rome:20220927T140000
DTSTAMP:20260422T044750
CREATED:20220304T135710Z
LAST-MODIFIED:20220919T153907Z
UID:1775-1664125200-1664287200@www.kassiopeagroup.com
SUMMARY:XLIII CONGRESSO NAZIONALE SICO 5th INTERNATIONAL CONFERENCE of SURGICAL ONCOLOGY - Siena\, 25/27 settembre 2022
DESCRIPTION:Siena\, 25/26/27 settembre 2022 \n\n\n\nSITO DEDICATO  \n\n\n\nPROGRAMMA SCIENTIFICO DETTAGLIATO \n\n\n\nCOME RAGGIUNGERE IL PRESIDIO MATTIOLI \n\n\n\nPer informazioni: antonellamurru@kassiopeagroup.com
URL:https://www.kassiopeagroup.com/evento/xliii-congresso-nazionale-sico-5th-international-conference-of-surgical-oncology-siena-25-27-settembre-2022/
END:VEVENT
BEGIN:VEVENT
DTSTART;TZID=Europe/Rome:20220925T080000
DTEND;TZID=Europe/Rome:20220928T170000
DTSTAMP:20260422T044750
CREATED:20220606T143129Z
LAST-MODIFIED:20220606T143414Z
UID:1940-1664092800-1664384400@www.kassiopeagroup.com
SUMMARY:ADDICTION 2022 - Enlightening the addicted brain: cells\, circuits\, and therapies
DESCRIPTION:Organizing Secretariat – addiction2022@kassiopeagroup.com \n\n\n\n\n\n\n\nWebsiteRegistration
URL:https://www.kassiopeagroup.com/evento/addiction-2022/
LOCATION:Hotel Pullman Timi Ama Sardegna\, Viale dei Ginepri\, 3\, 09049 Villasimius SU
END:VEVENT
BEGIN:VEVENT
DTSTART;TZID=Europe/Rome:20220923T083000
DTEND;TZID=Europe/Rome:20220924T180000
DTSTAMP:20260422T044750
CREATED:20220526T135331Z
LAST-MODIFIED:20220824T125156Z
UID:1927-1663921800-1664042400@www.kassiopeagroup.com
SUMMARY:S’ATTOBIU DE CASTEDDU "INCONTRI DI GASTROENTEROLOGIA"
DESCRIPTION:CONGRESSO RESIDENZIALE   \n\n\n\n\n\n\n\n\n\n\n\n\n\n\nSONO APERTE LE ISCRIZIONI\n\n\n\n\nE ‘DISPONIBILE IL PROGRAMMA DEFINITIVO  \n\n\n\n\n\n\n\n\n\n\n\n\n\nProgrammaDownload
URL:https://www.kassiopeagroup.com/evento/sattobiu-de-casteddu-incontri-di-gastroenterologia/
LOCATION:HOTEL CAESAR’S – CAGLIARI
ORGANIZER;CN="Gianluca Sotgiu":MAILTO:gianlucasotgiu@kassiopeagroup.com
END:VEVENT
BEGIN:VEVENT
DTSTART;TZID=Europe/Rome:20220918T080000
DTEND;TZID=Europe/Rome:20220921T170000
DTSTAMP:20260422T044750
CREATED:20220125T091746Z
LAST-MODIFIED:20220125T091842Z
UID:1659-1663488000-1663779600@www.kassiopeagroup.com
SUMMARY:10th Workshop on Modelling Nutrient Digestion and Utilization in Farm Animals (MODNUT)
DESCRIPTION:
URL:https://www.kassiopeagroup.com/evento/10th-workshop-on-modelling-nutrient-digestion-and-utilization-in-farm-animals-modnut/
ORGANIZER;CN="Luisa Serra":MAILTO:luisaserra@kassiopeanews.com
END:VEVENT
BEGIN:VEVENT
DTSTART;TZID=Europe/Rome:20220910T090000
DTEND;TZID=Europe/Rome:20220910T170000
DTSTAMP:20260422T044750
CREATED:20220304T134335Z
LAST-MODIFIED:20220304T134932Z
UID:1771-1662800400-1662829200@www.kassiopeagroup.com
SUMMARY:Fort da: dal gioco al mettersi in gioco
DESCRIPTION:Corso di formazione teorico-pratico introduttivo alla conoscenza dello psicodramma analitico  \n\n\n\n5 APPUNTAMENTI DAL 10/09/2022 AL 10/12/2022 – presso Kinè La Cinegiocoteca\, Via de Ruggiero\, 38 – Bari \n\n\n\n\n\nSCARICA IL PROGRAMMA SCIENTIFICO \n\n\n\nSCARICA LA SCHEDA DI ISCRIZIONE  \n\n\n\nIl Corso è a pagamento \n\n\n\nPer informazioni contattare lorenaloi@kassiopeagroup.com
URL:https://www.kassiopeagroup.com/evento/fort-da-dal-gioco-al-mettersi-in-gioco/
END:VEVENT
BEGIN:VEVENT
DTSTART;TZID=Europe/Rome:20220829T080000
DTEND;TZID=Europe/Rome:20220909T170000
DTSTAMP:20260422T044750
CREATED:20220804T143418Z
LAST-MODIFIED:20220804T143419Z
UID:2050-1661760000-1662742800@www.kassiopeagroup.com
SUMMARY:INTERNATIONAL SMART CITY SCHOOL “CYBER SECURITY - BUILDING TRUST IN THE INFORMATION AGE”- EDUC
DESCRIPTION:SITO WEB
URL:https://www.kassiopeagroup.com/evento/international-smart-city-school-cyber-security-building-trust-in-the-information-age-educ/
END:VEVENT
BEGIN:VEVENT
DTSTART;TZID=Europe/Rome:20220727T080000
DTEND;TZID=Europe/Rome:20220727T170000
DTSTAMP:20260422T044750
CREATED:20220804T142950Z
LAST-MODIFIED:20220804T142951Z
UID:2048-1658908800-1658941200@www.kassiopeagroup.com
SUMMARY:Storie di straordinario ERASMUS: Unica For Africa - Erasmus+
DESCRIPTION:
URL:https://www.kassiopeagroup.com/evento/storie-di-straordinario-erasmus-unica-for-africa-erasmus/
END:VEVENT
BEGIN:VEVENT
DTSTART;TZID=Europe/Rome:20220720T080000
DTEND;TZID=Europe/Rome:20220720T170000
DTSTAMP:20260422T044750
CREATED:20220804T142804Z
LAST-MODIFIED:20220804T142805Z
UID:2044-1658304000-1658336400@www.kassiopeagroup.com
SUMMARY:Evento Matching e Networking CPLUS+
DESCRIPTION:
URL:https://www.kassiopeagroup.com/evento/evento-matching-e-networking-cplus/
LOCATION:INNOIS Srl\, Via S. Salvatore da Horta\, 2\, 09124 Cagliari CA
END:VEVENT
BEGIN:VEVENT
DTSTART;TZID=Europe/Rome:20220702T090000
DTEND;TZID=Europe/Rome:20220702T180000
DTSTAMP:20260422T044750
CREATED:20220401T083715Z
LAST-MODIFIED:20220401T111450Z
UID:1841-1656752400-1656784800@www.kassiopeagroup.com
SUMMARY:Convegno "L'ancoraggio scheletrico per ogni approccio: I tads diretti"
DESCRIPTION:ISCRIZIONI ONLINEScarica il ProgrammaINFOMartina Contu kassiopeagroup@kassiopeagroup.com
URL:https://www.kassiopeagroup.com/evento/convegno-lancoraggio-scheletrico-per-ogni-approccio-i-tads-diretti/
LOCATION:Hotel Holiday Inn\, Viale Umberto Ticca\, 23 (Cagliari)
END:VEVENT
BEGIN:VEVENT
DTSTART;TZID=Europe/Rome:20220630T160000
DTEND;TZID=Europe/Rome:20220630T190000
DTSTAMP:20260422T044750
CREATED:20220303T142922Z
LAST-MODIFIED:20220525T115020Z
UID:1743-1656604800-1656615600@www.kassiopeagroup.com
SUMMARY:MASTERCLASS 2022 VI edizione - LA CHIRURGIA VAGINALE nel POP:  QUANDO e PERCHÉ la SCELTA PROTESICA
DESCRIPTION:Evento residenziale – Bressanone\, 30 giugno-1 Luglio 2022 \n\n\n\nPROGRAMMA DEFINITIVO \n\n\n\nPer informazioni: antonellamurru@kassiopeagroup.com
URL:https://www.kassiopeagroup.com/evento/masterclass-2022-vi-edizione-la-chirurgia-vaginale-nel-pop-quando-e-perche-la-scelta-protesica-2/
END:VEVENT
BEGIN:VEVENT
DTSTART;TZID=Europe/Rome:20220627T180000
DTEND;TZID=Europe/Rome:20220630T130000
DTSTAMP:20260422T044750
CREATED:20220303T145530Z
LAST-MODIFIED:20220303T145530Z
UID:1753-1656352800-1656594000@www.kassiopeagroup.com
SUMMARY:XXXII Congresso Nazionale SoIPa - “Transizioni parassitologiche”
DESCRIPTION:Centro Congressi Federico II (Napoli)\,  27/30 giugno 2022 \n\n\n\nSITO DEDICATO  \n\n\n\n\n\nPer informazioni: domizianamessina@kassiopeagroup.com
URL:https://www.kassiopeagroup.com/evento/xxxii-congresso-nazionale-soipa-transizioni-parassitologiche/
END:VEVENT
BEGIN:VEVENT
DTSTART;TZID=Europe/Rome:20220622T080000
DTEND;TZID=Europe/Rome:20220623T160000
DTSTAMP:20260422T044750
CREATED:20220606T142227Z
LAST-MODIFIED:20220606T142228Z
UID:1936-1655884800-1656000000@www.kassiopeagroup.com
SUMMARY:EPOS SP Annual Meeting | 22 - 23 June 2022
DESCRIPTION:
URL:https://www.kassiopeagroup.com/evento/epos-sp-annual-meeting-22-23-june-2022/
LOCATION:Hotel Barcelona Center\, Carrer de Balmes\, 103\, 08008 Barcelona\, Spagna
END:VEVENT
BEGIN:VEVENT
DTSTART;TZID=Europe/Rome:20220620T080000
DTEND;TZID=Europe/Rome:20220622T170000
DTSTAMP:20260422T044750
CREATED:20220126T114431Z
LAST-MODIFIED:20220613T143603Z
UID:1670-1655712000-1655917200@www.kassiopeagroup.com
SUMMARY:Ten Years of High-Energy Universe in Focus: NuSTAR 2022
DESCRIPTION:Info al link https://nustar.github.io/nustar2022/
URL:https://www.kassiopeagroup.com/evento/ten-years-of-high-energy-universe-in-focus-nustar-2022/
ORGANIZER;CN="Luisa Serra":MAILTO:luisaserra@kassiopeanews.com
END:VEVENT
BEGIN:VEVENT
DTSTART;TZID=Europe/Rome:20220619T080000
DTEND;TZID=Europe/Rome:20220701T170000
DTSTAMP:20260422T044750
CREATED:20220608T105925Z
LAST-MODIFIED:20220608T105926Z
UID:1952-1655625600-1656694800@www.kassiopeagroup.com
SUMMARY:International Smart City School “The challenge of climate change”
DESCRIPTION:Do you want to learn how a city can become smart and sustainable and which are the most suitable technologies? Are you interested and committed in climate change adaptation objectives?  \n\n\n\nAre you looking for an international experience this summer in a charming context? Then apply for the smart city school and spend two weeks at the University of Cagliari\, Italy\, with lectures\, networking events\, co-working laboratories\, field trips and much more!WEBSITEPRELIMINARY PROGRAMFor more information: educ@unica.it 
URL:https://www.kassiopeagroup.com/evento/international-smart-city-school-the-challenge-of-climate-change/
LOCATION:Università Degli Studi di Cagliari
END:VEVENT
BEGIN:VEVENT
DTSTART;TZID=Europe/Rome:20220616T140000
DTEND;TZID=Europe/Rome:20220617T170000
DTSTAMP:20260422T044750
CREATED:20220405T131109Z
LAST-MODIFIED:20220405T131110Z
UID:1858-1655388000-1655485200@www.kassiopeagroup.com
SUMMARY:IX EDIZIONE Interazione Cuore e Polmoni- Dal polmone al cuore …..e ritorno
DESCRIPTION:CONGRESSO RESIDENZIALE  \n\n\n\n\nSONO APERTE LE ISCRIZIONI: \n\n\n\n\n\n\n\n\n\n\n\n\nPreliminareDownload
URL:https://www.kassiopeagroup.com/evento/ix-edizione-interazione-cuore-e-polmoni-dal-polmone-al-cuore-e-ritorno/
LOCATION:HOTEL CAESAR’S – CAGLIARI
ORGANIZER;CN="Gianluca Sotgiu":MAILTO:gianlucasotgiu@kassiopeagroup.com
END:VEVENT
BEGIN:VEVENT
DTSTART;TZID=Europe/Rome:20220616T090000
DTEND;TZID=Europe/Rome:20220616T200000
DTSTAMP:20260422T044750
CREATED:20220606T144504Z
LAST-MODIFIED:20220606T144504Z
UID:1946-1655370000-1655409600@www.kassiopeagroup.com
SUMMARY:UNICA & IMPRESE AGRIFOOD EDITION
DESCRIPTION:SITO WEB
URL:https://www.kassiopeagroup.com/evento/unica-imprese-agrifood-edition/
LOCATION:Centro Universitario Sportivo – CUS Cagliari
END:VEVENT
BEGIN:VEVENT
DTSTART;TZID=Europe/Rome:20220610T090000
DTEND;TZID=Europe/Rome:20220610T183000
DTSTAMP:20260422T044750
CREATED:20220411T110259Z
LAST-MODIFIED:20220603T084857Z
UID:1878-1654851600-1654885800@www.kassiopeagroup.com
SUMMARY:Impatto della gravidanza sul sistema immunitario.                                                          Attualità e prospettive nell'ambito della sclerosi multipla.
DESCRIPTION:Responsabile Scientifico: Lorena Lorefice – Eleonora Cocco- Centro Regionale Sclerosi Multipla                                Università di Cagliari\,  ASL di Cagliari \n\n\n\n \n\n\n\n\n\nISCRIZIONI CHIUSE  \n\n\n\nScarica il Programma scientifico
URL:https://www.kassiopeagroup.com/evento/impatto-della-gravidanza-sul-sistema-immunitario-attualita-e-prospettive-nellambito-della-sclerosi-multipla-2/
END:VEVENT
BEGIN:VEVENT
DTSTART;TZID=Europe/Rome:20220603T143000
DTEND;TZID=Europe/Rome:20220604T090000
DTSTAMP:20260422T044750
CREATED:20220303T144555Z
LAST-MODIFIED:20220505T094337Z
UID:1749-1654266600-1654333200@www.kassiopeagroup.com
SUMMARY:Nel CUORE di... Cagliari - Il medico tra arte e scienza
DESCRIPTION:3/4 Giugno 2022 – THotel (Cagliari)  \n\n\n\nPROGRAMMA SCIENTIFICO \n\n\n\n \n\n\n\nISCRIVITI QUI \n\n\n\nPer informazioni: domizianamessina@kassiopeagroup.com
URL:https://www.kassiopeagroup.com/evento/nel-cuore-di-cagliari-il-medico-tra-arte-e-scienza/
END:VEVENT
BEGIN:VEVENT
DTSTART;TZID=Europe/Rome:20220527T143000
DTEND;TZID=Europe/Rome:20220528T193000
DTSTAMP:20260422T044750
CREATED:20220225T111005Z
LAST-MODIFIED:20220429T095558Z
UID:1717-1653661800-1653766200@www.kassiopeagroup.com
SUMMARY:XIII CONGRESSO MEDICINA DELLO SPORT:CITTA’ DI CABRAS VIII MEMORIAL MARCELLO FAINA L’ESERCIZIO FISICO E’UN FARMACO ?
DESCRIPTION:CONGRESSO RESIDENZIALE \n\n\n\n \n\n\n\n\n\nSONO APERTE LE ISCRIZIONI \n\n\n\n\nScheda di RegistrazioneDownload\n\n\n\n\n\n\n\n\nProgrammaDownload
URL:https://www.kassiopeagroup.com/evento/xiii-congresso-medicina-dello-sportcitta-di-cabras-viii-memorial-marcello-faina-lesercizio-fisico-eun-farmaco/
LOCATION:Sala Convegni Centro Polivalente Via Tharros – CABRAS (OR)
ORGANIZER;CN="Gianluca Sotgiu":MAILTO:gianlucasotgiu@kassiopeagroup.com
END:VEVENT
BEGIN:VEVENT
DTSTART;TZID=Europe/Rome:20220527T100000
DTEND;TZID=Europe/Rome:20220528T130000
DTSTAMP:20260422T044750
CREATED:20211222T084917Z
LAST-MODIFIED:20220427T145036Z
UID:1642-1653645600-1653742800@www.kassiopeagroup.com
SUMMARY:Congresso "Percorso multidisciplinare integrato del paziente con GEP-NET"
DESCRIPTION:Aula Atza\, Arnas Brotzu Cagliari \n\n\n\nLe iscrizioni gratuite sono aperte  \n\n\n\nNon saranno accettate iscrizioni in loco \n\n\n\nPROGRAMMA PRELIMINARE DEL CORSO \n\n\n\nISCRIZIONI ONLINE
URL:https://www.kassiopeagroup.com/evento/congresso-percorso-multidisciplinare-integrato-del-paziente-con-gep-net/
END:VEVENT
BEGIN:VEVENT
DTSTART;TZID=Europe/Rome:20220526T160000
DTEND;TZID=Europe/Rome:20220526T190000
DTSTAMP:20260422T044750
CREATED:20220303T142648Z
LAST-MODIFIED:20220303T143021Z
UID:1740-1653580800-1653591600@www.kassiopeagroup.com
SUMMARY:MASTERCLASS 2022 VI edizione - LA CHIRURGIA VAGINALE nel POP:  QUANDO e PERCHÉ la SCELTA PROTESICA
DESCRIPTION:Evento residenziale – Bassano del Grappa\,  26/27 maggio 2022 \n\n\n\nA breve sarà disponibile il programma dettagliato. \n\n\n\nPer informazioni: antonellamurru@kassiopeagroup.com
URL:https://www.kassiopeagroup.com/evento/masterclass-2022-vi-edizione-la-chirurgia-vaginale-nel-pop-quando-e-perche-la-scelta-protesica/
END:VEVENT
BEGIN:VEVENT
DTSTART;TZID=Europe/Rome:20220519T090000
DTEND;TZID=Europe/Rome:20220520T180000
DTSTAMP:20260422T044750
CREATED:20220321T131719Z
LAST-MODIFIED:20220408T090603Z
UID:1815-1652950800-1653069600@www.kassiopeagroup.com
SUMMARY:Congresso Nazionale SIGIA 2022-                     Corso Precongressuale sull'abuso
DESCRIPTION:19-20 MAGGIO 2022-Hotel Regina Margherita  \n\n\n\nISCRIVITI QUI  http://kassiopea.onlinecongress.it/CongressoSIGIA2022 \n\n\n\nA breve sarà disponibile il programma scientifico dettaglio \n\n\n\n \n\n\n\n\n\nSi precisa che il corso precongressuale si terrà dalle ore 9.00 alle ore 13.00 ed il Congresso Nazionale inizierà alle 14.00.Inoltre si comunica che sono accreditati diversamente e che per partecipare bisogna iscriversi a pagamento ad entrambi.
URL:https://www.kassiopeagroup.com/evento/congresso-nazionale-sigia-2022-corso-precongressuale-sullabuso/
END:VEVENT
BEGIN:VEVENT
DTSTART;TZID=Europe/Rome:20220505T110000
DTEND;TZID=Europe/Rome:20220506T190000
DTSTAMP:20260422T044750
CREATED:20220126T111428Z
LAST-MODIFIED:20220504T081655Z
UID:1665-1651748400-1651863600@www.kassiopeagroup.com
SUMMARY:V Edizione "LE NUOVE SFIDE NELLA GESTIONE DELLE MICI:DALL’ETÀ PEDIATRICA ALL’ADULTO" - Corso Avanzato
DESCRIPTION:Congresso Residenziale \n\n\n\nA BREVE SARANNO PRESENTI ULTERIORI INFORMAZIONI E IL PROGRAMMA DEFINITIVO \n\n\n\nSONO APERTE LE ISCRIZIONI  \n\n\n\n\n\n\n\n\n\n\n\nProgrammaDownload
URL:https://www.kassiopeagroup.com/evento/le-nuove-sfide-nella-gestione-delle-micidalleta-pediatrica-alladulto-corso-avanzato/
LOCATION:QUARTER SAYAL\, Via Garibaldi 87\,\, Alghero (SS)\, Alghero\, 07041\, Italia
ORGANIZER;CN="Gianluca Sotgiu":MAILTO:gianlucasotgiu@kassiopeagroup.com
END:VEVENT
BEGIN:VEVENT
DTSTART;TZID=Europe/Rome:20220430T083000
DTEND;TZID=Europe/Rome:20220430T140000
DTSTAMP:20260422T044750
CREATED:20220303T142256Z
LAST-MODIFIED:20220428T110407Z
UID:1737-1651307400-1651327200@www.kassiopeagroup.com
SUMMARY:2a Giornata Sarda di Medicina dello Sport
DESCRIPTION:FAD WEBINAR – SABATO\, 30 APRILE 2022 H. 08.30 – 14.00 \n\n\n\nSCARICA IL PROGRAMMA SCIENTIFICO \n\n\n\nLINK DI ISCRIZIONE \n\n\n\nPer informazioni: antonellamurru@kassiopeagroup.com
URL:https://www.kassiopeagroup.com/evento/2a-giornata-sarda-di-medicina-dello-sport/
END:VEVENT
BEGIN:VEVENT
DTSTART;TZID=Europe/Rome:20220428T080000
DTEND;TZID=Europe/Rome:20220429T170000
DTSTAMP:20260422T044750
CREATED:20220225T132938Z
LAST-MODIFIED:20220301T110014Z
UID:1723-1651132800-1651251600@www.kassiopeagroup.com
SUMMARY:Symposium In Memoriam -"Tribute to a Great Man Father and Doctor" Claudio Ferdinando Roberto Donner
DESCRIPTION:ProgrammaDownload
URL:https://www.kassiopeagroup.com/evento/symposium-in-memoriam-tribute-to-a-great-man-father-and-doctor-claudio-ferdinando-roberto-donner/
LOCATION:Grand Hotel Dino di Baveno\, Corso Giuseppe Garibaldi\, 20\, 28831\, Baveno\, Italia
ORGANIZER;CN="Gianluca Sotgiu":MAILTO:gianlucasotgiu@kassiopeagroup.com
END:VEVENT
BEGIN:VEVENT
DTSTART;TZID=Europe/Rome:20220423T150000
DTEND;TZID=Europe/Rome:20220423T190000
DTSTAMP:20260422T044750
CREATED:20220311T130438Z
LAST-MODIFIED:20220404T095257Z
UID:1808-1650726000-1650740400@www.kassiopeagroup.com
SUMMARY:Corso CARDIONURSING (Congresso regionale ANMCO 2022)
DESCRIPTION:23 aprile 2022 – Thotel (Cagliari) \n\n\n\nSCARICA IL PROGRAMMA \n\n\n\nISCRIVITI QUI \n\n\n\nPer informazioni: domizianamessina@kassiopeagroup.com
URL:https://www.kassiopeagroup.com/evento/corso-cardionursing-congresso-regionale-anmco-2022/
END:VEVENT
BEGIN:VEVENT
DTSTART;TZID=Europe/Rome:20220422T090000
DTEND;TZID=Europe/Rome:20220423T123000
DTSTAMP:20260422T044750
CREATED:20220325T115942Z
LAST-MODIFIED:20220325T120006Z
UID:1825-1650618000-1650717000@www.kassiopeagroup.com
SUMMARY:Strengthening networks on Mental Health in the Mediterranean area - Webinar
DESCRIPTION:22 Aprile 09:00-19:0023 Aprile 09:00-12:15SCARICA IL PROGRAMMA DETTAGLIATOIscriviti Qui/Sign up hereWebsite
URL:https://www.kassiopeagroup.com/evento/strengthening-networks-on-mental-health-in-the-mediterranean-area-webinar/
END:VEVENT
BEGIN:VEVENT
DTSTART;TZID=Europe/Rome:20220422T090000
DTEND;TZID=Europe/Rome:20220423T090000
DTSTAMP:20260422T044750
CREATED:20220303T144114Z
LAST-MODIFIED:20220404T095329Z
UID:1747-1650618000-1650704400@www.kassiopeagroup.com
SUMMARY:CONGRESSO REGIONALE ANMCO SARDEGNA 2022 "Un cuore\, mille voci"
DESCRIPTION:22-23 aprile 2022 – Thotel (Cagliari) \n\n\n\nSCARICA IL PROGRAMMA  \n\n\n\nISCRIVITI QUI \n\n\n\nPer informazioni: domizianamessina@kassiopeagroup.com
URL:https://www.kassiopeagroup.com/evento/congresso-regionale-anmco-sardegna-un-cuore-mille-voci/
END:VEVENT
END:VCALENDAR