BEGIN:VCALENDAR
VERSION:2.0
PRODID:-//Kassiopea Group - ECPv6.15.18//NONSGML v1.0//EN
CALSCALE:GREGORIAN
METHOD:PUBLISH
X-WR-CALNAME:Kassiopea Group
X-ORIGINAL-URL:https://www.kassiopeagroup.com
X-WR-CALDESC:Eventi per Kassiopea Group
REFRESH-INTERVAL;VALUE=DURATION:PT1H
X-Robots-Tag:noindex
X-PUBLISHED-TTL:PT1H
BEGIN:VTIMEZONE
TZID:Europe/Rome
BEGIN:DAYLIGHT
TZOFFSETFROM:+0100
TZOFFSETTO:+0200
TZNAME:CEST
DTSTART:20200329T010000
END:DAYLIGHT
BEGIN:STANDARD
TZOFFSETFROM:+0200
TZOFFSETTO:+0100
TZNAME:CET
DTSTART:20201025T010000
END:STANDARD
BEGIN:DAYLIGHT
TZOFFSETFROM:+0100
TZOFFSETTO:+0200
TZNAME:CEST
DTSTART:20210328T010000
END:DAYLIGHT
BEGIN:STANDARD
TZOFFSETFROM:+0200
TZOFFSETTO:+0100
TZNAME:CET
DTSTART:20211031T010000
END:STANDARD
BEGIN:DAYLIGHT
TZOFFSETFROM:+0100
TZOFFSETTO:+0200
TZNAME:CEST
DTSTART:20220327T010000
END:DAYLIGHT
BEGIN:STANDARD
TZOFFSETFROM:+0200
TZOFFSETTO:+0100
TZNAME:CET
DTSTART:20221030T010000
END:STANDARD
END:VTIMEZONE
BEGIN:VEVENT
DTSTART;TZID=Europe/Rome:20211214T120000
DTEND;TZID=Europe/Rome:20211214T120000
DTSTAMP:20260421T215852
CREATED:20211221T124649Z
LAST-MODIFIED:20211221T124649Z
UID:1635-1639483200-1639483200@www.kassiopeagroup.com
SUMMARY:CONVEGNO FINALE FSC CORRIAS
DESCRIPTION:Dipartimento di Giurisprudenza – Cagliari\, 14 dicembre 2021 \n\n\n\n\n\nAccordo Quadro – Università degli Studi di Cagliari – Servizi di supporto
URL:https://www.kassiopeagroup.com/evento/convegno-finale-fsc-corrias/
END:VEVENT
BEGIN:VEVENT
DTSTART;TZID=Europe/Rome:20211211T093000
DTEND;TZID=Europe/Rome:20211211T130000
DTSTAMP:20260421T215852
CREATED:20211115T130319Z
LAST-MODIFIED:20211209T082729Z
UID:1562-1639215000-1639227600@www.kassiopeagroup.com
SUMMARY:PREVENZIONE del TROMBOEMBOLISMO nella FIBRILLAZIONE ATRIALE:GESTIONE CONGIUNTA OSPEDALE – TERRITORIO
DESCRIPTION:SCARICA PROGRAMMA SCIENTIFICO \n\n\n\n\n\nISCRIZIONI CHIUSE
URL:https://www.kassiopeagroup.com/evento/prevenzione-del-tromboembolismo-nella-fibrillazione-atrialegestione-congiunta-ospedale-territorio/
END:VEVENT
BEGIN:VEVENT
DTSTART;TZID=Europe/Rome:20211211T090000
DTEND;TZID=Europe/Rome:20211211T090000
DTSTAMP:20260421T215852
CREATED:20211111T115607Z
LAST-MODIFIED:20211122T133557Z
UID:1547-1639213200-1639213200@www.kassiopeagroup.com
SUMMARY:UPDATES IN MEDICINA DELLO SPORT - FAD
DESCRIPTION:FAD – WEBINAR 11 DICEMBRE H. 08.45 – H. 12.00 \n\n\n\nSCARICA PROGRAMMA SCIENTIFICO \n\n\n\nLINK DI ISCRIZIONE
URL:https://www.kassiopeagroup.com/evento/updates-in-medicina-dello-sport-fad/
END:VEVENT
BEGIN:VEVENT
DTSTART;TZID=Europe/Rome:20211210T150000
DTEND;TZID=Europe/Rome:20211210T150000
DTSTAMP:20260421T215852
CREATED:20210507T095824Z
LAST-MODIFIED:20210507T095825Z
UID:1260-1639148400-1639148400@www.kassiopeagroup.com
SUMMARY:Virtual Congress – 2nd SICOweb ANNUAL MEETING 2021 – Road to Siena 2022 (QUALITY)
DESCRIPTION:Per informazioni ulteriori e aggiornamenti visita il sito SICOWEB antonellamurru@kassiopeagroup.com\, info@sicoweb.it \n\n\n\nSCARICA IL SAVE THE DATE
URL:https://www.kassiopeagroup.com/evento/virtual-congress-2nd-sicoweb-annual-meeting-2021-road-to-siena-2022-quality/
END:VEVENT
BEGIN:VEVENT
DTSTART;TZID=Europe/Rome:20211127T093000
DTEND;TZID=Europe/Rome:20211127T133000
DTSTAMP:20260421T215852
CREATED:20211122T140120Z
LAST-MODIFIED:20211124T100554Z
UID:1570-1638005400-1638019800@www.kassiopeagroup.com
SUMMARY:Nel Cuore di...Cagliari - Laboratorio
DESCRIPTION:scarica qui il programma scientifico \n\n\n\nLe iscrizioni al Corso sono chiuse. \n\n\n\nPer informazioni rivolgersi a Domiziana Messina domizianamessina@kassiopeagroup.com
URL:https://www.kassiopeagroup.com/evento/nel-cuore-di-cagliari-laboratorio/
LOCATION:Hotel Regina Margherita – Cagliari
END:VEVENT
BEGIN:VEVENT
DTSTART;TZID=Europe/Rome:20211120T090000
DTEND;TZID=Europe/Rome:20211120T140000
DTSTAMP:20260421T215852
CREATED:20210611T115511Z
LAST-MODIFIED:20211112T095534Z
UID:1307-1637398800-1637416800@www.kassiopeagroup.com
SUMMARY:Breast Cancer Update 2021\, Thotel (Cagliari) 20 novembre 2021
DESCRIPTION:L’evento si terrà al Thotel di Cagliari dalle ore 08.30 alle ore 13.00 \n\n\n\nSCARICA IL PROGRAMMA DETTAGLIATO \n\n\n\nPER L’ISCRIZIONE CLICCA QUI \n\n\n\nLe iscrizioni sono chiuse. L’evento sarà anche in DIRETTA STREAMING sulla pagina Facebook di Kassiopea Group. I partecipanti collegati su Facebook non avranno la possibilità di acquisire i crediti formativi ECM. \n\n\n\nPer informazioni contattare antonellamurru@kassiopeagroup.com
URL:https://www.kassiopeagroup.com/evento/breast-cancer-update-2021/
LOCATION:Cagliari (Thotel)
END:VEVENT
BEGIN:VEVENT
DTSTART;TZID=Europe/Rome:20211119T150000
DTEND;TZID=Europe/Rome:20211119T150000
DTSTAMP:20260421T215852
CREATED:20210507T095618Z
LAST-MODIFIED:20210507T095618Z
UID:1257-1637334000-1637334000@www.kassiopeagroup.com
SUMMARY:Virtual Congress – 2nd SICOweb ANNUAL MEETING 2021 – Road to Siena 2022 (INNOVATION)
DESCRIPTION:Per informazioni ulteriori e aggiornamenti visita il sito SICOWEB antonellamurru@kassiopeagroup.com\, info@sicoweb.it \n\n\n\nSCARICA IL SAVE THE DATE
URL:https://www.kassiopeagroup.com/evento/virtual-congress-2nd-sicoweb-annual-meeting-2021-road-to-siena-2022-innovation/
END:VEVENT
BEGIN:VEVENT
DTSTART;TZID=Europe/Rome:20211116T120000
DTEND;TZID=Europe/Rome:20211116T120000
DTSTAMP:20260421T215852
CREATED:20211221T124842Z
LAST-MODIFIED:20211221T124842Z
UID:1637-1637064000-1637064000@www.kassiopeagroup.com
SUMMARY:MEETING - ISIDE
DESCRIPTION:CIREM- CITTADELLA UNIVERSITARIA DI MONSERRATO\, 16 novembre 2021 \n\n\n\n\n\nAccordo Quadro – Università degli Studi di Cagliari – Servizi di supporto
URL:https://www.kassiopeagroup.com/evento/meeting-iside-2/
END:VEVENT
BEGIN:VEVENT
DTSTART;TZID=Europe/Rome:20211116T120000
DTEND;TZID=Europe/Rome:20211116T120000
DTSTAMP:20260421T215852
CREATED:20211221T124417Z
LAST-MODIFIED:20211221T124417Z
UID:1633-1637064000-1637064000@www.kassiopeagroup.com
SUMMARY:Second joint learning event of MEDLENTISK project
DESCRIPTION:Sardegna Ricerche Conference Center\, Edificio 2 16-17 Novembre 2021 \n\n\n\n\n\nAccordo Quadro – Università degli Studi di Cagliari – Servizi di supporto
URL:https://www.kassiopeagroup.com/evento/second-joint-learning-event-of-medlentisk-project/
END:VEVENT
BEGIN:VEVENT
DTSTART;TZID=Europe/Rome:20211113T090000
DTEND;TZID=Europe/Rome:20211113T173000
DTSTAMP:20260421T215852
CREATED:20211005T105515Z
LAST-MODIFIED:20211015T103849Z
UID:1487-1636794000-1636824600@www.kassiopeagroup.com
SUMMARY:XI CONGRESSO REGIONALE TRISOCIETARIO DI GASTROENTEROLOGIA
DESCRIPTION:Congresso Residenziale \n\n\n\nLE ISCRIZIONI SONO MOMENTANEAMENTE CHIUSE PER MOTIVI DI PROTOCOLLI COVID \n\n\n\n\n\n\n\nPROGRAMMADownload
URL:https://www.kassiopeagroup.com/evento/xi-congresso-regionale-trisocietario-di-gastroenterologia/
LOCATION:SALA CONGRESSI TEATRO DOGLIO\, Via Logudoro\, 32\,\, CAGLIARI\, Italia
ORGANIZER;CN="Gianluca Sotgiu":MAILTO:gianlucasotgiu@kassiopeagroup.com
END:VEVENT
BEGIN:VEVENT
DTSTART;TZID=Europe/Rome:20211110T120000
DTEND;TZID=Europe/Rome:20211110T120000
DTSTAMP:20260421T215852
CREATED:20211221T124006Z
LAST-MODIFIED:20211221T124007Z
UID:1629-1636545600-1636545600@www.kassiopeagroup.com
SUMMARY:Justifying changes and legitimising innovation in Indian culture
DESCRIPTION:Fondazione Banco di Sardegna (Cagliari) 10-12 novembre 2021 \n\n\n\n\n\nAccordo Quadro – Università degli Studi di Cagliari – Servizi di supporto
URL:https://www.kassiopeagroup.com/evento/justifying-changes-and-legitimising-innovation-in-indian-culture/
END:VEVENT
BEGIN:VEVENT
DTSTART;TZID=Europe/Rome:20211106T103000
DTEND;TZID=Europe/Rome:20211106T150000
DTSTAMP:20260421T215852
CREATED:20210727T134714Z
LAST-MODIFIED:20210727T135323Z
UID:1366-1636194600-1636210800@www.kassiopeagroup.com
SUMMARY:I tumori neuroendocrini GEP nella pratica clinica: i dubbi da risolvere…
DESCRIPTION:
URL:https://www.kassiopeagroup.com/evento/i-tumori-neuroendocrini-gep-nella-pratica-clinica-i-dubbi-da-risolvere/
LOCATION:Ospedale Moriggia Pelascini  – Gravedona (CO)
END:VEVENT
BEGIN:VEVENT
DTSTART;TZID=Europe/Rome:20211105T090000
DTEND;TZID=Europe/Rome:20211105T170000
DTSTAMP:20260421T215852
CREATED:20210701T061944Z
LAST-MODIFIED:20211102T145859Z
UID:1312-1636102800-1636131600@www.kassiopeagroup.com
SUMMARY:NIPT\, ECOGRAFIA FETALE e SCREENING PREECLAMPSIA del PRIMO TRIMESTRE STATO DELL’ARTE e PROSPETTIVE FUTURE\, Padova - 5 novembre 2021
DESCRIPTION:Il Congresso prevede una quota di partecipazione di € 100\,00\, a breve saranno attivate le iscrizioni on -line \n\n\n\nPROGRAMMA SCIENTIFICO DETTAGLIATO \n\n\n\nLINK ISCRIZIONI ON LINE \n\n\n\nPer informazioni contattare antonellamurru@kassiopeagroup.com \n\n\n\nVi informiamo inoltre che qualora  si intenda raggiungere la sede del Congresso in macchina\, il parcheggio più comodo e conveniente è il Park Padova centro – Via Trieste\, 50 Padova
URL:https://www.kassiopeagroup.com/evento/nipt-ecografia-fetale-e-screening-preeclampsia-del-primo-trimestre-stato-dellarte-e-prospettive-future-padova-5-novembre-2021/
END:VEVENT
BEGIN:VEVENT
DTSTART;TZID=Europe/Rome:20211030T090000
DTEND;TZID=Europe/Rome:20211030T140000
DTSTAMP:20260421T215852
CREATED:20210715T143108Z
LAST-MODIFIED:20211006T201323Z
UID:1346-1635584400-1635602400@www.kassiopeagroup.com
SUMMARY:TAKE CARE OF CHILDREN
DESCRIPTION:Prendersi cura dei bambini con la fitoterapia e gli integratori alimentari. Istruzione per l’uso\, opportunità e limiti. Il sistema immunitario a 360° \n\n\n\nBROCHURE TAKE CARE OF CHILDREN 30 OTTOBRE 2021 \n\n\n\nhttps://www.kassiopeagroup.com/wp-content/uploads/2021/10/BROCHURE-TAKE-CARE-30-OT.pdf \n\n\n\nIl Congresso si terrà il 30 ottobre presso il T Hotel di Cagliari. Le iscrizioni sono aperte\, per partecipare compilare il modulo al seguente link: ISCRIZIONI
URL:https://www.kassiopeagroup.com/evento/take-care-of-children/
LOCATION:T Hotel\, Cagliari\, Via dei Giudicati\, 66\, Cagliari\, 09131\, Italia
END:VEVENT
BEGIN:VEVENT
DTSTART;TZID=Europe/Rome:20211029T150000
DTEND;TZID=Europe/Rome:20211029T150000
DTSTAMP:20260421T215852
CREATED:20210507T095325Z
LAST-MODIFIED:20210507T095325Z
UID:1254-1635519600-1635519600@www.kassiopeagroup.com
SUMMARY:Virtual Congress – 2nd SICOweb ANNUAL MEETING 2021 – Road to Siena 2022 (TRAINING)
DESCRIPTION:Per informazioni ulteriori e aggiornamenti visita il sito SICOWEB antonellamurru@kassiopeagroup.com\, info@sicoweb.it \n\n\n\nSCARICA IL SAVE THE DATE
URL:https://www.kassiopeagroup.com/evento/virtual-congress-2nd-sicoweb-annual-meeting-2021-road-to-siena-2022-training/
END:VEVENT
BEGIN:VEVENT
DTSTART;TZID=Europe/Rome:20211028T163000
DTEND;TZID=Europe/Rome:20211029T190000
DTSTAMP:20260421T215852
CREATED:20210715T142754Z
LAST-MODIFIED:20210930T125448Z
UID:1343-1635438600-1635534000@www.kassiopeagroup.com
SUMMARY:17th International Workshop on Neonatology and Pediatrics - LIVE EDITION
DESCRIPTION:Webinar\, informazioni e programma sulla piattaforma FAD-K  \n\n\n\n \n\n\n\n\n\nIscrizione a pagamento per professionisti con crediti ECM. Iscrizione gratuita per studenti\, specializzandi e NO ECM
URL:https://www.kassiopeagroup.com/evento/17th-international-workshop-on-neonatology-and-pediatrics-live-edition/
ORGANIZER;CN="Luisa Serra":MAILTO:luisaserra@kassiopeanews.com
END:VEVENT
BEGIN:VEVENT
DTSTART;TZID=Europe/Rome:20211026T090000
DTEND;TZID=Europe/Rome:20211027T180000
DTSTAMP:20260421T215852
CREATED:20210727T133454Z
LAST-MODIFIED:20210727T133656Z
UID:1358-1635238800-1635357600@www.kassiopeagroup.com
SUMMARY:IL TRATTAMENTO DEI DISTURBI DI PERSONALITÀ TRA INQUADRAMENTO PSICHIATRICO E PSICOTERAPIA FENOMENOLOGICA - Webinar
DESCRIPTION:A breve sarà disponibile il programma scientifico dettagliato
URL:https://www.kassiopeagroup.com/evento/il-trattamento-dei-disturbi-di-personalita-tra-inquadramento-psichiatrico-e-psicoterapia-fenomenologica-2/
END:VEVENT
BEGIN:VEVENT
DTSTART;TZID=Europe/Rome:20211018T120000
DTEND;TZID=Europe/Rome:20211018T120000
DTSTAMP:20260421T215852
CREATED:20211221T120450Z
LAST-MODIFIED:20211221T120451Z
UID:1627-1634558400-1634558400@www.kassiopeagroup.com
SUMMARY:Welcome Day Matricole
DESCRIPTION:Università degli Studi di Cagliari\, 18/22 ottobre 2021 \n\n\n\n\n\nAccordo Quadro – Università degli Studi di Cagliari – Servizi di supporto
URL:https://www.kassiopeagroup.com/evento/welcome-day-matricole/
END:VEVENT
BEGIN:VEVENT
DTSTART;TZID=Europe/Rome:20211013T120000
DTEND;TZID=Europe/Rome:20211013T120000
DTSTAMP:20260421T215852
CREATED:20211221T114318Z
LAST-MODIFIED:20211221T114319Z
UID:1610-1634126400-1634126400@www.kassiopeagroup.com
SUMMARY:Convegno "Grandi Magazzini. Il cinema italiano e l’immaginario dei consumi"
DESCRIPTION:13- 14 ottobre 2021 – Cittadella dei Musei (Cagliari) \n\n\n\n\n\nAccordo Quadro – Università degli Studi di Cagliari – Servizi di supporto
URL:https://www.kassiopeagroup.com/evento/convegno-grandi-magazzini-il-cinema-italiano-e-limmaginario-dei-consumi/
END:VEVENT
BEGIN:VEVENT
DTSTART;TZID=Europe/Rome:20211009T100000
DTEND;TZID=Europe/Rome:20211009T143000
DTSTAMP:20260421T215852
CREATED:20210809T084519Z
LAST-MODIFIED:20210917T095612Z
UID:1410-1633773600-1633789800@www.kassiopeagroup.com
SUMMARY:Appropiatezza diagnostica e terapeutica nella gestione delle malattie infiammatorie intestinali:il MMG interroga gli specialisti
DESCRIPTION:SALA COMUNALE CARLOFORTE\n\n\n\n\n\nCongresso Residenziale \n\n\n\nA BREVE SARANNO DISPONIBILI ULTERIORI INFORMAZIONI \n\n\n\n\n\n\n\nProgrammaDownload
URL:https://www.kassiopeagroup.com/evento/appropiatezza-diagnostica-e-terapeutica-nella-gestione-delle-malattie-infiammatorie-intestinaliil-mmg-interroga-gli-specialisti/
ORGANIZER;CN="Gianluca Sotgiu":MAILTO:gianlucasotgiu@kassiopeagroup.com
END:VEVENT
BEGIN:VEVENT
DTSTART;TZID=Europe/Rome:20211008T143000
DTEND;TZID=Europe/Rome:20211008T183000
DTSTAMP:20260421T215852
CREATED:20210927T094459Z
LAST-MODIFIED:20210927T110647Z
UID:1463-1633703400-1633717800@www.kassiopeagroup.com
SUMMARY:Characterization of genomic and metabolomics signatures of endometriosis - Convegno finale del Progetto biennale d'Ateneo finanziato dalla Fondazione di Sardegna annualità 2017
DESCRIPTION:Iscrizione su invito \n\n\n\n\n\nSCARICA PROGRAMMA DETTAGLIATO
URL:https://www.kassiopeagroup.com/evento/characterization-of-genomic-and-metabolomics-signatures-of-endometriosis-convegno-finale-del-progetto-biennale-dateneo-finanziato-dalla-fondazione-di-sardegna-annualita-2017/
END:VEVENT
BEGIN:VEVENT
DTSTART;TZID=Europe/Rome:20211007T000000
DTEND;TZID=Europe/Rome:20211007T235959
DTSTAMP:20260421T215852
CREATED:20210507T094514Z
LAST-MODIFIED:20220801T140104Z
UID:1252-1633564800-1633651199@www.kassiopeagroup.com
SUMMARY:Congresso Nazionale ACEMC - Savona 7/8 ottobre 2021
DESCRIPTION:Il Congresso Nazionale ACEMC (Academy of Emergency Medicine and Care) si terrà a Savona il 7/8 ottobre 2021 \n\n\n\nPer informazioni e iscrizioni: barbarapanico@kassiopeagroup.com \n\n\n\n   \n\n\n\nScarica il Programma Scientifico \n\n\n\nCall  for Abstract \n\n\n\nRegolamento mostra fotografica
URL:https://www.kassiopeagroup.com/evento/congresso-nazionale-acemc-savona-7-8-ottobre-2021/
END:VEVENT
BEGIN:VEVENT
DTSTART;TZID=Europe/Rome:20211005T000000
DTEND;TZID=Europe/Rome:20211006T235959
DTSTAMP:20260421T215852
CREATED:20210610T085104Z
LAST-MODIFIED:20210928T090749Z
UID:1291-1633392000-1633564799@www.kassiopeagroup.com
SUMMARY:VIII EDIZIONE Interazione Cuore e Polmoni Dal polmone al cuore …..e ritorno
DESCRIPTION:Congresso Residenziale \n\n\n\n\n\nSONO APERTE LE ISCRIZIONI \n\n\n\n\n\n\n\n\n\n\n\n\n\nDefinitivo-CongressoDownload
URL:https://www.kassiopeagroup.com/evento/viii-edizione-interazione-cuore-e-polmoni-dal-polmone-al-cuore-e-ritorno/
LOCATION:HOTEL CAESAR’S – CAGLIARI
ORGANIZER;CN="Gianluca Sotgiu":MAILTO:gianlucasotgiu@kassiopeagroup.com
END:VEVENT
BEGIN:VEVENT
DTSTART;TZID=Europe/Rome:20211002T090000
DTEND;TZID=Europe/Rome:20211002T180000
DTSTAMP:20260421T215852
CREATED:20210727T134329Z
LAST-MODIFIED:20210727T134329Z
UID:1362-1633165200-1633197600@www.kassiopeagroup.com
SUMMARY:42° Congresso NSoSOT-13° Congresso OTODI Sardegna "ASPETTI CLINICO-ORGANIZZATIVI IN ORTOPEDIA E TRAUMATOLOGIA"
DESCRIPTION:A breve sarà disponibile il programma scientifico dettagliato
URL:https://www.kassiopeagroup.com/evento/42-congresso-nsosot-13-congresso-otodi-sardegna-aspetti-clinico-organizzativi-in-ortopedia-e-traumatologia/
LOCATION:Sala Engle – Aeroporto “Costa Smeralda” – Olbia
END:VEVENT
BEGIN:VEVENT
DTSTART;TZID=Europe/Rome:20211002T090000
DTEND;TZID=Europe/Rome:20211002T140000
DTSTAMP:20260421T215852
CREATED:20210707T135118Z
LAST-MODIFIED:20210917T095323Z
UID:1331-1633165200-1633183200@www.kassiopeagroup.com
SUMMARY:Le malattie infiammatorie intestinali  nell’ambulatorio di medicina generale:  il Medico di Medicina Generale interroga gli specialisti
DESCRIPTION:CORSO RESIDENZIALE \n\n\n\nA BREVE SARANNO APERTE LE ISCRIZIONI \n\n\n\n\n\n\n\nDefinitivo-IIIDownload
URL:https://www.kassiopeagroup.com/evento/le-malattie-infiammatorie-intestinali-nellambulatorio-di-medicina-generale-il-medico-di-medicina-generale-interroga-gli-specialisti/
LOCATION:EURO HOTEL\, Via Trieste\, 62\, NUORO\, SARDEGNA\, 08100\, Italia
ORGANIZER;CN="Gianluca Sotgiu":MAILTO:gianlucasotgiu@kassiopeagroup.com
END:VEVENT
BEGIN:VEVENT
DTSTART;TZID=Europe/Rome:20211001T120000
DTEND;TZID=Europe/Rome:20211001T120000
DTSTAMP:20260421T215852
CREATED:20211221T115410Z
LAST-MODIFIED:20211221T115410Z
UID:1619-1633089600-1633089600@www.kassiopeagroup.com
SUMMARY:International Risk Management Conference 2021
DESCRIPTION:Facoltà Scienze Politiche (Cagliari) 1-2 ottobre 2021 \n\n\n\n\n\nAccordo Quadro – Università degli Studi di Cagliari – Servizi di supporto
URL:https://www.kassiopeagroup.com/evento/international-risk-management-conference-2021/
END:VEVENT
BEGIN:VEVENT
DTSTART;TZID=Europe/Rome:20210930T120000
DTEND;TZID=Europe/Rome:20210930T120000
DTSTAMP:20260421T215852
CREATED:20211221T115843Z
LAST-MODIFIED:20211221T115844Z
UID:1623-1633003200-1633003200@www.kassiopeagroup.com
SUMMARY:Convegno Internazionale
DESCRIPTION:Manifattura Tabacchi (Cagliari) 30 settembre\, 1/2 ottobre 2021 \n\n\n\n\n\nAccordo Quadro – Università degli Studi di Cagliari – Servizi di supporto
URL:https://www.kassiopeagroup.com/evento/convegno-internazionale/
END:VEVENT
BEGIN:VEVENT
DTSTART;TZID=Europe/Rome:20210928T120000
DTEND;TZID=Europe/Rome:20210928T120000
DTSTAMP:20260421T215852
CREATED:20211221T120029Z
LAST-MODIFIED:20211221T120030Z
UID:1625-1632830400-1632830400@www.kassiopeagroup.com
SUMMARY:Una roadmap per la transizione energetica della Sardegna
DESCRIPTION:Aula magna Facoltà di Ingegneria e Architettura\,  Cagliari 28 settembre 2021 \n\n\n\n\n\nAccordo Quadro – Università degli Studi di Cagliari – Servizi di supporto
URL:https://www.kassiopeagroup.com/evento/una-roadmap-per-la-transizione-energetica-della-sardegna/
END:VEVENT
BEGIN:VEVENT
DTSTART;TZID=Europe/Rome:20210928T090000
DTEND;TZID=Europe/Rome:20210929T180000
DTSTAMP:20260421T215852
CREATED:20210727T133322Z
LAST-MODIFIED:20210727T133723Z
UID:1356-1632819600-1632938400@www.kassiopeagroup.com
SUMMARY:IL TRATTAMENTO DEI DISTURBI DI PERSONALITÀ TRA INQUADRAMENTO PSICHIATRICO E PSICOTERAPIA FENOMENOLOGICA - Webinar
DESCRIPTION:A breve sarà disponibile il programma scientifico dettagliato
URL:https://www.kassiopeagroup.com/evento/il-trattamento-dei-disturbi-di-personalita-tra-inquadramento-psichiatrico-e-psicoterapia-fenomenologica/
END:VEVENT
BEGIN:VEVENT
DTSTART;TZID=Europe/Rome:20210925T120000
DTEND;TZID=Europe/Rome:20210926T120000
DTSTAMP:20260421T215852
CREATED:20211216T085418Z
LAST-MODIFIED:20211216T085419Z
UID:1592-1632571200-1632657600@www.kassiopeagroup.com
SUMMARY:XLIII CONGRESSO NAZIONALE SICO
DESCRIPTION:Siena\, 25/26/27 settembre 2022 \n\n\n\nA breve sarà disponibile il programma scientifico preliminare \n\n\n\nantonellamurru@kassiopeagroup.com\, luisaserra@kassiopeanews.com
URL:https://www.kassiopeagroup.com/evento/xliii-congresso-nazionale-sico/
END:VEVENT
END:VCALENDAR