BEGIN:VCALENDAR
VERSION:2.0
PRODID:-//Kassiopea Group - ECPv6.15.18//NONSGML v1.0//EN
CALSCALE:GREGORIAN
METHOD:PUBLISH
X-WR-CALNAME:Kassiopea Group
X-ORIGINAL-URL:https://www.kassiopeagroup.com
X-WR-CALDESC:Eventi per Kassiopea Group
REFRESH-INTERVAL;VALUE=DURATION:PT1H
X-Robots-Tag:noindex
X-PUBLISHED-TTL:PT1H
BEGIN:VTIMEZONE
TZID:Europe/Rome
BEGIN:DAYLIGHT
TZOFFSETFROM:+0100
TZOFFSETTO:+0200
TZNAME:CEST
DTSTART:20240331T010000
END:DAYLIGHT
BEGIN:STANDARD
TZOFFSETFROM:+0200
TZOFFSETTO:+0100
TZNAME:CET
DTSTART:20241027T010000
END:STANDARD
BEGIN:DAYLIGHT
TZOFFSETFROM:+0100
TZOFFSETTO:+0200
TZNAME:CEST
DTSTART:20250330T010000
END:DAYLIGHT
BEGIN:STANDARD
TZOFFSETFROM:+0200
TZOFFSETTO:+0100
TZNAME:CET
DTSTART:20251026T010000
END:STANDARD
BEGIN:DAYLIGHT
TZOFFSETFROM:+0100
TZOFFSETTO:+0200
TZNAME:CEST
DTSTART:20260329T010000
END:DAYLIGHT
BEGIN:STANDARD
TZOFFSETFROM:+0200
TZOFFSETTO:+0100
TZNAME:CET
DTSTART:20261025T010000
END:STANDARD
END:VTIMEZONE
BEGIN:VEVENT
DTSTART;TZID=Europe/Rome:20250912T080000
DTEND;TZID=Europe/Rome:20250913T170000
DTSTAMP:20260421T125238
CREATED:20250321T133609Z
LAST-MODIFIED:20250912T131238Z
UID:3736-1757664000-1757782800@www.kassiopeagroup.com
SUMMARY:46° Congresso Nuova SoSOT
DESCRIPTION:Incontro regionale congiunto SITOP SICV & GIS \n\n\n\nPresidenti del Congresso: Drssa Valeria Setzu\, Dr Emanuele Cabras e Dr Mauro Costaglioli \n\n\n\nCaesar’s Hotel\, Cagliari \n\n\n\n\n\nClicca qui per scaricare il programma  \n\n\n\nClicca qui per scaricare gli Abstract \n\n\n\nClicca qui per iscriverti alla NSoSOT o rinnovare la quota \n\n\n\nPer ulteriori info mandare una mail a segreteriansosot@kassiopeagroup.com \n\n\n\n \n\n\n\n\n\n\n\nOrtopedia nell’età di transizione:dalla prevenzione alla chirurgiaCagliari 12-13 settembre 2025Caesar’s Hotel•Instabilità articolari•Fragilità muscolo-scheletriche nell’età di transizione•Deformità del rachide nell’età di transizione•Deformità assiali degli arti inferiori•L’anca nell’età di transizione e nel giovane adulto
URL:https://www.kassiopeagroup.com/evento/46-congresso-nuova-sosot/
ATTACH;FMTTYPE=image/jpeg:https://www.kassiopeagroup.com/wp-content/uploads/2025/04/46congressonsosot.jpg
END:VEVENT
BEGIN:VEVENT
DTSTART;TZID=Europe/Rome:20250915T000000
DTEND;TZID=Europe/Rome:20250919T235959
DTSTAMP:20260421T125238
CREATED:20250702T141539Z
LAST-MODIFIED:20250702T141850Z
UID:3977-1757894400-1758326399@www.kassiopeagroup.com
SUMMARY:CKM Cagliari 2025
DESCRIPTION:Per maggiori informazioni contattare: carlcarboni@kassiopeagroup.com
URL:https://www.kassiopeagroup.com/evento/ckm-cagliari-2025/
LOCATION:Hotel Regina Margherita – Cagliari
END:VEVENT
BEGIN:VEVENT
DTSTART;TZID=Europe/Rome:20250918T140000
DTEND;TZID=Europe/Rome:20250920T130000
DTSTAMP:20260421T125238
CREATED:20250326T095857Z
LAST-MODIFIED:20250807T112842Z
UID:3744-1758204000-1758373200@www.kassiopeagroup.com
SUMMARY:XLV CONGRESSO NAZIONALE SICO\, Roma (Università Cattolica del Sacro Cuore - Polo Giovanni XXXIII) 18/20 settembre 2025
DESCRIPTION:VAI AL SITO DEL CONGRESSO \n\n\n\n \n\n\n\nPer informazioni: sico2025@kassiopeagroup.com
URL:https://www.kassiopeagroup.com/evento/xlv-congresso-nazionale-sico-roma-universita-cattolica-del-sacro-cuore-polo-giovanni-xxxiii-18-20-settembre-2025/
END:VEVENT
BEGIN:VEVENT
DTSTART;TZID=Europe/Rome:20250919T080000
DTEND;TZID=Europe/Rome:20250926T170000
DTSTAMP:20260421T125238
CREATED:20250804T090257Z
LAST-MODIFIED:20250804T090259Z
UID:4009-1758268800-1758906000@www.kassiopeagroup.com
SUMMARY:“The ERC TECTONIC Workshop”19-26 Settembre 2025\, Roma
DESCRIPTION:
URL:https://www.kassiopeagroup.com/evento/the-erc-tectonic-workshop19-26-settembre-2025-roma/
LOCATION:Università La Sapienza\, Roma
END:VEVENT
BEGIN:VEVENT
DTSTART;TZID=Europe/Rome:20250922T000000
DTEND;TZID=Europe/Rome:20250926T235959
DTSTAMP:20260421T125238
CREATED:20250415T100132Z
LAST-MODIFIED:20250415T100503Z
UID:3803-1758499200-1758931199@www.kassiopeagroup.com
SUMMARY:Pulsar 2025
DESCRIPTION:Per maggiori dettagli sull’evento visitare il sito: https://sites.google.com/inaf.it/pulsar2025/
URL:https://www.kassiopeagroup.com/evento/pulsar-2025/
LOCATION:Calaserena Resort\, Via Antares\, Geremeas\, 09045
END:VEVENT
BEGIN:VEVENT
DTSTART;TZID=Europe/Rome:20250925T140000
DTEND;TZID=Europe/Rome:20250928T140000
DTSTAMP:20260421T125238
CREATED:20250326T100603Z
LAST-MODIFIED:20250515T083740Z
UID:3748-1758808800-1759068000@www.kassiopeagroup.com
SUMMARY:XIX CONGRESSO NAZIONALE FIMP
DESCRIPTION:UNA HOTELS – THOTEL (Cagliari) 25 -28 settembre 2025 \n\n\n\n\n\n\n\n\n\nPer maggiori dettagli CLICCA QUI \n\n\n\nPer informazioni: fimp2025@kassiopeagroup.com
URL:https://www.kassiopeagroup.com/evento/xix-congresso-nazionale-fimp/
ATTACH;FMTTYPE=image/jpeg:https://www.kassiopeagroup.com/wp-content/uploads/2025/04/BANNER-FIMP.jpg
END:VEVENT
BEGIN:VEVENT
DTSTART;TZID=Europe/Rome:20250926T140000
DTEND;TZID=Europe/Rome:20250927T130000
DTSTAMP:20260421T125238
CREATED:20250526T081417Z
LAST-MODIFIED:20250925T084502Z
UID:3932-1758895200-1758978000@www.kassiopeagroup.com
SUMMARY:4th Pan-European Trainess Congress EURAPAG
DESCRIPTION:The congress will be held at AULA B of the Polo Giuridico Economico at the University of Cagliari\, Viale Sant’Ignazio.Registration fee: €150\, including VAT \n\n\n\nRegistration Link \n\n\n\nScarica il Programma \n\n\n\nThe deadline for the submission of abstracts (for selection for the oral session) is July 15.Abstracts should be sent to the following email: fulgh@tiscali.itThe SIGIA (Italian Society of Gynecology of Childhood and Adolescence) will offer three free registrations to the authors of the best contributions.For participants who wish to stay overnight\, please check our suggested hotels. Reservations should be made independently.
URL:https://www.kassiopeagroup.com/evento/4th-pan-european-trainess-congress-eurapag/
END:VEVENT
BEGIN:VEVENT
DTSTART;TZID=Europe/Rome:20250927T083000
DTEND;TZID=Europe/Rome:20250927T180000
DTSTAMP:20260421T125238
CREATED:20250605T095752Z
LAST-MODIFIED:20250723T102209Z
UID:3944-1758961800-1758996000@www.kassiopeagroup.com
SUMMARY:S’ATTOBIU DE CASTEDDU 2025
DESCRIPTION:INCONTRI DI GASTROENTEROLOGIA \n\n\n\n\n\nIscrizioni online \n\n\n\n\n\n\n\nProgrammaDownload
URL:https://www.kassiopeagroup.com/evento/sattobiu-de-casteddu-2025/
LOCATION:HOTEL CAESAR’S – CAGLIARI
ORGANIZER;CN="Gianluca Sotgiu":MAILTO:gianlucasotgiu@kassiopeagroup.com
END:VEVENT
END:VCALENDAR