BEGIN:VCALENDAR
VERSION:2.0
PRODID:-//Kassiopea Group - ECPv6.15.18//NONSGML v1.0//EN
CALSCALE:GREGORIAN
METHOD:PUBLISH
X-ORIGINAL-URL:https://www.kassiopeagroup.com
X-WR-CALDESC:Eventi per Kassiopea Group
REFRESH-INTERVAL;VALUE=DURATION:PT1H
X-Robots-Tag:noindex
X-PUBLISHED-TTL:PT1H
BEGIN:VTIMEZONE
TZID:Europe/Rome
BEGIN:DAYLIGHT
TZOFFSETFROM:+0100
TZOFFSETTO:+0200
TZNAME:CEST
DTSTART:20240331T010000
END:DAYLIGHT
BEGIN:STANDARD
TZOFFSETFROM:+0200
TZOFFSETTO:+0100
TZNAME:CET
DTSTART:20241027T010000
END:STANDARD
BEGIN:DAYLIGHT
TZOFFSETFROM:+0100
TZOFFSETTO:+0200
TZNAME:CEST
DTSTART:20250330T010000
END:DAYLIGHT
BEGIN:STANDARD
TZOFFSETFROM:+0200
TZOFFSETTO:+0100
TZNAME:CET
DTSTART:20251026T010000
END:STANDARD
BEGIN:DAYLIGHT
TZOFFSETFROM:+0100
TZOFFSETTO:+0200
TZNAME:CEST
DTSTART:20260329T010000
END:DAYLIGHT
BEGIN:STANDARD
TZOFFSETFROM:+0200
TZOFFSETTO:+0100
TZNAME:CET
DTSTART:20261025T010000
END:STANDARD
END:VTIMEZONE
BEGIN:VEVENT
DTSTART;TZID=Europe/Rome:20251001T080000
DTEND;TZID=Europe/Rome:20251004T170000
DTSTAMP:20260421T064640
CREATED:20250326T112011Z
LAST-MODIFIED:20250326T113040Z
UID:3769-1759305600-1759597200@www.kassiopeagroup.com
SUMMARY:XXV Congresso Nazionale SIAMOC
DESCRIPTION:Cagliari (Hotel Regina Margherita) \n\n\n\n\n\nCLICCA QUI PER MAGGIORI DETTAGLI  \n\n\n\nPer informazioni barbarapanico@kassiopeagroup.com\, martinamilia@kassiopeagroup.com
URL:https://www.kassiopeagroup.com/evento/xxv-congresso-nazionale-siamoc/
END:VEVENT
BEGIN:VEVENT
DTSTART;TZID=Europe/Rome:20251009T080000
DTEND;TZID=Europe/Rome:20251009T170000
DTSTAMP:20260421T064640
CREATED:20250829T125435Z
LAST-MODIFIED:20250924T083409Z
UID:4030-1759996800-1760029200@www.kassiopeagroup.com
SUMMARY:IBD CLINICAL TRIALS: TRA INNOVAZIONE\,SOSTENIBILITA’E GOOD CLINICAL PRACTICE
DESCRIPTION:ISCRIZIONI ONLINE \n\n\n\n\n\n\n\n\n\n\n\nDefinitivo
URL:https://www.kassiopeagroup.com/evento/ibd-clinical-trials-tra-innovazionesostenibilitae-good-clinical-practice/
LOCATION:Aula Anna Atza – ARNAS Brotzu<br>Piazzale A. Ricchi 1 – Selargius (CA)
ORGANIZER;CN="Gianluca Sotgiu":MAILTO:gianlucasotgiu@kassiopeagroup.com
END:VEVENT
BEGIN:VEVENT
DTSTART;TZID=Europe/Rome:20251011T080000
DTEND;TZID=Europe/Rome:20251011T170000
DTSTAMP:20260421T064640
CREATED:20250620T084218Z
LAST-MODIFIED:20250919T084656Z
UID:3960-1760169600-1760202000@www.kassiopeagroup.com
SUMMARY:Giornata delle Cure Primarie                    in Sardegna
DESCRIPTION:ISCRIZIONI ONLINE \n\n\n\n \n\n\n\n\n\n \n\n\n\n\n\n\n\n\n\n\n\n \n\n\n\nDefinitivoDownload
URL:https://www.kassiopeagroup.com/evento/giornata-delle-cure-primarie-in-sardegna/
LOCATION:HOTEL CAESAR’S – CAGLIARI
ORGANIZER;CN="Gianluca Sotgiu":MAILTO:gianlucasotgiu@kassiopeagroup.com
END:VEVENT
BEGIN:VEVENT
DTSTART;TZID=Europe/Rome:20251016T080000
DTEND;TZID=Europe/Rome:20251017T170000
DTSTAMP:20260421T064640
CREATED:20250429T102709Z
LAST-MODIFIED:20251010T144504Z
UID:3863-1760601600-1760720400@www.kassiopeagroup.com
SUMMARY:Congresso Nazionale AcEMC 2025
DESCRIPTION:Clicca qui per scaricare il programma \n\n\n\n\n\n\n\nMANAGING THE UNEXPECTEDL’attività del medico urgentista è in parte dedicata al trattamento di emergenze-urgenze cliniche per le quali egli si è adeguatamente preparato durantegli anni di formazione specialistica e successivamente con corsispecifici\, disponendo anche di consolidate linee guida. Un numero considerevoledi pazienti presenta invece condizioni per le quali non vi sono solideevidenze scientifiche ed esse sono spesso legate alla cronicità\, allafragilità o sono secondarie a complicanze di trattamenti terapeutici semprepiù all’avanguardia e complessi\, soprattutto in campo oncologico.Tale tipologia di pazienti rappresenta il filo rosso che unisce questo congresso\,fornendo indicazioni diagnostico-terapeutiche utili basate sia sullaletteratura sia sulla medical practice\,evidenziando anche tutte le più recentiopportunità tecnologiche che forniscono un importante supporto nellescelte decisionali del medico d’urgenza. \n\n\n\nclicca qui per iscriverti  \n\n\n\nper informazioni barbarapanico@kassiopeagroup e martinamilia@kassiopeagroup.com
URL:https://www.kassiopeagroup.com/evento/congresso-nazionale-acemc-2025/
LOCATION:CNR Area Territoriale di Ricerca – Bologna\, Via Piero Gobetti 101\, Bologna\, 40129\, Italy
END:VEVENT
BEGIN:VEVENT
DTSTART;TZID=Europe/Rome:20251017T140000
DTEND;TZID=Europe/Rome:20251017T190000
DTSTAMP:20260421T064640
CREATED:20250729T072824Z
LAST-MODIFIED:20251029T124713Z
UID:3997-1760709600-1760727600@www.kassiopeagroup.com
SUMMARY:XV CONGRESSO REGIONALE TRISOCIETARIO DI GASTROENTEROLOGIA AIGO-SIED-SIGE
DESCRIPTION:Iscrizioni online \n\n\n\n\n\n \n\n\n\n\n\n\n\n\n\n\n\n\n\nFInaleDownload
URL:https://www.kassiopeagroup.com/evento/xv-congresso-regionale-trisocietario-di-gastroenterologia-aigo-sied-sige/
LOCATION:Sala Convegni Centro Polivalente Via Tharros – CABRAS (OR)
END:VEVENT
BEGIN:VEVENT
DTSTART;TZID=Europe/Rome:20251022T000000
DTEND;TZID=Europe/Rome:20251025T235959
DTSTAMP:20260421T064640
CREATED:20250423T082140Z
LAST-MODIFIED:20251020T112619Z
UID:3852-1761091200-1761436799@www.kassiopeagroup.com
SUMMARY:21st International Workshop on Neonatology and Pediatrics
DESCRIPTION:Iscrizioni per Professionisti con ECM a questo link: https://secure.onlinecongress.it/onlinecongress/preform.aspx?guid=2618847636538381413831271&language=1&clear=true \n\n\n\nIscrizioni Specializzandi e Studenti a questo link: https://forms.gle/Ac2Ms7KycgDFC2zv7 \n\n\n\nProgramma a questo link
URL:https://www.kassiopeagroup.com/evento/21st-international-workshop-on-neonatology-and-pediatrics/
LOCATION:THOTEL – CAGLIARI\, VIa dei Giudicati\, 66\, Cagliari\, Sardegna\, 09131\, Italy
ORGANIZER;CN="Luisa Serra":MAILTO:luisaserra@kassiopeanews.com
END:VEVENT
BEGIN:VEVENT
DTSTART;TZID=Europe/Rome:20251023T090000
DTEND;TZID=Europe/Rome:20251023T180000
DTSTAMP:20260421T064640
CREATED:20251023T140851Z
LAST-MODIFIED:20251023T140853Z
UID:4139-1761210000-1761242400@www.kassiopeagroup.com
SUMMARY:VII FOCUS HEAD AND NECK CANCER:Tumori della cute (non melanoma):sfide terapeutiche attuali
DESCRIPTION:Auditorium G. Lilliu – Nuoro \n\n\n\nScarica il Programma
URL:https://www.kassiopeagroup.com/evento/vii-focus-head-and-neck-cancertumori-della-cute-non-melanomasfide-terapeutiche-attuali/
END:VEVENT
BEGIN:VEVENT
DTSTART;TZID=Europe/Rome:20251025T080000
DTEND;TZID=Europe/Rome:20251025T170000
DTSTAMP:20260421T064640
CREATED:20250807T113122Z
LAST-MODIFIED:20250924T081248Z
UID:4019-1761379200-1761411600@www.kassiopeagroup.com
SUMMARY:VII FOCUS HEAD AND NECK CANCERI Tumori della cute (non melanoma): sfide terapeutiche attuali
DESCRIPTION:25 ottobre 2025 (Auditorium G. Lilliu – Nuoro) \n\n\n\nA breve sarà disponibile il programma  \n\n\n\nLINK DI ISCRIZIONE \n\n\n\nPer maggiori informazioni: antonellamurru@kassiopeagroup.com
URL:https://www.kassiopeagroup.com/evento/vii-focus-head-and-neck-canceri-tumori-della-cute-non-melanoma-sfide-terapeutiche-attuali/
END:VEVENT
END:VCALENDAR