BEGIN:VCALENDAR
VERSION:2.0
PRODID:-//Kassiopea Group - ECPv6.15.18//NONSGML v1.0//EN
CALSCALE:GREGORIAN
METHOD:PUBLISH
X-ORIGINAL-URL:https://www.kassiopeagroup.com
X-WR-CALDESC:Eventi per Kassiopea Group
REFRESH-INTERVAL;VALUE=DURATION:PT1H
X-Robots-Tag:noindex
X-PUBLISHED-TTL:PT1H
BEGIN:VTIMEZONE
TZID:Europe/Rome
BEGIN:DAYLIGHT
TZOFFSETFROM:+0100
TZOFFSETTO:+0200
TZNAME:CEST
DTSTART:20240331T010000
END:DAYLIGHT
BEGIN:STANDARD
TZOFFSETFROM:+0200
TZOFFSETTO:+0100
TZNAME:CET
DTSTART:20241027T010000
END:STANDARD
BEGIN:DAYLIGHT
TZOFFSETFROM:+0100
TZOFFSETTO:+0200
TZNAME:CEST
DTSTART:20250330T010000
END:DAYLIGHT
BEGIN:STANDARD
TZOFFSETFROM:+0200
TZOFFSETTO:+0100
TZNAME:CET
DTSTART:20251026T010000
END:STANDARD
BEGIN:DAYLIGHT
TZOFFSETFROM:+0100
TZOFFSETTO:+0200
TZNAME:CEST
DTSTART:20260329T010000
END:DAYLIGHT
BEGIN:STANDARD
TZOFFSETFROM:+0200
TZOFFSETTO:+0100
TZNAME:CET
DTSTART:20261025T010000
END:STANDARD
END:VTIMEZONE
BEGIN:VEVENT
DTSTART;TZID=Europe/Rome:20251107T080000
DTEND;TZID=Europe/Rome:20251108T170000
DTSTAMP:20260421T061902
CREATED:20251020T072334Z
LAST-MODIFIED:20251104T081646Z
UID:4121-1762502400-1762621200@www.kassiopeagroup.com
SUMMARY:Asma e Sport - 15a edizione
DESCRIPTION:UNAHOTELS T hotel – Via dei Giudicati\, 66\, 09131 Cagliari CA \n\n\n\n \n\n\n\n\n\nProgramma Scientifico \n\n\n\nIscrizioni
URL:https://www.kassiopeagroup.com/evento/asma-e-sport-15a-edizione/
ORGANIZER;CN="Luisa Serra":MAILTO:luisaserra@kassiopeanews.com
END:VEVENT
BEGIN:VEVENT
DTSTART;TZID=Europe/Rome:20251107T083000
DTEND;TZID=Europe/Rome:20251108T133000
DTSTAMP:20260421T061902
CREATED:20250729T140315Z
LAST-MODIFIED:20251022T075720Z
UID:4002-1762504200-1762608600@www.kassiopeagroup.com
SUMMARY:Appropriatezza diagnostica e terapeutica nella gestione delle patologie immunomediate: il MMG interroga gli specialisti
DESCRIPTION:iscrizioni online \n\n\n\n \n\n\n\n\n\n \n\n\n\n\n\n\n\n\n\n\n\nDefinitivoDownload
URL:https://www.kassiopeagroup.com/evento/ii-edizione-corso-residenziale-appropriatezza-diagnostica-e-terapeutica-nella-gestione-delle-patologie-immunomediate-il-mmg-interroga-gli-specialisti/
LOCATION:Jazz Hotel – \, 07026 Olbia SS\, Via degli Astronauti\, 2\, Olbia\, Olbia\, 07026\, Italy
ORGANIZER;CN="Gianluca Sotgiu":MAILTO:gianlucasotgiu@kassiopeagroup.com
END:VEVENT
BEGIN:VEVENT
DTSTART;TZID=Europe/Rome:20251108T080000
DTEND;TZID=Europe/Rome:20251108T133000
DTSTAMP:20260421T061902
CREATED:20251008T121629Z
LAST-MODIFIED:20251016T111036Z
UID:4103-1762588800-1762608600@www.kassiopeagroup.com
SUMMARY:Nel cuore di Cagliari...Laboratorio
DESCRIPTION:Scarica il Programma \n\n\n\nIscriviti qui
URL:https://www.kassiopeagroup.com/evento/nel-cuore-di-cagliari-laboratorio-4/
END:VEVENT
BEGIN:VEVENT
DTSTART;TZID=Europe/Rome:20251112T140000
DTEND;TZID=Europe/Rome:20251114T140000
DTSTAMP:20260421T061902
CREATED:20250326T112452Z
LAST-MODIFIED:20251003T071850Z
UID:3773-1762956000-1763128800@www.kassiopeagroup.com
SUMMARY:9th ESGLI MEETING 12th – 14thNOV 2025
DESCRIPTION:PALERMO (NH HOTEL)  \n\n\n\nSito web dell’evento: https://www.esglimeeting.org/ \n\n\n\nPer informazioni: barbarapanico@kassioepeagroup.com\, carlacarboni@kassiopeagroup.com
URL:https://www.kassiopeagroup.com/evento/9th-esgli-meeting-12th-14thnov-2025/
LOCATION:Nh Hotel Palermo\, Foro Italico Umberto I\, 22/B\, 90133\, Palermo
END:VEVENT
BEGIN:VEVENT
DTSTART;TZID=Europe/Rome:20251114T160000
DTEND;TZID=Europe/Rome:20251115T180000
DTSTAMP:20260421T061902
CREATED:20250326T101739Z
LAST-MODIFIED:20251113T120756Z
UID:3755-1763136000-1763229600@www.kassiopeagroup.com
SUMMARY:BREAST CANCER UPDATE 2025
DESCRIPTION:Cagliari (UnaHotels – Thotel) 14 – 15 novembre 2025 \n\n\n\n\n\nlink di iscrizione \n\n\n\nSCARICA IL PROGRAMMA AVANZATO \n\n\n\nSEDE DEL PRE-CONGRESSO 14 novembre 2025 (Non accreditato ECM).THOTEL – Via dei Giudicati\, 66 Cagliari Tel. 070-47400 – Sala T4 (I piano). L’ Incontro è dedicato agli operatori dell’informazionee Uffici stampa\, associazioni dei pazienti e volontariato. \n\n\n\nPer informazioni: antonellamurru@kassiopeagroup.com
URL:https://www.kassiopeagroup.com/evento/breast-cancer-update-2025/
END:VEVENT
BEGIN:VEVENT
DTSTART;TZID=Europe/Rome:20251122T083000
DTEND;TZID=Europe/Rome:20251122T163000
DTSTAMP:20260421T061902
CREATED:20251028T082559Z
LAST-MODIFIED:20251114T115923Z
UID:4143-1763800200-1763829000@www.kassiopeagroup.com
SUMMARY:Il trattamento delle fratture malleolari: dalla diagnosi agli esiti
DESCRIPTION:UNAHOTELS T Hotel – Via Dei Giudicati 66 Cagliari \n\n\n\nClicca qui per iscriverti \n\n\n\nClicca qui per scaricare il programma
URL:https://www.kassiopeagroup.com/evento/il-trattamento-dellefratture-malleolaridalla-diagnosi-agli-esiti/
END:VEVENT
BEGIN:VEVENT
DTSTART;TZID=Europe/Rome:20251127T140000
DTEND;TZID=Europe/Rome:20251128T170000
DTSTAMP:20260421T061902
CREATED:20250326T102853Z
LAST-MODIFIED:20251126T144721Z
UID:3757-1764252000-1764349200@www.kassiopeagroup.com
SUMMARY:IX EDIZIONE MASTERCLASS POP: SKILL SURGERY
DESCRIPTION:Mestre (Voco Hotel – Villa Salus) 27/28 novembre 2025 \n\n\n\n\n\nCLICCA QUI PER ISCRIVERTI  \n\n\n\nSCARICA IL PROGRAMMA SCIENTIFICO \n\n\n\nPer informazioni antonellamurru@kassiopeagroup.com
URL:https://www.kassiopeagroup.com/evento/ix-edizione-masterclass-pop-skill-surgery/
END:VEVENT
BEGIN:VEVENT
DTSTART;TZID=Europe/Rome:20251129T080000
DTEND;TZID=Europe/Rome:20251129T170000
DTSTAMP:20260421T061902
CREATED:20250808T144012Z
LAST-MODIFIED:20251118T155232Z
UID:4022-1764403200-1764435600@www.kassiopeagroup.com
SUMMARY:"Prostate Cancer Update 2025 - Approcci Innovativi nella Gestione della Malattia Avanzata del Tumore della Prostata Metastatico Resistente alla Castrazione (mCRPC)"
DESCRIPTION:Caesar’s Hotel in Via Darwin 4\, Cagliari  \n\n\n\nClicca qui per scaricare il programma preliminare \n\n\n\nClicca qui per iscriverti
URL:https://www.kassiopeagroup.com/evento/prostate-cancer-update-2025-approcci-innovativi-nella-gestione-della-malattia-avanzata-del-tumore-della-prostata-metastatico-resistente-alla-castrazione-mcrpc/
END:VEVENT
END:VCALENDAR