BEGIN:VCALENDAR
VERSION:2.0
PRODID:-//Kassiopea Group - ECPv6.15.18//NONSGML v1.0//EN
CALSCALE:GREGORIAN
METHOD:PUBLISH
X-ORIGINAL-URL:https://www.kassiopeagroup.com
X-WR-CALDESC:Eventi per Kassiopea Group
REFRESH-INTERVAL;VALUE=DURATION:PT1H
X-Robots-Tag:noindex
X-PUBLISHED-TTL:PT1H
BEGIN:VTIMEZONE
TZID:Europe/Rome
BEGIN:DAYLIGHT
TZOFFSETFROM:+0100
TZOFFSETTO:+0200
TZNAME:CEST
DTSTART:20240331T010000
END:DAYLIGHT
BEGIN:STANDARD
TZOFFSETFROM:+0200
TZOFFSETTO:+0100
TZNAME:CET
DTSTART:20241027T010000
END:STANDARD
BEGIN:DAYLIGHT
TZOFFSETFROM:+0100
TZOFFSETTO:+0200
TZNAME:CEST
DTSTART:20250330T010000
END:DAYLIGHT
BEGIN:STANDARD
TZOFFSETFROM:+0200
TZOFFSETTO:+0100
TZNAME:CET
DTSTART:20251026T010000
END:STANDARD
BEGIN:DAYLIGHT
TZOFFSETFROM:+0100
TZOFFSETTO:+0200
TZNAME:CEST
DTSTART:20260329T010000
END:DAYLIGHT
BEGIN:STANDARD
TZOFFSETFROM:+0200
TZOFFSETTO:+0100
TZNAME:CET
DTSTART:20261025T010000
END:STANDARD
END:VTIMEZONE
BEGIN:VEVENT
DTSTART;TZID=Europe/Rome:20251204T090000
DTEND;TZID=Europe/Rome:20251204T133000
DTSTAMP:20260421T031421
CREATED:20251204T083220Z
LAST-MODIFIED:20251204T083413Z
UID:4234-1764838800-1764855000@www.kassiopeagroup.com
SUMMARY:Sport è Salute
DESCRIPTION:Centro Congressi – Fiera di Cagliari  \n\n\n\nClicca qui per iscriverti  \n\n\n\nClicca qui per scaricare il programma \n\n\n\nIl congresso verrà accreditato ECM come FAD (formazione a distanza) ASINCRONA per le seguenti figure professionali: destinatari dell’iniziativa: Medico Chirurgo  (solo per le specialità di: Allergologia e Immunologia clinica\, Malattie dell’Apparato Respiratorio\, Medicina Fisica e Riabilitazione\, Medicina Interna\, Medicina dello Sport\, Ortopedia e Traumatologia\, Medici di Medicina generale\, Scienza dell’Alimentazione e Dietetica\, Fisioterapista\, Infermiere\, Biologo\, Tecnico Sanitario di Laboratorio Biomedico\, Tecnico ortopedico\, Dietista.Per la partecipazione al corso FAD e per ricevere le istruzioni utili all’accesso ai crediti sarà possibile indicare la propria preadesione nel modulo di iscrizione online.
URL:https://www.kassiopeagroup.com/evento/sport-e-salute/
END:VEVENT
BEGIN:VEVENT
DTSTART;TZID=Europe/Rome:20251212T140000
DTEND;TZID=Europe/Rome:20251213T180000
DTSTAMP:20260421T031421
CREATED:20250918T142850Z
LAST-MODIFIED:20251110T150320Z
UID:4053-1765548000-1765648800@www.kassiopeagroup.com
SUMMARY:Panpneuma 2025: pneumologia e dintorni
DESCRIPTION:ISCRIZIONE ONLINE \n\n\n\n\n\n\n\n\n\n\n\nPreliminareDownload
URL:https://www.kassiopeagroup.com/evento/panpneuma-2025-pneumologia-e-dintorni/
LOCATION:HOTEL CAESAR’S – CAGLIARI
ORGANIZER;CN="Gianluca Sotgiu":MAILTO:gianlucasotgiu@kassiopeagroup.com
END:VEVENT
BEGIN:VEVENT
DTSTART;TZID=Europe/Rome:20251212T140000
DTEND;TZID=Europe/Rome:20251213T180000
DTSTAMP:20260421T031421
CREATED:20251111T113750Z
LAST-MODIFIED:20251205T094821Z
UID:4174-1765548000-1765648800@www.kassiopeagroup.com
SUMMARY:Congresso SIAAIC Sardegna 2025
DESCRIPTION:PROGRAMMA PRELIMINARE \n\n\n\nISCRIZIONI
URL:https://www.kassiopeagroup.com/evento/congresso-siaaic-sardegna-2025/
LOCATION:THOTEL – CAGLIARI\, VIa dei Giudicati\, 66\, Cagliari\, Sardegna\, 09131\, Italy
ORGANIZER;CN="Luisa Serra":MAILTO:luisaserra@kassiopeanews.com
END:VEVENT
END:VCALENDAR