BEGIN:VCALENDAR
VERSION:2.0
PRODID:-//Kassiopea Group - ECPv6.15.18//NONSGML v1.0//EN
CALSCALE:GREGORIAN
METHOD:PUBLISH
X-ORIGINAL-URL:https://www.kassiopeagroup.com
X-WR-CALDESC:Eventi per Kassiopea Group
REFRESH-INTERVAL;VALUE=DURATION:PT1H
X-Robots-Tag:noindex
X-PUBLISHED-TTL:PT1H
BEGIN:VTIMEZONE
TZID:Europe/Rome
BEGIN:DAYLIGHT
TZOFFSETFROM:+0100
TZOFFSETTO:+0200
TZNAME:CEST
DTSTART:20250330T010000
END:DAYLIGHT
BEGIN:STANDARD
TZOFFSETFROM:+0200
TZOFFSETTO:+0100
TZNAME:CET
DTSTART:20251026T010000
END:STANDARD
BEGIN:DAYLIGHT
TZOFFSETFROM:+0100
TZOFFSETTO:+0200
TZNAME:CEST
DTSTART:20260329T010000
END:DAYLIGHT
BEGIN:STANDARD
TZOFFSETFROM:+0200
TZOFFSETTO:+0100
TZNAME:CET
DTSTART:20261025T010000
END:STANDARD
BEGIN:DAYLIGHT
TZOFFSETFROM:+0100
TZOFFSETTO:+0200
TZNAME:CEST
DTSTART:20270328T010000
END:DAYLIGHT
BEGIN:STANDARD
TZOFFSETFROM:+0200
TZOFFSETTO:+0100
TZNAME:CET
DTSTART:20271031T010000
END:STANDARD
END:VTIMEZONE
BEGIN:VEVENT
DTSTART;TZID=Europe/Rome:20261009T143000
DTEND;TZID=Europe/Rome:20261009T200000
DTSTAMP:20260421T160025
CREATED:20260327T093623Z
LAST-MODIFIED:20260327T093624Z
UID:4386-1791556200-1791576000@www.kassiopeagroup.com
SUMMARY:XVI Congresso Trisocetario Gastroenterologia (AIGO-SIED-SIGE)
DESCRIPTION:A breve Online Programma e iscrizioni
URL:https://www.kassiopeagroup.com/evento/xvi-congresso-trisocetario-gastroenterologia-aigo-sied-sige/
LOCATION:Sala Convegni Centro Polivalente Via Tharros – CABRAS (OR)
ORGANIZER;CN="Gianluca Sotgiu":MAILTO:gianlucasotgiu@kassiopeagroup.com
END:VEVENT
BEGIN:VEVENT
DTSTART;TZID=Europe/Rome:20261021T080000
DTEND;TZID=Europe/Rome:20261024T170000
DTSTAMP:20260421T160025
CREATED:20260325T091519Z
LAST-MODIFIED:20260325T091521Z
UID:4380-1792569600-1792861200@www.kassiopeagroup.com
SUMMARY:22nd International Workshop on Neonatology and Pediatrics
DESCRIPTION:THotel Cagliari \n\n\n\nPresto maggiori informazioni
URL:https://www.kassiopeagroup.com/evento/22nd-international-workshop-on-neonatology-and-pediatrics/
END:VEVENT
BEGIN:VEVENT
DTSTART;TZID=Europe/Rome:20261029T080000
DTEND;TZID=Europe/Rome:20261029T170000
DTSTAMP:20260421T160025
CREATED:20260325T092031Z
LAST-MODIFIED:20260325T092032Z
UID:4382-1793260800-1793293200@www.kassiopeagroup.com
SUMMARY:Carcinoma prostatico: modelli multidisciplinari di gestione nelle diverse fasi di malattia
DESCRIPTION:Presto maggiori informazioni
URL:https://www.kassiopeagroup.com/evento/carcinoma-prostatico-modelli-multidisciplinari-di-gestione-nelle-diverse-fasi-di-malattia-2/
END:VEVENT
BEGIN:VEVENT
DTSTART;TZID=Europe/Rome:20261029T170000
DTEND;TZID=Europe/Rome:20261031T180000
DTSTAMP:20260421T160025
CREATED:20251203T102911Z
LAST-MODIFIED:20260302T112508Z
UID:4221-1793293200-1793469600@www.kassiopeagroup.com
SUMMARY:XLVI CONGRESSO NAZIONALE SICO\, Milano (Centro Congressi San Raffaele) 29/31 ottobre 2026
DESCRIPTION:VAI AL SITO  \n\n\n\nPer informazioni: congressosico@kassiopeagroup.com
URL:https://www.kassiopeagroup.com/evento/xlvi-congresso-nazionale-sico-milano-centro-congressi-san-raffaele-1-3-ottobre-2026/
END:VEVENT
END:VCALENDAR